BEGIN:VCALENDAR
VERSION:2.0
PRODID:-//Aachen-Termine - ECPv6.15.18//NONSGML v1.0//EN
CALSCALE:GREGORIAN
METHOD:PUBLISH
X-ORIGINAL-URL:https://aachen-kalender.de
X-WR-CALDESC:Veranstaltungen für Aachen-Termine
REFRESH-INTERVAL;VALUE=DURATION:PT1H
X-Robots-Tag:noindex
X-PUBLISHED-TTL:PT1H
BEGIN:VTIMEZONE
TZID:Europe/Berlin
BEGIN:DAYLIGHT
TZOFFSETFROM:+0100
TZOFFSETTO:+0200
TZNAME:CEST
DTSTART:20240331T010000
END:DAYLIGHT
BEGIN:STANDARD
TZOFFSETFROM:+0200
TZOFFSETTO:+0100
TZNAME:CET
DTSTART:20241027T010000
END:STANDARD
BEGIN:DAYLIGHT
TZOFFSETFROM:+0100
TZOFFSETTO:+0200
TZNAME:CEST
DTSTART:20250330T010000
END:DAYLIGHT
BEGIN:STANDARD
TZOFFSETFROM:+0200
TZOFFSETTO:+0100
TZNAME:CET
DTSTART:20251026T010000
END:STANDARD
BEGIN:DAYLIGHT
TZOFFSETFROM:+0100
TZOFFSETTO:+0200
TZNAME:CEST
DTSTART:20260329T010000
END:DAYLIGHT
BEGIN:STANDARD
TZOFFSETFROM:+0200
TZOFFSETTO:+0100
TZNAME:CET
DTSTART:20261025T010000
END:STANDARD
END:VTIMEZONE
BEGIN:VEVENT
DTSTART;TZID=Europe/Berlin:20251109T100000
DTEND;TZID=Europe/Berlin:20251109T170000
DTSTAMP:20260419T173615
CREATED:20250903T071106Z
LAST-MODIFIED:20251020T134545Z
UID:10015382-1762682400-1762707600@aachen-kalender.de
SUMMARY:21. Kunsthandwerkermarkt. "Kunst und Handwerk im Stall".
DESCRIPTION:Wer hochwertige Handwerkskunst liebt\, sollte sich das zweite Novemberwochenende vormerken: Am Samstag\, 8. November\, von 10 bis 18 Uhr\, und am Sonntag\, 9. November\, von 11 bis 18 Uhr\, verwandeln sich die Ställe des ALRV an der Hubert-Wienen-Straße in ein wahres Panoptikum der Kreativität. Beim 21. Kunsthandwerkermarkt Kunst und Handwerk im Stall (KuH) präsentieren Ausstellerinnen und Aussteller aus ganz Deutschland und dem Ausland ihre einzigartigen handgefertigten Unikate. Ob Malerei\, Keramik\, Schmuck\, Textilkunst\, Holz- oder Metallarbeiten\, Taschen\, Mode oder feine Wohnaccessoires – hier trifft Qualität auf Fantasie und traditionelles Handwerk auf modernes Design. Die individuell gestalteten Stände schaffen eine besondere Atmosphäre\, die zum Staunen\, Stöbern und Verweilen einlädt und die einzigartige Umgebung der Pferdeställe auf charmante Weise mit kreativem Leben füllt. Für das leibliche Wohl ist ebenfalls gesorgt – und wie immer gilt hier: entdecken\, genießen und sich inspirieren lassen\, ist ausdrücklich erwünscht.
URL:https://aachen-kalender.de/event/21-kunsthandwerkermarkt-kunst-und-handwerk-im-stall/2025-11-09/
LOCATION:Ställe des ALRV\, Hubert-Wienen-Straße\, Aachen\, 52070\, Deutschland
CATEGORIES:Markt/Messe
ATTACH;FMTTYPE=image/jpeg:https://aachen-kalender.de/wp-content/uploads/2025/09/8Nov_KUHimStall.jpg
END:VEVENT
BEGIN:VEVENT
DTSTART;TZID=Europe/Berlin:20251108T100000
DTEND;TZID=Europe/Berlin:20251108T180000
DTSTAMP:20260419T173615
CREATED:20250903T071106Z
LAST-MODIFIED:20251020T134545Z
UID:10015381-1762596000-1762624800@aachen-kalender.de
SUMMARY:21. Kunsthandwerkermarkt. "Kunst und Handwerk im Stall".
DESCRIPTION:Wer hochwertige Handwerkskunst liebt\, sollte sich das zweite Novemberwochenende vormerken: Am Samstag\, 8. November\, von 10 bis 18 Uhr\, und am Sonntag\, 9. November\, von 11 bis 18 Uhr\, verwandeln sich die Ställe des ALRV an der Hubert-Wienen-Straße in ein wahres Panoptikum der Kreativität. Beim 21. Kunsthandwerkermarkt Kunst und Handwerk im Stall (KuH) präsentieren Ausstellerinnen und Aussteller aus ganz Deutschland und dem Ausland ihre einzigartigen handgefertigten Unikate. Ob Malerei\, Keramik\, Schmuck\, Textilkunst\, Holz- oder Metallarbeiten\, Taschen\, Mode oder feine Wohnaccessoires – hier trifft Qualität auf Fantasie und traditionelles Handwerk auf modernes Design. Die individuell gestalteten Stände schaffen eine besondere Atmosphäre\, die zum Staunen\, Stöbern und Verweilen einlädt und die einzigartige Umgebung der Pferdeställe auf charmante Weise mit kreativem Leben füllt. Für das leibliche Wohl ist ebenfalls gesorgt – und wie immer gilt hier: entdecken\, genießen und sich inspirieren lassen\, ist ausdrücklich erwünscht.
URL:https://aachen-kalender.de/event/21-kunsthandwerkermarkt-kunst-und-handwerk-im-stall/2025-11-08/
LOCATION:Ställe des ALRV\, Hubert-Wienen-Straße\, Aachen\, 52070\, Deutschland
CATEGORIES:Markt/Messe
ATTACH;FMTTYPE=image/jpeg:https://aachen-kalender.de/wp-content/uploads/2025/09/8Nov_KUHimStall.jpg
END:VEVENT
END:VCALENDAR