BEGIN:VCALENDAR
VERSION:2.0
PRODID:-//Aachen-Termine - ECPv6.15.18//NONSGML v1.0//EN
CALSCALE:GREGORIAN
METHOD:PUBLISH
X-WR-CALNAME:Aachen-Termine
X-ORIGINAL-URL:https://aachen-kalender.de
X-WR-CALDESC:Veranstaltungen für Aachen-Termine
REFRESH-INTERVAL;VALUE=DURATION:PT1H
X-Robots-Tag:noindex
X-PUBLISHED-TTL:PT1H
BEGIN:VTIMEZONE
TZID:Europe/Berlin
BEGIN:DAYLIGHT
TZOFFSETFROM:+0100
TZOFFSETTO:+0200
TZNAME:CEST
DTSTART:20250330T010000
END:DAYLIGHT
BEGIN:STANDARD
TZOFFSETFROM:+0200
TZOFFSETTO:+0100
TZNAME:CET
DTSTART:20251026T010000
END:STANDARD
BEGIN:DAYLIGHT
TZOFFSETFROM:+0100
TZOFFSETTO:+0200
TZNAME:CEST
DTSTART:20260329T010000
END:DAYLIGHT
BEGIN:STANDARD
TZOFFSETFROM:+0200
TZOFFSETTO:+0100
TZNAME:CET
DTSTART:20261025T010000
END:STANDARD
BEGIN:DAYLIGHT
TZOFFSETFROM:+0100
TZOFFSETTO:+0200
TZNAME:CEST
DTSTART:20270328T010000
END:DAYLIGHT
BEGIN:STANDARD
TZOFFSETFROM:+0200
TZOFFSETTO:+0100
TZNAME:CET
DTSTART:20271031T010000
END:STANDARD
END:VTIMEZONE
BEGIN:VEVENT
DTSTART;TZID=Europe/Berlin:20260606T090000
DTEND;TZID=Europe/Berlin:20260606T090000
DTSTAMP:20260422T060639
CREATED:20260304T100534Z
LAST-MODIFIED:20260331T113433Z
UID:10021072-1780736400-1780736400@aachen-kalender.de
SUMMARY:"16. Offene Europameisterschaft im Hap Ki Do".
DESCRIPTION:Am 6. und 7. Juni 2026 ist es endlich so weit: Die europäische Hap Ki Do – Elite trifft sich in der traditionsreichen Stadt Aachen\, um gemeinsam die Hap Ki Do Europameisterschaft 2026 zu feiern – ein sportliches Highlight\, das Kampfkunst\, Respekt und Gemeinschaft auf höchstem Niveau vereint. \nDie Hap Ki Do – Abteilung des DJK FV Haaren und wir\, der Aachener Kampfkunstverein richten die Meisterschaft im Namen der International Hap Ki Do Cooperation (IHC) aus. \nDie Anmeldung ist vom 1. März 2026 bis zum 16. April 2026 geöffnet. \nDie genauen Zeiten der einzelnen Wettkämpfe erfahren Sie zu gegebener Zeit auf der Homepage des Veranstalters.
URL:https://aachen-kalender.de/event/16-offenen-europameisterschaft-im-hap-ki-do/2026-06-06/
LOCATION:Sporthalle Nord 1\, Neukölnerstraße 9\, Aachen\, 52068
CATEGORIES:Sport
END:VEVENT
BEGIN:VEVENT
DTSTART;TZID=Europe/Berlin:20260607T090000
DTEND;TZID=Europe/Berlin:20260607T090000
DTSTAMP:20260422T060639
CREATED:20260304T100534Z
LAST-MODIFIED:20260331T113433Z
UID:10021073-1780822800-1780822800@aachen-kalender.de
SUMMARY:"16. Offene Europameisterschaft im Hap Ki Do".
DESCRIPTION:Am 6. und 7. Juni 2026 ist es endlich so weit: Die europäische Hap Ki Do – Elite trifft sich in der traditionsreichen Stadt Aachen\, um gemeinsam die Hap Ki Do Europameisterschaft 2026 zu feiern – ein sportliches Highlight\, das Kampfkunst\, Respekt und Gemeinschaft auf höchstem Niveau vereint. \nDie Hap Ki Do – Abteilung des DJK FV Haaren und wir\, der Aachener Kampfkunstverein richten die Meisterschaft im Namen der International Hap Ki Do Cooperation (IHC) aus. \nDie Anmeldung ist vom 1. März 2026 bis zum 16. April 2026 geöffnet. \nDie genauen Zeiten der einzelnen Wettkämpfe erfahren Sie zu gegebener Zeit auf der Homepage des Veranstalters.
URL:https://aachen-kalender.de/event/16-offenen-europameisterschaft-im-hap-ki-do/2026-06-07/
LOCATION:Sporthalle Nord 1\, Neukölnerstraße 9\, Aachen\, 52068
CATEGORIES:Sport
END:VEVENT
END:VCALENDAR