BEGIN:VCALENDAR
VERSION:2.0
PRODID:-//Aachen-Termine - ECPv6.15.18//NONSGML v1.0//EN
CALSCALE:GREGORIAN
METHOD:PUBLISH
X-ORIGINAL-URL:https://aachen-kalender.de
X-WR-CALDESC:Veranstaltungen für Aachen-Termine
REFRESH-INTERVAL;VALUE=DURATION:PT1H
X-Robots-Tag:noindex
X-PUBLISHED-TTL:PT1H
BEGIN:VTIMEZONE
TZID:Europe/Berlin
BEGIN:DAYLIGHT
TZOFFSETFROM:+0100
TZOFFSETTO:+0200
TZNAME:CEST
DTSTART:20250330T010000
END:DAYLIGHT
BEGIN:STANDARD
TZOFFSETFROM:+0200
TZOFFSETTO:+0100
TZNAME:CET
DTSTART:20251026T010000
END:STANDARD
BEGIN:DAYLIGHT
TZOFFSETFROM:+0100
TZOFFSETTO:+0200
TZNAME:CEST
DTSTART:20260329T010000
END:DAYLIGHT
BEGIN:STANDARD
TZOFFSETFROM:+0200
TZOFFSETTO:+0100
TZNAME:CET
DTSTART:20261025T010000
END:STANDARD
BEGIN:DAYLIGHT
TZOFFSETFROM:+0100
TZOFFSETTO:+0200
TZNAME:CEST
DTSTART:20270328T010000
END:DAYLIGHT
BEGIN:STANDARD
TZOFFSETFROM:+0200
TZOFFSETTO:+0100
TZNAME:CET
DTSTART:20271031T010000
END:STANDARD
END:VTIMEZONE
BEGIN:VEVENT
DTSTART;TZID=Europe/Berlin:20260529T200000
DTEND;TZID=Europe/Berlin:20260529T200000
DTSTAMP:20260424T133224
CREATED:20260409T103215Z
LAST-MODIFIED:20260409T103215Z
UID:10022155-1780084800-1780084800@aachen-kalender.de
SUMMARY:The Hamburg Blues Band feat. Krissy Matthews.
DESCRIPTION:Über 40 Jahre St. Pauli Blues! Im Rahmen ihrer 40th Anniversary VOL. II-Tour präsentiert die Hamburg Blues Band mit dem Hamburger Rockshouter Gert Lange\, Reggie Worthy (Ike & Tina Turner\, Eric Burdon)\, Drummer Eddie Filipp (Sweet\, Inga Rumpf\, Clem Clempson Band) und dem 33-jährigen Ausnahmegitarristen Krissy Matthews „This guy is the real deal“ (Beth Hart)\, Songs aus über 4 Jahrzehnten HBB und des britischen Gitarren Shooting Stars. Ein musikalisches Feuerwerk mit Freunden\, Weggefährten\, echten Typen und Originals. \nKartenverkauf: https://www.eventim.de/event/hamburg-blues-band-outbaix-20942599/?affiliate=K93#tab=
URL:https://aachen-kalender.de/event/the-hamburg-blues-band-feat-krissy-matthews-2/
LOCATION:Outbaix Music Club\, Stadionstrasse 22\, 52531 Übach-Palenberg\, Germany
CATEGORIES:Musik
END:VEVENT
END:VCALENDAR