BEGIN:VCALENDAR
VERSION:2.0
PRODID:-//Aachen-Termine - ECPv6.15.18//NONSGML v1.0//EN
CALSCALE:GREGORIAN
METHOD:PUBLISH
X-ORIGINAL-URL:https://aachen-kalender.de
X-WR-CALDESC:Veranstaltungen für Aachen-Termine
REFRESH-INTERVAL;VALUE=DURATION:PT1H
X-Robots-Tag:noindex
X-PUBLISHED-TTL:PT1H
BEGIN:VTIMEZONE
TZID:Europe/Berlin
BEGIN:DAYLIGHT
TZOFFSETFROM:+0100
TZOFFSETTO:+0200
TZNAME:CEST
DTSTART:20250330T010000
END:DAYLIGHT
BEGIN:STANDARD
TZOFFSETFROM:+0200
TZOFFSETTO:+0100
TZNAME:CET
DTSTART:20251026T010000
END:STANDARD
BEGIN:DAYLIGHT
TZOFFSETFROM:+0100
TZOFFSETTO:+0200
TZNAME:CEST
DTSTART:20260329T010000
END:DAYLIGHT
BEGIN:STANDARD
TZOFFSETFROM:+0200
TZOFFSETTO:+0100
TZNAME:CET
DTSTART:20261025T010000
END:STANDARD
BEGIN:DAYLIGHT
TZOFFSETFROM:+0100
TZOFFSETTO:+0200
TZNAME:CEST
DTSTART:20270328T010000
END:DAYLIGHT
BEGIN:STANDARD
TZOFFSETFROM:+0200
TZOFFSETTO:+0100
TZNAME:CET
DTSTART:20271031T010000
END:STANDARD
END:VTIMEZONE
BEGIN:VEVENT
DTSTART;TZID=Europe/Berlin:20260508T193000
DTEND;TZID=Europe/Berlin:20260508T210000
DTSTAMP:20260424T153956
CREATED:20260223T095052Z
LAST-MODIFIED:20260414T082922Z
UID:10020608-1778268600-1778274000@aachen-kalender.de
SUMMARY:Hören und Sprechen über Neue Musik. "Irène Schweizer (1941 - 2024)".
DESCRIPTION:Hören und Sprechen über neue Musik befaßt sich an diesem Abend mit Irène Schweizer (1941 – 2024) – schweizer Pianistin. \nDie Treffen werden vorbereitet von Günter Härtel und Hans-Walter Staudte. \n\nDer Eintritt ist frei – Interessierte sind herzlich willkommen
URL:https://aachen-kalender.de/event/hoeren-und-sprechen-ueber-neue-musik-irene-schweizer-1941-2024/
LOCATION:Music Loft Studio der Klangbrücke Aachen\, Kurhausstrasse 1\, Aachen\, 52062
CATEGORIES:Lesung/Vortrag
END:VEVENT
BEGIN:VEVENT
DTSTART;TZID=Europe/Berlin:20260605T193000
DTEND;TZID=Europe/Berlin:20260605T210000
DTSTAMP:20260424T153956
CREATED:20260223T095212Z
LAST-MODIFIED:20260223T095233Z
UID:10020609-1780687800-1780693200@aachen-kalender.de
SUMMARY:Hören und Sprechen über Neue Musik. "Francesco Filidei (*1973)".
DESCRIPTION:Hören und Sprechen über neue Musik befaßt sich an diesem Abend mit Francesco Filidei (*1973); ital. Organist und Komponist; Oper „Giordano Bruno) von 2015. \nDie Treffen werden vorbereitet von Günter Härtel und Hans-Walter Staudte. \n\nDer Eintritt ist frei – Interessierte sind herzlich willkommen
URL:https://aachen-kalender.de/event/hoeren-und-sprechen-ueber-neue-musik-francesco-filidei-1973/
LOCATION:Music Loft Studio der Klangbrücke Aachen\, Kurhausstrasse 1\, Aachen\, 52062
CATEGORIES:Lesung/Vortrag
END:VEVENT
BEGIN:VEVENT
DTSTART;TZID=Europe/Berlin:20260703T193000
DTEND;TZID=Europe/Berlin:20260703T210000
DTSTAMP:20260424T153956
CREATED:20260223T095442Z
LAST-MODIFIED:20260223T095442Z
UID:10020610-1783107000-1783112400@aachen-kalender.de
SUMMARY:Hören und Sprechen über Neue Musik. "Tamara Stefanovic (*1973) und Bernardo Sassetti (1970 - 2012)".
DESCRIPTION:Hören und Sprechen über neue Musik befaßt sich an diesem Abend mit Tamara Stefanovic (*1973); serbisch-deutsche Pianistin Neuer Musik. Bernardo Sassetti (1970 – 2012); portug. Pianist und Komponist \n. \n\nDer Eintritt ist frei – Interessierte sind herzlich willkommen
URL:https://aachen-kalender.de/event/hoeren-und-sprechen-ueber-neue-musik-tamara-stefanovic-1973-und-bernardo-sassetti-1970-2012/
LOCATION:Music Loft Studio der Klangbrücke Aachen\, Kurhausstrasse 1\, Aachen\, 52062
CATEGORIES:Lesung/Vortrag
END:VEVENT
END:VCALENDAR