BEGIN:VCALENDAR
VERSION:2.0
PRODID:-//Aachen-Termine - ECPv6.15.18//NONSGML v1.0//EN
CALSCALE:GREGORIAN
METHOD:PUBLISH
X-WR-CALNAME:Aachen-Termine
X-ORIGINAL-URL:https://aachen-kalender.de
X-WR-CALDESC:Veranstaltungen für Aachen-Termine
REFRESH-INTERVAL;VALUE=DURATION:PT1H
X-Robots-Tag:noindex
X-PUBLISHED-TTL:PT1H
BEGIN:VTIMEZONE
TZID:Europe/Berlin
BEGIN:DAYLIGHT
TZOFFSETFROM:+0100
TZOFFSETTO:+0200
TZNAME:CEST
DTSTART:20250330T010000
END:DAYLIGHT
BEGIN:STANDARD
TZOFFSETFROM:+0200
TZOFFSETTO:+0100
TZNAME:CET
DTSTART:20251026T010000
END:STANDARD
BEGIN:DAYLIGHT
TZOFFSETFROM:+0100
TZOFFSETTO:+0200
TZNAME:CEST
DTSTART:20260329T010000
END:DAYLIGHT
BEGIN:STANDARD
TZOFFSETFROM:+0200
TZOFFSETTO:+0100
TZNAME:CET
DTSTART:20261025T010000
END:STANDARD
BEGIN:DAYLIGHT
TZOFFSETFROM:+0100
TZOFFSETTO:+0200
TZNAME:CEST
DTSTART:20270328T010000
END:DAYLIGHT
BEGIN:STANDARD
TZOFFSETFROM:+0200
TZOFFSETTO:+0100
TZNAME:CET
DTSTART:20271031T010000
END:STANDARD
END:VTIMEZONE
BEGIN:VEVENT
DTSTART;TZID=Europe/Berlin:20260507T163000
DTEND;TZID=Europe/Berlin:20260507T180000
DTSTAMP:20260424T120527
CREATED:20260326T104259Z
LAST-MODIFIED:20260326T104502Z
UID:10021691-1778171400-1778176800@aachen-kalender.de
SUMMARY:Entdeckerstunden mit Denise und Sabine.
DESCRIPTION:Experimentieren\, Malen\, Spielen\, Tanzen\, Lesen\, Basteln\, Gestalten\, Darstellen & Entdecken für Kinder zwischen 4 und 7 Jahren in der KinderWelt. \n\nEintritt frei!
URL:https://aachen-kalender.de/event/entdeckerstunden-mit-denise-und-sabine-15/2026-05-07/
LOCATION:Mayersche Buchhandlung\, Buchkremerstraße 1-7\, Aachen\, 52062\, Deutschland
CATEGORIES:Familie
ATTACH;FMTTYPE=image/jpeg:https://aachen-kalender.de/wp-content/uploads/2025/11/Mayersche_Entdeckerstunden_alle.jpg
END:VEVENT
BEGIN:VEVENT
DTSTART;TZID=Europe/Berlin:20260508T150000
DTEND;TZID=Europe/Berlin:20260508T150000
DTSTAMP:20260424T120527
CREATED:20260326T105158Z
LAST-MODIFIED:20260326T105158Z
UID:10021728-1778252400-1778252400@aachen-kalender.de
SUMMARY:"Ohrenkino mit dem Helene-Weber-Haus".
DESCRIPTION:Kreativer Lesespaß für Kinder ab 6 Jahren. Jeden Freitag in der KinderWelt jeweils um 15 und 16 Uhr. \n\nEintritt frei!\n\n‍
URL:https://aachen-kalender.de/event/ohrenkino-mit-dem-helene-weber-haus-30/2026-05-08/1/
LOCATION:Mayersche Buchhandlung\, Buchkremerstraße 1-7\, Aachen\, 52062\, Deutschland
CATEGORIES:Familie
END:VEVENT
BEGIN:VEVENT
DTSTART;TZID=Europe/Berlin:20260508T160000
DTEND;TZID=Europe/Berlin:20260508T160000
DTSTAMP:20260424T120527
CREATED:20260326T105158Z
LAST-MODIFIED:20260326T105158Z
UID:10021729-1778256000-1778256000@aachen-kalender.de
SUMMARY:"Ohrenkino mit dem Helene-Weber-Haus".
DESCRIPTION:Kreativer Lesespaß für Kinder ab 6 Jahren. Jeden Freitag in der KinderWelt jeweils um 15 und 16 Uhr. \n\nEintritt frei!\n\n‍
URL:https://aachen-kalender.de/event/ohrenkino-mit-dem-helene-weber-haus-30/2026-05-08/2/
LOCATION:Mayersche Buchhandlung\, Buchkremerstraße 1-7\, Aachen\, 52062\, Deutschland
CATEGORIES:Familie
END:VEVENT
BEGIN:VEVENT
DTSTART;TZID=Europe/Berlin:20260509T110000
DTEND;TZID=Europe/Berlin:20260509T110000
DTSTAMP:20260424T120527
CREATED:20260326T104934Z
LAST-MODIFIED:20260326T104934Z
UID:10021714-1778324400-1778324400@aachen-kalender.de
SUMMARY:"Ohrenkino mit dem Helene-Weber-Haus".
DESCRIPTION:Kreativer Lesespaß für Kinder ab 6 Jahren. Jeden Samstag in der KinderWelt um 11 und um 12 Uhr. Eintritt frei! \n‍
URL:https://aachen-kalender.de/event/ohrenkino-mit-dem-helene-weber-haus-29/2026-05-09/1/
LOCATION:Mayersche Buchhandlung\, Buchkremerstraße 1-7\, Aachen\, 52062\, Deutschland
CATEGORIES:Familie
END:VEVENT
BEGIN:VEVENT
DTSTART;TZID=Europe/Berlin:20260509T120000
DTEND;TZID=Europe/Berlin:20260509T120000
DTSTAMP:20260424T120527
CREATED:20260326T104934Z
LAST-MODIFIED:20260326T104934Z
UID:10021715-1778328000-1778328000@aachen-kalender.de
SUMMARY:"Ohrenkino mit dem Helene-Weber-Haus".
DESCRIPTION:Kreativer Lesespaß für Kinder ab 6 Jahren. Jeden Samstag in der KinderWelt um 11 und um 12 Uhr. Eintritt frei! \n‍
URL:https://aachen-kalender.de/event/ohrenkino-mit-dem-helene-weber-haus-29/2026-05-09/2/
LOCATION:Mayersche Buchhandlung\, Buchkremerstraße 1-7\, Aachen\, 52062\, Deutschland
CATEGORIES:Familie
END:VEVENT
BEGIN:VEVENT
DTSTART;TZID=Europe/Berlin:20260509T150000
DTEND;TZID=Europe/Berlin:20260509T150000
DTSTAMP:20260424T120527
CREATED:20260326T103852Z
LAST-MODIFIED:20260326T103852Z
UID:10021676-1778338800-1778338800@aachen-kalender.de
SUMMARY:Stricken in der Buchhandlung mit dem Stricktreff Aachen.
DESCRIPTION:Der Stricktreff Aachen zu Gast im KaffeeFleck. \nDer Termin ist offen und ohne Anmeldung – das heißt\, jede*r der*die Lust hat\, kann gerne mit ihren*seinen Stricksachen vorbeikommen! \nGetränke könnt ihr euch gerne selbst mitbringen oder in den Cafés in der Buchhandlung kaufen. \n\nkostenfreie Veranstaltung
URL:https://aachen-kalender.de/event/stricken-in-der-buchhandlung-mit-dem-stricktreff-aachen-2/
LOCATION:Mayersche Buchhandlung\, Buchkremerstraße 1-7\, Aachen\, 52062\, Deutschland
CATEGORIES:Sonstiges
END:VEVENT
BEGIN:VEVENT
DTSTART;TZID=Europe/Berlin:20260509T150000
DTEND;TZID=Europe/Berlin:20260509T163000
DTSTAMP:20260424T120527
CREATED:20260326T104114Z
LAST-MODIFIED:20260326T104114Z
UID:10021682-1778338800-1778344200@aachen-kalender.de
SUMMARY:Entdeckerstunden mit Denise und Sabine.
DESCRIPTION:Experimentieren\, Malen\, Spielen\, Tanzen\, Lesen\, Basteln\, Gestalten\, Darstellen & Entdecken für Kinder zwischen 4 und 7 Jahren in der KinderWelt. \n\nEintritt frei!
URL:https://aachen-kalender.de/event/entdeckerstunden-mit-denise-und-sabine-14/2026-05-09/
LOCATION:Mayersche Buchhandlung\, Buchkremerstraße 1-7\, Aachen\, 52062\, Deutschland
CATEGORIES:Familie
ATTACH;FMTTYPE=image/jpeg:https://aachen-kalender.de/wp-content/uploads/2025/11/Mayersche_Entdeckerstunden_alle.jpg
END:VEVENT
BEGIN:VEVENT
DTSTART;TZID=Europe/Berlin:20260513T163000
DTEND;TZID=Europe/Berlin:20260513T180000
DTSTAMP:20260424T120527
CREATED:20260326T104429Z
LAST-MODIFIED:20260326T104429Z
UID:10021701-1778689800-1778695200@aachen-kalender.de
SUMMARY:Entdeckerstunden mit Denise und Sabine.
DESCRIPTION:Experimentieren\, Malen\, Spielen\, Tanzen\, Lesen\, Basteln\, Gestalten\, Darstellen & Entdecken für Kinder zwischen 4 und 7 Jahren in der KinderWelt. \n\nEintritt frei
URL:https://aachen-kalender.de/event/entdeckerstunden-mit-denise-und-sabine-16/2026-05-13/
LOCATION:Mayersche Buchhandlung\, Buchkremerstraße 1-7\, Aachen\, 52062\, Deutschland
CATEGORIES:Familie
ATTACH;FMTTYPE=image/jpeg:https://aachen-kalender.de/wp-content/uploads/2025/11/Mayersche_Entdeckerstunden_alle.jpg
END:VEVENT
BEGIN:VEVENT
DTSTART;TZID=Europe/Berlin:20260515T150000
DTEND;TZID=Europe/Berlin:20260515T150000
DTSTAMP:20260424T120527
CREATED:20260326T105158Z
LAST-MODIFIED:20260326T105158Z
UID:10021730-1778857200-1778857200@aachen-kalender.de
SUMMARY:"Ohrenkino mit dem Helene-Weber-Haus".
DESCRIPTION:Kreativer Lesespaß für Kinder ab 6 Jahren. Jeden Freitag in der KinderWelt jeweils um 15 und 16 Uhr. \n\nEintritt frei!\n\n‍
URL:https://aachen-kalender.de/event/ohrenkino-mit-dem-helene-weber-haus-30/2026-05-15/1/
LOCATION:Mayersche Buchhandlung\, Buchkremerstraße 1-7\, Aachen\, 52062\, Deutschland
CATEGORIES:Familie
END:VEVENT
BEGIN:VEVENT
DTSTART;TZID=Europe/Berlin:20260515T160000
DTEND;TZID=Europe/Berlin:20260515T160000
DTSTAMP:20260424T120527
CREATED:20260326T105158Z
LAST-MODIFIED:20260326T105158Z
UID:10021731-1778860800-1778860800@aachen-kalender.de
SUMMARY:"Ohrenkino mit dem Helene-Weber-Haus".
DESCRIPTION:Kreativer Lesespaß für Kinder ab 6 Jahren. Jeden Freitag in der KinderWelt jeweils um 15 und 16 Uhr. \n\nEintritt frei!\n\n‍
URL:https://aachen-kalender.de/event/ohrenkino-mit-dem-helene-weber-haus-30/2026-05-15/2/
LOCATION:Mayersche Buchhandlung\, Buchkremerstraße 1-7\, Aachen\, 52062\, Deutschland
CATEGORIES:Familie
END:VEVENT
BEGIN:VEVENT
DTSTART;TZID=Europe/Berlin:20260516T110000
DTEND;TZID=Europe/Berlin:20260516T110000
DTSTAMP:20260424T120527
CREATED:20260326T104934Z
LAST-MODIFIED:20260326T104934Z
UID:10021716-1778929200-1778929200@aachen-kalender.de
SUMMARY:"Ohrenkino mit dem Helene-Weber-Haus".
DESCRIPTION:Kreativer Lesespaß für Kinder ab 6 Jahren. Jeden Samstag in der KinderWelt um 11 und um 12 Uhr. Eintritt frei! \n‍
URL:https://aachen-kalender.de/event/ohrenkino-mit-dem-helene-weber-haus-29/2026-05-16/1/
LOCATION:Mayersche Buchhandlung\, Buchkremerstraße 1-7\, Aachen\, 52062\, Deutschland
CATEGORIES:Familie
END:VEVENT
BEGIN:VEVENT
DTSTART;TZID=Europe/Berlin:20260516T120000
DTEND;TZID=Europe/Berlin:20260516T120000
DTSTAMP:20260424T120527
CREATED:20260326T104934Z
LAST-MODIFIED:20260326T104934Z
UID:10021717-1778932800-1778932800@aachen-kalender.de
SUMMARY:"Ohrenkino mit dem Helene-Weber-Haus".
DESCRIPTION:Kreativer Lesespaß für Kinder ab 6 Jahren. Jeden Samstag in der KinderWelt um 11 und um 12 Uhr. Eintritt frei! \n‍
URL:https://aachen-kalender.de/event/ohrenkino-mit-dem-helene-weber-haus-29/2026-05-16/2/
LOCATION:Mayersche Buchhandlung\, Buchkremerstraße 1-7\, Aachen\, 52062\, Deutschland
CATEGORIES:Familie
END:VEVENT
BEGIN:VEVENT
DTSTART;TZID=Europe/Berlin:20260516T150000
DTEND;TZID=Europe/Berlin:20260516T163000
DTSTAMP:20260424T120527
CREATED:20260326T104114Z
LAST-MODIFIED:20260326T104114Z
UID:10021683-1778943600-1778949000@aachen-kalender.de
SUMMARY:Entdeckerstunden mit Denise und Sabine.
DESCRIPTION:Experimentieren\, Malen\, Spielen\, Tanzen\, Lesen\, Basteln\, Gestalten\, Darstellen & Entdecken für Kinder zwischen 4 und 7 Jahren in der KinderWelt. \n\nEintritt frei!
URL:https://aachen-kalender.de/event/entdeckerstunden-mit-denise-und-sabine-14/2026-05-16/
LOCATION:Mayersche Buchhandlung\, Buchkremerstraße 1-7\, Aachen\, 52062\, Deutschland
CATEGORIES:Familie
ATTACH;FMTTYPE=image/jpeg:https://aachen-kalender.de/wp-content/uploads/2025/11/Mayersche_Entdeckerstunden_alle.jpg
END:VEVENT
BEGIN:VEVENT
DTSTART;TZID=Europe/Berlin:20260520T163000
DTEND;TZID=Europe/Berlin:20260520T180000
DTSTAMP:20260424T120527
CREATED:20260326T104429Z
LAST-MODIFIED:20260326T104429Z
UID:10021702-1779294600-1779300000@aachen-kalender.de
SUMMARY:Entdeckerstunden mit Denise und Sabine.
DESCRIPTION:Experimentieren\, Malen\, Spielen\, Tanzen\, Lesen\, Basteln\, Gestalten\, Darstellen & Entdecken für Kinder zwischen 4 und 7 Jahren in der KinderWelt. \n\nEintritt frei
URL:https://aachen-kalender.de/event/entdeckerstunden-mit-denise-und-sabine-16/2026-05-20/
LOCATION:Mayersche Buchhandlung\, Buchkremerstraße 1-7\, Aachen\, 52062\, Deutschland
CATEGORIES:Familie
ATTACH;FMTTYPE=image/jpeg:https://aachen-kalender.de/wp-content/uploads/2025/11/Mayersche_Entdeckerstunden_alle.jpg
END:VEVENT
BEGIN:VEVENT
DTSTART;TZID=Europe/Berlin:20260521T163000
DTEND;TZID=Europe/Berlin:20260521T180000
DTSTAMP:20260424T120527
CREATED:20260326T104259Z
LAST-MODIFIED:20260326T104502Z
UID:10021693-1779381000-1779386400@aachen-kalender.de
SUMMARY:Entdeckerstunden mit Denise und Sabine.
DESCRIPTION:Experimentieren\, Malen\, Spielen\, Tanzen\, Lesen\, Basteln\, Gestalten\, Darstellen & Entdecken für Kinder zwischen 4 und 7 Jahren in der KinderWelt. \n\nEintritt frei!
URL:https://aachen-kalender.de/event/entdeckerstunden-mit-denise-und-sabine-15/2026-05-21/
LOCATION:Mayersche Buchhandlung\, Buchkremerstraße 1-7\, Aachen\, 52062\, Deutschland
CATEGORIES:Familie
ATTACH;FMTTYPE=image/jpeg:https://aachen-kalender.de/wp-content/uploads/2025/11/Mayersche_Entdeckerstunden_alle.jpg
END:VEVENT
BEGIN:VEVENT
DTSTART;TZID=Europe/Berlin:20260521T170000
DTEND;TZID=Europe/Berlin:20260521T170000
DTSTAMP:20260424T120527
CREATED:20260402T111858Z
LAST-MODIFIED:20260402T111858Z
UID:10021934-1779382800-1779382800@aachen-kalender.de
SUMMARY:Meet & Read. "Der Buchclub-Abend in der Mayerschen".
DESCRIPTION:Komm rein\, mach’s dir gemütlich\, lies mit anderen im KaffeeFleck. Meet & Read ist ein gemütliches Buchclub-Format!\nMeet & Read ist ein gemütliches Buchclub-Format! \nDu bringst dein aktuelles Buch mit\, ihr lest gemeinsam in entspannter Atmosphäre in der Buchhandlung – jede*r für sich\, aber nicht allein. Nach der Lesezeit gibt es Raum für Austausch: Was liest du gerade? Welche Geschichten tragen dich durch den Alltag? Was hat andere besonders berührt? \nEin durch unsere Buchhändlerinnen begleiteter Abend. Im Ticketpreis sind wie gewohnt ein Getränk und Knabberzeug inklusive. \nKomm vorbei\, lerne neue Menschen kennen und entdecke vielleicht dein nächstes Lieblingsbuch ganz zufällig am Nachbartisch. \n\nKarten: https://www.mayersche-aachen.de/
URL:https://aachen-kalender.de/event/meet-read-der-buchclub-abend-in-der-mayerschen-3/
LOCATION:Mayersche Buchhandlung\, Buchkremerstraße 1-7\, Aachen\, 52062\, Deutschland
CATEGORIES:Lesung/Vortrag
END:VEVENT
BEGIN:VEVENT
DTSTART;TZID=Europe/Berlin:20260522T150000
DTEND;TZID=Europe/Berlin:20260522T150000
DTSTAMP:20260424T120527
CREATED:20260326T105158Z
LAST-MODIFIED:20260326T105158Z
UID:10021732-1779462000-1779462000@aachen-kalender.de
SUMMARY:"Ohrenkino mit dem Helene-Weber-Haus".
DESCRIPTION:Kreativer Lesespaß für Kinder ab 6 Jahren. Jeden Freitag in der KinderWelt jeweils um 15 und 16 Uhr. \n\nEintritt frei!\n\n‍
URL:https://aachen-kalender.de/event/ohrenkino-mit-dem-helene-weber-haus-30/2026-05-22/1/
LOCATION:Mayersche Buchhandlung\, Buchkremerstraße 1-7\, Aachen\, 52062\, Deutschland
CATEGORIES:Familie
END:VEVENT
BEGIN:VEVENT
DTSTART;TZID=Europe/Berlin:20260522T160000
DTEND;TZID=Europe/Berlin:20260522T160000
DTSTAMP:20260424T120527
CREATED:20260326T105158Z
LAST-MODIFIED:20260326T105158Z
UID:10021733-1779465600-1779465600@aachen-kalender.de
SUMMARY:"Ohrenkino mit dem Helene-Weber-Haus".
DESCRIPTION:Kreativer Lesespaß für Kinder ab 6 Jahren. Jeden Freitag in der KinderWelt jeweils um 15 und 16 Uhr. \n\nEintritt frei!\n\n‍
URL:https://aachen-kalender.de/event/ohrenkino-mit-dem-helene-weber-haus-30/2026-05-22/2/
LOCATION:Mayersche Buchhandlung\, Buchkremerstraße 1-7\, Aachen\, 52062\, Deutschland
CATEGORIES:Familie
END:VEVENT
BEGIN:VEVENT
DTSTART;TZID=Europe/Berlin:20260523T110000
DTEND;TZID=Europe/Berlin:20260523T110000
DTSTAMP:20260424T120527
CREATED:20260326T104934Z
LAST-MODIFIED:20260326T104934Z
UID:10021718-1779534000-1779534000@aachen-kalender.de
SUMMARY:"Ohrenkino mit dem Helene-Weber-Haus".
DESCRIPTION:Kreativer Lesespaß für Kinder ab 6 Jahren. Jeden Samstag in der KinderWelt um 11 und um 12 Uhr. Eintritt frei! \n‍
URL:https://aachen-kalender.de/event/ohrenkino-mit-dem-helene-weber-haus-29/2026-05-23/1/
LOCATION:Mayersche Buchhandlung\, Buchkremerstraße 1-7\, Aachen\, 52062\, Deutschland
CATEGORIES:Familie
END:VEVENT
BEGIN:VEVENT
DTSTART;TZID=Europe/Berlin:20260523T120000
DTEND;TZID=Europe/Berlin:20260523T120000
DTSTAMP:20260424T120527
CREATED:20260326T104934Z
LAST-MODIFIED:20260326T104934Z
UID:10021719-1779537600-1779537600@aachen-kalender.de
SUMMARY:"Ohrenkino mit dem Helene-Weber-Haus".
DESCRIPTION:Kreativer Lesespaß für Kinder ab 6 Jahren. Jeden Samstag in der KinderWelt um 11 und um 12 Uhr. Eintritt frei! \n‍
URL:https://aachen-kalender.de/event/ohrenkino-mit-dem-helene-weber-haus-29/2026-05-23/2/
LOCATION:Mayersche Buchhandlung\, Buchkremerstraße 1-7\, Aachen\, 52062\, Deutschland
CATEGORIES:Familie
END:VEVENT
BEGIN:VEVENT
DTSTART;TZID=Europe/Berlin:20260523T150000
DTEND;TZID=Europe/Berlin:20260523T150000
DTSTAMP:20260424T120527
CREATED:20260326T104114Z
LAST-MODIFIED:20260326T104114Z
UID:10021684-1779548400-1779548400@aachen-kalender.de
SUMMARY:Entdeckerstunden mit Denise und Sabine.
DESCRIPTION:Experimentieren\, Malen\, Spielen\, Tanzen\, Lesen\, Basteln\, Gestalten\, Darstellen & Entdecken für Kinder zwischen 4 und 7 Jahren in der KinderWelt. \n\nEintritt frei!
URL:https://aachen-kalender.de/event/entdeckerstunden-mit-denise-und-sabine-14/2026-05-23/
LOCATION:Mayersche Buchhandlung\, Buchkremerstraße 1-7\, Aachen\, 52062\, Deutschland
CATEGORIES:Familie
ATTACH;FMTTYPE=image/jpeg:https://aachen-kalender.de/wp-content/uploads/2025/11/Mayersche_Entdeckerstunden_alle.jpg
END:VEVENT
BEGIN:VEVENT
DTSTART;TZID=Europe/Berlin:20260527T163000
DTEND;TZID=Europe/Berlin:20260527T163000
DTSTAMP:20260424T120527
CREATED:20260326T104429Z
LAST-MODIFIED:20260326T104429Z
UID:10021703-1779899400-1779899400@aachen-kalender.de
SUMMARY:Entdeckerstunden mit Denise und Sabine.
DESCRIPTION:Experimentieren\, Malen\, Spielen\, Tanzen\, Lesen\, Basteln\, Gestalten\, Darstellen & Entdecken für Kinder zwischen 4 und 7 Jahren in der KinderWelt. \n\nEintritt frei
URL:https://aachen-kalender.de/event/entdeckerstunden-mit-denise-und-sabine-16/2026-05-27/
LOCATION:Mayersche Buchhandlung\, Buchkremerstraße 1-7\, Aachen\, 52062\, Deutschland
CATEGORIES:Familie
ATTACH;FMTTYPE=image/jpeg:https://aachen-kalender.de/wp-content/uploads/2025/11/Mayersche_Entdeckerstunden_alle.jpg
END:VEVENT
BEGIN:VEVENT
DTSTART;TZID=Europe/Berlin:20260528T163000
DTEND;TZID=Europe/Berlin:20260528T163000
DTSTAMP:20260424T120527
CREATED:20260326T104259Z
LAST-MODIFIED:20260326T104502Z
UID:10021694-1779985800-1779985800@aachen-kalender.de
SUMMARY:Entdeckerstunden mit Denise und Sabine.
DESCRIPTION:Experimentieren\, Malen\, Spielen\, Tanzen\, Lesen\, Basteln\, Gestalten\, Darstellen & Entdecken für Kinder zwischen 4 und 7 Jahren in der KinderWelt. \n\nEintritt frei!
URL:https://aachen-kalender.de/event/entdeckerstunden-mit-denise-und-sabine-15/2026-05-28/
LOCATION:Mayersche Buchhandlung\, Buchkremerstraße 1-7\, Aachen\, 52062\, Deutschland
CATEGORIES:Familie
ATTACH;FMTTYPE=image/jpeg:https://aachen-kalender.de/wp-content/uploads/2025/11/Mayersche_Entdeckerstunden_alle.jpg
END:VEVENT
BEGIN:VEVENT
DTSTART;TZID=Europe/Berlin:20260529T150000
DTEND;TZID=Europe/Berlin:20260529T150000
DTSTAMP:20260424T120527
CREATED:20260326T105158Z
LAST-MODIFIED:20260326T105158Z
UID:10021734-1780066800-1780066800@aachen-kalender.de
SUMMARY:"Ohrenkino mit dem Helene-Weber-Haus".
DESCRIPTION:Kreativer Lesespaß für Kinder ab 6 Jahren. Jeden Freitag in der KinderWelt jeweils um 15 und 16 Uhr. \n\nEintritt frei!\n\n‍
URL:https://aachen-kalender.de/event/ohrenkino-mit-dem-helene-weber-haus-30/2026-05-29/1/
LOCATION:Mayersche Buchhandlung\, Buchkremerstraße 1-7\, Aachen\, 52062\, Deutschland
CATEGORIES:Familie
END:VEVENT
BEGIN:VEVENT
DTSTART;TZID=Europe/Berlin:20260529T160000
DTEND;TZID=Europe/Berlin:20260529T160000
DTSTAMP:20260424T120527
CREATED:20260326T105158Z
LAST-MODIFIED:20260326T105158Z
UID:10021735-1780070400-1780070400@aachen-kalender.de
SUMMARY:"Ohrenkino mit dem Helene-Weber-Haus".
DESCRIPTION:Kreativer Lesespaß für Kinder ab 6 Jahren. Jeden Freitag in der KinderWelt jeweils um 15 und 16 Uhr. \n\nEintritt frei!\n\n‍
URL:https://aachen-kalender.de/event/ohrenkino-mit-dem-helene-weber-haus-30/2026-05-29/2/
LOCATION:Mayersche Buchhandlung\, Buchkremerstraße 1-7\, Aachen\, 52062\, Deutschland
CATEGORIES:Familie
END:VEVENT
BEGIN:VEVENT
DTSTART;TZID=Europe/Berlin:20260530T110000
DTEND;TZID=Europe/Berlin:20260530T110000
DTSTAMP:20260424T120527
CREATED:20260326T104934Z
LAST-MODIFIED:20260326T104934Z
UID:10021720-1780138800-1780138800@aachen-kalender.de
SUMMARY:"Ohrenkino mit dem Helene-Weber-Haus".
DESCRIPTION:Kreativer Lesespaß für Kinder ab 6 Jahren. Jeden Samstag in der KinderWelt um 11 und um 12 Uhr. Eintritt frei! \n‍
URL:https://aachen-kalender.de/event/ohrenkino-mit-dem-helene-weber-haus-29/2026-05-30/1/
LOCATION:Mayersche Buchhandlung\, Buchkremerstraße 1-7\, Aachen\, 52062\, Deutschland
CATEGORIES:Familie
END:VEVENT
BEGIN:VEVENT
DTSTART;TZID=Europe/Berlin:20260530T120000
DTEND;TZID=Europe/Berlin:20260530T120000
DTSTAMP:20260424T120527
CREATED:20260326T104934Z
LAST-MODIFIED:20260326T104934Z
UID:10021721-1780142400-1780142400@aachen-kalender.de
SUMMARY:"Ohrenkino mit dem Helene-Weber-Haus".
DESCRIPTION:Kreativer Lesespaß für Kinder ab 6 Jahren. Jeden Samstag in der KinderWelt um 11 und um 12 Uhr. Eintritt frei! \n‍
URL:https://aachen-kalender.de/event/ohrenkino-mit-dem-helene-weber-haus-29/2026-05-30/2/
LOCATION:Mayersche Buchhandlung\, Buchkremerstraße 1-7\, Aachen\, 52062\, Deutschland
CATEGORIES:Familie
END:VEVENT
BEGIN:VEVENT
DTSTART;TZID=Europe/Berlin:20260530T150000
DTEND;TZID=Europe/Berlin:20260530T150000
DTSTAMP:20260424T120527
CREATED:20260326T104114Z
LAST-MODIFIED:20260326T104114Z
UID:10021685-1780153200-1780153200@aachen-kalender.de
SUMMARY:Entdeckerstunden mit Denise und Sabine.
DESCRIPTION:Experimentieren\, Malen\, Spielen\, Tanzen\, Lesen\, Basteln\, Gestalten\, Darstellen & Entdecken für Kinder zwischen 4 und 7 Jahren in der KinderWelt. \n\nEintritt frei!
URL:https://aachen-kalender.de/event/entdeckerstunden-mit-denise-und-sabine-14/2026-05-30/
LOCATION:Mayersche Buchhandlung\, Buchkremerstraße 1-7\, Aachen\, 52062\, Deutschland
CATEGORIES:Familie
ATTACH;FMTTYPE=image/jpeg:https://aachen-kalender.de/wp-content/uploads/2025/11/Mayersche_Entdeckerstunden_alle.jpg
END:VEVENT
END:VCALENDAR