BEGIN:VCALENDAR
VERSION:2.0
PRODID:-//Aachen-Termine - ECPv6.15.18//NONSGML v1.0//EN
CALSCALE:GREGORIAN
METHOD:PUBLISH
X-WR-CALNAME:Aachen-Termine
X-ORIGINAL-URL:https://aachen-kalender.de
X-WR-CALDESC:Veranstaltungen für Aachen-Termine
REFRESH-INTERVAL;VALUE=DURATION:PT1H
X-Robots-Tag:noindex
X-PUBLISHED-TTL:PT1H
BEGIN:VTIMEZONE
TZID:Europe/Berlin
BEGIN:DAYLIGHT
TZOFFSETFROM:+0100
TZOFFSETTO:+0200
TZNAME:CEST
DTSTART:20250330T010000
END:DAYLIGHT
BEGIN:STANDARD
TZOFFSETFROM:+0200
TZOFFSETTO:+0100
TZNAME:CET
DTSTART:20251026T010000
END:STANDARD
BEGIN:DAYLIGHT
TZOFFSETFROM:+0100
TZOFFSETTO:+0200
TZNAME:CEST
DTSTART:20260329T010000
END:DAYLIGHT
BEGIN:STANDARD
TZOFFSETFROM:+0200
TZOFFSETTO:+0100
TZNAME:CET
DTSTART:20261025T010000
END:STANDARD
BEGIN:DAYLIGHT
TZOFFSETFROM:+0100
TZOFFSETTO:+0200
TZNAME:CEST
DTSTART:20270328T010000
END:DAYLIGHT
BEGIN:STANDARD
TZOFFSETFROM:+0200
TZOFFSETTO:+0100
TZNAME:CET
DTSTART:20271031T010000
END:STANDARD
END:VTIMEZONE
BEGIN:VEVENT
DTSTART;TZID=Europe/Berlin:20260426T150000
DTEND;TZID=Europe/Berlin:20260426T150000
DTSTAMP:20260423T163320
CREATED:20260305T092925Z
LAST-MODIFIED:20260305T092925Z
UID:10021093-1777215600-1777215600@aachen-kalender.de
SUMMARY:Sonntagsführung im Kunsthaus NRW.
DESCRIPTION:Jeden letzten Sonntag im Monat bietet Ihnen das Kunsthaus NRW eine kostenfreie Führung durch eine der aktuellen Ausstellungen im Kunsthaus NRW in Aachen-Kornelimünster an. \nDie Kunsthistorikerin Gabriele Teuteberg führt Sie dabei etwa 60 Minuten durch Sammlungspräsentation\, Wechselausstellung oder Skulpturengarten des Kunsthauses. Die Teilnahme ist auf maximal 25 Personen beschränkt\, eine Anmeldung ist nicht nötig\, sie treffen sich im Foyer.
URL:https://aachen-kalender.de/event/sonntagsfuehrung-im-kunsthaus-nrw-10/
LOCATION:Kunsthaus NRW\, Abteigarten 6\, Kornelimünster\, 52076\, Deutschland
CATEGORIES:Führungen
END:VEVENT
BEGIN:VEVENT
DTSTART;TZID=Europe/Berlin:20260509T150000
DTEND;TZID=Europe/Berlin:20260509T150000
DTSTAMP:20260423T163320
CREATED:20260409T085408Z
LAST-MODIFIED:20260409T085518Z
UID:10022154-1778338800-1778338800@aachen-kalender.de
SUMMARY:"Klassenverhältnisse – die zweite Staffel". Ausstellungseröffnung.
DESCRIPTION:Nach dem ersten Teil »Klassenverhältnisse. Lehrende\, Lernende\, Künstler:innen« im Sommer 2025 setzt das Kunsthaus NRW das Ausstellungsprojekt 2026 mit neuen Kunstwerken und Schwerpunkten fort. Die neue Ausstellung nimmt die klassischen Gattungen der Kunst an den Hochschulen zum roten Faden – Malerei\, Bildhauerei\, Fotografie\, Kunst auf Papier\, Druckgrafik\, Film\, Video\, Performance sowie all die Mischformen und Erweiterungen zeitgenössischer Kunstproduktion. Neben Fragen der handwerklichen Ausbildung treten Aspekte\, die schwieriger zu fassen sind: Wie vermittelt sich so etwas wie Haltung\, konzeptuelles Denken\, oder gar – man denke an Professor Sigmar Polke – Humor? \n»Klassenverhältnisse – die zweite Staffel. Kunstlehre von 1946 bis 2026« ist das größte Ausstellungsprojekt des Jahres und erstreckt sich über sämtliche Ausstellungsräume des Kunsthaus NRW bis in den Garten. Die Ausstellung erkundet den »Kosmos Kunsthochschule« als Lehranstalt\, Karrieresprungbrett und Sozialraum anhand von rund 100 Werken aus der eigenen Sammlung sowie ausgewählter Leihgaben aus der Akademie-Galerie der Kunstakademie Düsseldorf. \n  \nIn Kooperation mit: Kunstakademie Düsseldorf\, KHM Kunsthochschule für Medien Köln\, Audioarchiv Kunst \nMit Werken von: Jan Albers\, Pidder Auberger\, Banz&Bowinkel\, Tim Berresheim\, Martin Brand\, Andreas Breunig\, Heinrich Campendonk\, Natalie Czech\, Paul Czerlitzki\, Louisa Clement\, Frauke Dannert\, Katja Davar\, Michael Dekker\, Thomas Demand\, Jan Dibbets\, Peter Doig\, Tatjana Doll\, Carolin Eidner\, Robert Elfgen\, Angela Fette\, Christian Freudenberger\, Katharina Fritsch\, Sabrina Fritsch\, Winfred Gaul\, Isa Genzken\, Dominique Gonzalez-Foerster\, Ludger Gerdes\, Martin Gerwers\, Alex Grein\, Andreas Gursky\, Fabian Heitzhausen\, Georg Herold\, Gerhard Hoehme\, Benjamin Houlihan\, Thomas Huber\, Uschi Huber\, Alfonso Hüppi\, Magdalena Jetelová\, Heike Kabisch\, Markus Karstieß\, Anna K.E.\, Hubert Kicol\, Karin Kneffel\, Sarah Kürten\, Gereon Krebber\, Konsortium\, Dieter Krieg\, Milan Kunc\, Vera Lossau\, Bettina Marx\, Ewald Mataré\, Florian Meisenberg\, Ulrike Möschel\, Albert Oehlen\, Martin Pfeifle\, Sigmar Polke\, Lorenzo Pompa\, Thomas Rentmeister\, Gerhard Richter\, Lex Rütten & Jana Kerima Stolzer\, Thomas Ruff\, Leunora Salihu\, Heiko Schäfer\, Morgaine Schäfer\, Evamaria Schaller\, Agnes Scherer\, Klaus Schmitt\, Berit Schneidereit\, Felix Schramm\, Ludwig Gabriel Schrieber\, Fritz Schwegler\, Ulrike Schulze\, Thomas Schütte\, Corinne Wasmuth\, Thomas Virnich\, Anna Vogel\, Cornelius Völker\, Günther Uecker\, Timm Ullrichs u.a. \nIm Garten: Interventionen von Anys Reimann
URL:https://aachen-kalender.de/event/klassenverhaeltnisse-die-zweite-staffel-ausstellungseroeffnung/
LOCATION:Kunsthaus NRW\, Abteigarten 6\, Kornelimünster\, 52076\, Deutschland
CATEGORIES:Führungen
END:VEVENT
BEGIN:VEVENT
DTSTART;TZID=Europe/Berlin:20260517T110000
DTEND;TZID=Europe/Berlin:20260517T170000
DTSTAMP:20260423T163320
CREATED:20260409T085053Z
LAST-MODIFIED:20260409T085053Z
UID:10022152-1779015600-1779037200@aachen-kalender.de
SUMMARY:"Frühling im Museum". Internationaler Museumstag 2026 im Kunsthaus NRW.
DESCRIPTION:Freuen Sie sich auf den Familientag »Frühling im Museum« während des Internationalen Museumstags. \n13:00 – 16:00 Uhr:\nOffene Werkstatt – Zeichnen nach Modell mit Burkhard Mönnich \n12:00 Uhr: \nInteraktive Führung – Kinderführung \n13:00 Uhr:\nSonntagsführung – Familienführung \n15:00 Uhr:\nWalk & Talk mit Tim Berresheim \n16:00 Uhr:\nDJ-Set zum Sound der 80er Jahre mit Tim Berresheim \n11:00 – 17:00 Uhr:\nvesper – The Breakfast Edition NRW: Brunch/Brinner von Marie Donike & Johannes Specks \nDer Eintritt ist frei!
URL:https://aachen-kalender.de/event/fruehling-im-museum-internationaler-museumstag-2026-im-kunsthaus-nrw/
LOCATION:Kunsthaus NRW\, Abteigarten 6\, Kornelimünster\, 52076\, Deutschland
CATEGORIES:Führungen
END:VEVENT
BEGIN:VEVENT
DTSTART;TZID=Europe/Berlin:20260531T150000
DTEND;TZID=Europe/Berlin:20260531T150000
DTSTAMP:20260423T163320
CREATED:20260409T085142Z
LAST-MODIFIED:20260409T085142Z
UID:10022153-1780239600-1780239600@aachen-kalender.de
SUMMARY:Sonntagsführung im Kunsthaus NRW.
DESCRIPTION:Jeden letzten Sonntag im Monat bietet Ihnen das Kunsthaus NRW eine kostenfreie Führung durch eine der aktuellen Ausstellungen im Kunsthaus NRW in Aachen-Kornelimünster an. \nDie Kunsthistorikerin Gabriele Teuteberg führt Sie dabei etwa 60 Minuten durch Sammlungspräsentation\, Wechselausstellung oder Skulpturengarten des Kunsthauses. Die Teilnahme ist auf maximal 25 Personen beschränkt\, eine Anmeldung ist nicht nötig\, sie treffen sich im Foyer.
URL:https://aachen-kalender.de/event/sonntagsfuehrung-im-kunsthaus-nrw-11/
LOCATION:Kunsthaus NRW\, Abteigarten 6\, Kornelimünster\, 52076\, Deutschland
CATEGORIES:Führungen
END:VEVENT
END:VCALENDAR