BEGIN:VCALENDAR
VERSION:2.0
PRODID:-//Aachen-Termine - ECPv6.15.18//NONSGML v1.0//EN
CALSCALE:GREGORIAN
METHOD:PUBLISH
X-ORIGINAL-URL:https://aachen-kalender.de
X-WR-CALDESC:Veranstaltungen für Aachen-Termine
REFRESH-INTERVAL;VALUE=DURATION:PT1H
X-Robots-Tag:noindex
X-PUBLISHED-TTL:PT1H
BEGIN:VTIMEZONE
TZID:Europe/Berlin
BEGIN:DAYLIGHT
TZOFFSETFROM:+0100
TZOFFSETTO:+0200
TZNAME:CEST
DTSTART:20240331T010000
END:DAYLIGHT
BEGIN:STANDARD
TZOFFSETFROM:+0200
TZOFFSETTO:+0100
TZNAME:CET
DTSTART:20241027T010000
END:STANDARD
BEGIN:DAYLIGHT
TZOFFSETFROM:+0100
TZOFFSETTO:+0200
TZNAME:CEST
DTSTART:20250330T010000
END:DAYLIGHT
BEGIN:STANDARD
TZOFFSETFROM:+0200
TZOFFSETTO:+0100
TZNAME:CET
DTSTART:20251026T010000
END:STANDARD
BEGIN:DAYLIGHT
TZOFFSETFROM:+0100
TZOFFSETTO:+0200
TZNAME:CEST
DTSTART:20260329T010000
END:DAYLIGHT
BEGIN:STANDARD
TZOFFSETFROM:+0200
TZOFFSETTO:+0100
TZNAME:CET
DTSTART:20261025T010000
END:STANDARD
BEGIN:DAYLIGHT
TZOFFSETFROM:+0100
TZOFFSETTO:+0200
TZNAME:CEST
DTSTART:20270328T010000
END:DAYLIGHT
BEGIN:STANDARD
TZOFFSETFROM:+0200
TZOFFSETTO:+0100
TZNAME:CET
DTSTART:20271031T010000
END:STANDARD
END:VTIMEZONE
BEGIN:VEVENT
DTSTART;TZID=Europe/Berlin:20260417T100000
DTEND;TZID=Europe/Berlin:20260417T100000
DTSTAMP:20260425T125552
CREATED:20260413T113915Z
LAST-MODIFIED:20260413T113915Z
UID:10022297-1776420000-1776420000@aachen-kalender.de
SUMMARY:Rahmenprogramm Karlspreis. "Sii dolce con me – Sei sanft mit mir".
DESCRIPTION:Der „Rheinische Verein“ lädt zum gemeinsamen Sticken des Gedichts „Mio vero“ der italienischen Lyrikerin Mariangela Gualtieri ein\, um hierdurch europäische Werte wie Achtsamkeit\, Verantwortung und Verbundenheit sichtbar zu machen. Der entstehende Wandteppich soll eine Hommage der Stadtgesellschaft an Karlspreisträger Mario Draghi sein.\n\nEintritt: frei | Anmeldung per Mail an: mvonbernuth@spectrum-aachen.de\n\nVeranstalter: Rheinischer Verein für Katholische Arbeiterkolonien e.V. in Kooperation mit Stadt Aachen und Internationaler Karlspreis\n\nDie Veranstaltung gehört zum offiziellen Rahmenprogramm der Karlspreisverleihung 2026 an den ehemaligen italienischen Ministerpräsidenten Mario Draghi.
URL:https://aachen-kalender.de/event/rahmenprogramm-karlspreis-sii-dolce-con-me-sei-sanft-mit-mir/
LOCATION:Café Wunderkammer im Suermondt-Ludwig-Musuem\, Wilhelmstraße 18\, Aachen\, 52070
CATEGORIES:Sonstiges
END:VEVENT
BEGIN:VEVENT
DTSTART;TZID=Europe/Berlin:20250905T100000
DTEND;TZID=Europe/Berlin:20250905T130000
DTSTAMP:20260425T125552
CREATED:20250805T080334Z
LAST-MODIFIED:20250805T080334Z
UID:10014716-1757066400-1757077200@aachen-kalender.de
SUMMARY:"Stickwerkstatt Wunderkammer".
DESCRIPTION:Die Frauen der Kunstwerkstatt Spectrum\, die das Café mitgestaltet haben\, laden mit der Künstlerin Vera Sous (rein-verein.de) zum gemeinsamen Sticken und der Vollendung des großen Blumenteppichs ein. Auch kleinere\, dort entstandene Blumenstickereien können an den Wänden des Cafés in Goldrahmen temporär hinterlassen werden. Bei Kaffee und Tee lassen sich in schöner Atmosphäre handwerkliche Erfahrungen austauschen. \nAlle Materialien sind vorhanden\, auch für Anfänger*innen geeignet. \nKostenfreies Angebot / keine Anmeldung notwendig
URL:https://aachen-kalender.de/event/stickwerkstatt-wunderkammer-3/
LOCATION:Café Wunderkammer im Suermondt-Ludwig-Musuem\, Wilhelmstraße 18\, Aachen\, 52070
CATEGORIES:Sonstiges
ATTACH;FMTTYPE=image/jpeg:https://aachen-kalender.de/wp-content/uploads/2024/11/SLM_Frontalansicht_Okt2008_Foto-Peter-Hinschlaeger-1-e1734430617821.jpg
END:VEVENT
BEGIN:VEVENT
DTSTART;TZID=Europe/Berlin:20250829T100000
DTEND;TZID=Europe/Berlin:20250829T130000
DTSTAMP:20260425T125552
CREATED:20250703T074231Z
LAST-MODIFIED:20250703T074238Z
UID:10013967-1756461600-1756472400@aachen-kalender.de
SUMMARY:"Stickwerkstatt Wunderkammer".
DESCRIPTION:Die Frauen der Kunstwerkstatt Spectrum\, die das Café mitgestaltet haben\, laden mit der Künstlerin Vera Sous (rein-verein.de) zum gemeinsamen Sticken und der Vollendung des großen Blumenteppichs ein. Auch kleinere\, dort entstandene Blumenstickereien können an den Wänden des Cafés in Goldrahmen temporär hinterlassen werden. Bei Kaffee und Tee lassen sich in schöner Atmosphäre handwerkliche Erfahrungen austauschen. \nAlle Materialien sind vorhanden\, auch für Anfänger*innen geeignet. \nKostenfreies Angebot / keine Anmeldung notwendig
URL:https://aachen-kalender.de/event/stickwerkstatt-wunderkammer-2/
LOCATION:Café Wunderkammer im Suermondt-Ludwig-Musuem\, Wilhelmstraße 18\, Aachen\, 52070
CATEGORIES:Sonstiges
ATTACH;FMTTYPE=image/jpeg:https://aachen-kalender.de/wp-content/uploads/2024/11/SLM_Frontalansicht_Okt2008_Foto-Peter-Hinschlaeger-1-e1734430617821.jpg
END:VEVENT
BEGIN:VEVENT
DTSTART;TZID=Europe/Berlin:20250613T100000
DTEND;TZID=Europe/Berlin:20250613T130000
DTSTAMP:20260425T125552
CREATED:20250512T140104Z
LAST-MODIFIED:20250512T140435Z
UID:10012775-1749808800-1749819600@aachen-kalender.de
SUMMARY:"Stickwerkstatt Wunderkammer".
DESCRIPTION:Die Frauen der Kunstwerkstatt Spectrum\, die das Café mitgestaltet haben\, laden mit der Künstlerin Vera Sous (rein-verein.de) zum gemeinsamen Sticken und der Vollendung des großen Blumenteppichs ein. Auch kleinere\, dort entstandene Blumenstickereien können an den Wänden des Cafés in Goldrahmen temporär hinterlassen werden. Bei Kaffee und Tee lassen sich in schöner Atmosphäre handwerkliche Erfahrungen austauschen. \nAlle Materialien sind vorhanden\, auch für Anfänger*innen geeignet. \nKostenfreies Angebot / keine Anmeldung notwendig
URL:https://aachen-kalender.de/event/stickwerkstatt-wunderkammer/
LOCATION:Café Wunderkammer im Suermondt-Ludwig-Musuem\, Wilhelmstraße 18\, Aachen\, 52070
CATEGORIES:Sonstiges
ATTACH;FMTTYPE=image/jpeg:https://aachen-kalender.de/wp-content/uploads/2024/11/SLM_Frontalansicht_Okt2008_Foto-Peter-Hinschlaeger-1-e1734430617821.jpg
END:VEVENT
END:VCALENDAR