BEGIN:VCALENDAR
VERSION:2.0
PRODID:-//Aachen-Termine - ECPv6.15.18//NONSGML v1.0//EN
CALSCALE:GREGORIAN
METHOD:PUBLISH
X-ORIGINAL-URL:https://aachen-kalender.de
X-WR-CALDESC:Veranstaltungen für Aachen-Termine
REFRESH-INTERVAL;VALUE=DURATION:PT1H
X-Robots-Tag:noindex
X-PUBLISHED-TTL:PT1H
BEGIN:VTIMEZONE
TZID:Europe/Berlin
BEGIN:DAYLIGHT
TZOFFSETFROM:+0100
TZOFFSETTO:+0200
TZNAME:CEST
DTSTART:20240331T010000
END:DAYLIGHT
BEGIN:STANDARD
TZOFFSETFROM:+0200
TZOFFSETTO:+0100
TZNAME:CET
DTSTART:20241027T010000
END:STANDARD
BEGIN:DAYLIGHT
TZOFFSETFROM:+0100
TZOFFSETTO:+0200
TZNAME:CEST
DTSTART:20250330T010000
END:DAYLIGHT
BEGIN:STANDARD
TZOFFSETFROM:+0200
TZOFFSETTO:+0100
TZNAME:CET
DTSTART:20251026T010000
END:STANDARD
BEGIN:DAYLIGHT
TZOFFSETFROM:+0100
TZOFFSETTO:+0200
TZNAME:CEST
DTSTART:20260329T010000
END:DAYLIGHT
BEGIN:STANDARD
TZOFFSETFROM:+0200
TZOFFSETTO:+0100
TZNAME:CET
DTSTART:20261025T010000
END:STANDARD
END:VTIMEZONE
BEGIN:VEVENT
DTSTART;TZID=Europe/Berlin:20251031T170000
DTEND;TZID=Europe/Berlin:20251031T213000
DTSTAMP:20260419T221313
CREATED:20260115T102045Z
LAST-MODIFIED:20260115T102045Z
UID:10019842-1761930000-1761946200@aachen-kalender.de
SUMMARY:"Alkoholfreie Undergroundparty". Für alle von 12 bis 18 Jahren.
DESCRIPTION:
URL:https://aachen-kalender.de/event/alkoholfreie-undergroundparty-fuer-alle-von-12-bis-18-jahren/
LOCATION:Apollo\, Pontstraße 141\, Aachen\, 52062\, Deutschland
CATEGORIES:Karneval
END:VEVENT
BEGIN:VEVENT
DTSTART;TZID=Europe/Berlin:20251031T170000
DTEND;TZID=Europe/Berlin:20251031T213000
DTSTAMP:20260419T221313
CREATED:20251014T151444Z
LAST-MODIFIED:20251014T151533Z
UID:10016770-1761930000-1761946200@aachen-kalender.de
SUMMARY:Undergroundparty: Feiern ohne Alkohol an Halloween.
DESCRIPTION:In der gruseligsten Nacht des Jahres ist es wieder soweit: Am Freitag\, 31. Oktober\, sind alle über 12 und unter 18 Jahren zur alkoholfreien Undergroundparty ins Apollo-Kino\, Pontstraße 141-149\, eingeladen. \nWie bei den Undergroundpartys des städtischen Fachbereichs Jugend und Schule üblich: Eintritt und Garderobe sind frei\, Getränke kosten 1 Euro und alkoholfreie Cocktails 2\,50 Euro. Und: Ein professioneller Sicherheitsdienst sorgt für einen stressfreien Abend.
URL:https://aachen-kalender.de/event/undergroundparty-feiern-ohne-alkohol-an-halloween/
LOCATION:Apollo\, Pontstraße 141\, Aachen\, 52062\, Deutschland
CATEGORIES:Party
END:VEVENT
BEGIN:VEVENT
DTSTART;TZID=Europe/Berlin:20251023T180000
DTEND;TZID=Europe/Berlin:20251023T180000
DTSTAMP:20260419T221313
CREATED:20250903T082419Z
LAST-MODIFIED:20250923T112625Z
UID:10015397-1761242400-1761242400@aachen-kalender.de
SUMMARY:CINEvhs global. "Kill The Jockey".
DESCRIPTION:Remo Manfredini (Nahuel Pérez Biscayart) ist ein erfolgreicher Jockey\, aber sein selbstzerstörerisches Verhalten beginnt\, sein Talent in den Schatten zu stellen und seine Beziehung zu seiner Freundin Abril (Úrsula Corberó) zu gefährden. Ausgerechnet am Tag des wichtigsten Rennens seiner Karriere\, hat er einen schweren Unfall und verschwindet aus dem Krankenhaus. Dabei sollte das Rennen ihm dabei helfen\, endlich aus der Schuldenfalle der Mafia herauszukommen. Stattdessen irrt er nun orientierungslos und seiner Identität beraubt durch die Stadt. Doch nach und nach beginnt er zu entdecken\, wer er wirklich ist. Dass er in großer Gefahr ist und Leute angefangen haben nach ihm zu suchen\, ist ihm allerdings nicht bewusst.
URL:https://aachen-kalender.de/event/cinevhs-global-kill-the-jockey/
LOCATION:Apollo\, Pontstraße 141\, Aachen\, 52062\, Deutschland
CATEGORIES:Sonstiges
ATTACH;FMTTYPE=image/jpeg:https://aachen-kalender.de/wp-content/uploads/2025/07/CINEvhs-global-by-Evangelos-Rodoulis-vhs-Aachen-scaled-e1754393279536.jpg
END:VEVENT
BEGIN:VEVENT
DTSTART;TZID=Europe/Berlin:20251021T180000
DTEND;TZID=Europe/Berlin:20251021T180000
DTSTAMP:20260419T221313
CREATED:20250902T082755Z
LAST-MODIFIED:20250902T082755Z
UID:10015358-1761069600-1761069600@aachen-kalender.de
SUMMARY:vhs Aachen. "Aachen '44 - Ein Film über die letzten Kriegsmonate in Aachen"
DESCRIPTION:Am 21. Oktober 1944 ergaben sich die deutschen Streitkräfte der 1. US-Division. Nach Wochen der Kämpfe war die Stadt sinnlos zerstört worden. Als die Schlacht beendet war\, lebten noch 6.000 Aachener*innen in ihrer Stadt. \nDie Dokumentation beschreibt mit Hilfe von Aufnahmen aus deutschen\, amerikanischen\, englischen und kanadischen Archiven die Kriegsjahre 1944 und 1945 und die Zerstörungen in der traditionsreichen Stadt Aachen. Der Verlauf der grausamen Häuserkämpfe\, die prekäre Lage der Zivilbevölkerung in Kellern und Bunkern und die sinnlosen Endkriegszeitverbrechen stehen sinnbildlich für die Schrecken des Krieges.
URL:https://aachen-kalender.de/event/vhs-aachen-aachen-44-ein-film-ueber-die-letzten-kriegsmonate-in-aachen/
LOCATION:Apollo\, Pontstraße 141\, Aachen\, 52062\, Deutschland
CATEGORIES:Sonstiges
END:VEVENT
BEGIN:VEVENT
DTSTART;TZID=Europe/Berlin:20251016T170000
DTEND;TZID=Europe/Berlin:20251016T170000
DTSTAMP:20260419T221313
CREATED:20250902T062523Z
LAST-MODIFIED:20250917T123055Z
UID:10015314-1760634000-1760634000@aachen-kalender.de
SUMMARY:"Ai Weiweis Turandot". Dokumentarfilm.
DESCRIPTION:AI WEIWEIS TURANDOT begleitet das Regiedebüt des chinesischen Künstlers in Puccinis Oper am Opernhaus Rom. Der Dokumentarfilm zeigt\, wie Weiwei seine künstlerische Vision und seinen Aktivismus in eine außergewöhnliche Inszenierung einbringt. Mit exklusiven Einblicken hinter die Kulissen verschmelzen Oper\, Kunst und politische Botschaft zu einem starken Plädoyer für Freiheit und Menschenrechte. \n  \nDetails zum Kartenverkauf: https://apollo-aachen.de/
URL:https://aachen-kalender.de/event/ai-wieweis-turandot-dokumentarfilm/
LOCATION:Apollo\, Pontstraße 141\, Aachen\, 52062\, Deutschland
CATEGORIES:Sonstiges
ATTACH;FMTTYPE=image/png:https://aachen-kalender.de/wp-content/uploads/2025/09/68b5b7b531f8a-736qhC-e1756794282144.png
END:VEVENT
BEGIN:VEVENT
DTSTART;TZID=Europe/Berlin:20251014T200000
DTEND;TZID=Europe/Berlin:20251014T200000
DTSTAMP:20260419T221313
CREATED:20250909T115212Z
LAST-MODIFIED:20250909T115251Z
UID:10015605-1760472000-1760472000@aachen-kalender.de
SUMMARY:Best of Poetry-Slam.
DESCRIPTION:Kabarett\, Comedy und feinste Poesie\, alles an einem Abend?! Poetry Slam macht‘s möglich. Nicht umsonst steht das Format\, das 2016 zum UNESCO Kulturerbe erklärt wurde\, für eine Spannweite von brüllend komischen Storys über rasante Lyrik bis hin zu politischem Witz und emotionalen Erzählungen. \nDoch damit nicht genug: beim Poetry Slam wird die Show zum Wettkampf! Sieben Minuten haben die Auftretenden jeweils Zeit\, um euch – das Publikum – von ihren Texten zu überzeugen. Ihr stimmt ab und entscheidet darüber\, wen ihr ein weiteres Mal auf der Bühne sehen wollt. Die Regeln für die Auftretenden sind simpel: die Texte müssen selbst geschrieben sein und ohne Requisiten oder Musik auskommen. \nEgal\, wer den Kinosaal am Ende als Sieger*in verlässt\, meisterlich wird es allemal. Schließlich begrüßen die Moderatoren Oscar Malinowski und Lukas Knoben vier der besten Slam Poet*innen des deutschsprachigen Raums im Apollo Kino. \n 
URL:https://aachen-kalender.de/event/best-of-poetry-slam-5/
LOCATION:Apollo\, Pontstraße 141\, Aachen\, 52062\, Deutschland
CATEGORIES:Kleinkunst
END:VEVENT
BEGIN:VEVENT
DTSTART;TZID=Europe/Berlin:20250925T180000
DTEND;TZID=Europe/Berlin:20250925T180000
DTSTAMP:20260419T221313
CREATED:20250723T124004Z
LAST-MODIFIED:20250805T112927Z
UID:10014437-1758823200-1758823200@aachen-kalender.de
SUMMARY:CINEvhs global. "Capernaum – Stadt ohne Hoffnung".
DESCRIPTION:In der Reihe CINEvhs global werden Filme aus verschiedenen Ländern des „Globalen Südens“ gezeigt\, die packende\, berührende und visionäre Geschichten erzählen – und neue Blicke auf die Welt öffnen. Die Reihe findet jeden vierten Donnerstag im Monat in Kooperation mit dem Apollo Kino statt und beginnt mit dem Film „Capernaum – Stadt ohne Hoffnung“. Das Leben des jungen Libanesen Zain (Zain Al Rafeea) ist chaotisch. Denn der 12-Jährige (zumindest wird er auf dieses Alter geschätzt) sitzt schon im Gefängnis. Es wird ihm vorgeworfen\, jemanden niedergestochen zu haben. Nun verbüßt er seine Strafe in einer Jugendhaftanstalt in Beirut. Seine Eltern (Kawthar Al Haddad und Fadi Kamel Youssef) sieht er vor Gericht wieder\, aber nicht\, weil sie gekommen sind\, um ihren Sohn zu unterstützen\, sondern weil Zain sie verklagt hat. Der Grund: Sie haben ihn in diese Welt gesetzt. Nun will er verhindern\, dass seine Eltern weitere Kinder bekommen\, die auch in diese schreckliche Welt voller Chaos und Krieg hineingeboren werden. Also schildert Zain dem Richter seine dramatischen Lebensumstände und lässt dabei kein Detail aus. Er erzählt von seiner großen Familie\, die unter ärmsten Bedingungen auf wenigen Quadratmetern miteinander lebt und er erzählt davon\, wie sein Vater eines Tages Zains geliebte Schwester Sahar (Haita Izam) verkaufte… \nTickets zu 8 € /erm. 6 € sind über das Apollo Kino erhältlich
URL:https://aachen-kalender.de/event/cinevhs-global-capernaum-stadt-ohne-hoffnung/
LOCATION:Apollo\, Pontstraße 141\, Aachen\, 52062\, Deutschland
CATEGORIES:Sonstiges
ATTACH;FMTTYPE=image/jpeg:https://aachen-kalender.de/wp-content/uploads/2025/07/CINEvhs-global-by-Evangelos-Rodoulis-vhs-Aachen-scaled-e1754393279536.jpg
END:VEVENT
BEGIN:VEVENT
DTSTART;TZID=Europe/Berlin:20250816T213000
DTEND;TZID=Europe/Berlin:20250816T213000
DTSTAMP:20260419T221313
CREATED:20250704T080936Z
LAST-MODIFIED:20250704T081337Z
UID:10014004-1755379800-1755379800@aachen-kalender.de
SUMMARY:Filmfest Aachen 2025 - CINEMA OBSCURA. "Spurlos verschwunden - The Vanishing". Nied. OmU.
DESCRIPTION:Es geschieht am helllichten Tag: Während eines kurzen Halts an einer Autobahnraststätte verschwindet die junge Saskia (Johanna ter Steege) spurlos. Von einer Kassiererin erfährt ihr Freund Rex (Gene Bervoets)\, dass Saskia zuletzt in Begleitung eines Mannes gesehen wurde; doch obwohl die Polizei in den folgenden Tagen die Ermittlungen aufnimmt\, bleibt die Suche letztlich erfolglos. Für Rex vergehen drei verzweifelte Jahre\, in denen ihn die Erinnerung an Saskia nicht loslässt – bis sich eines Tages ein geheimnisvoller Fremder (Bernard-Pierre Donnadieu) meldet\, der behauptet zu wissen\, was mit Saskia geschehen ist. \nDas Drehbuch des markerschütternden Thrillers unter der Regie von George Sluizer („Dark Blood“\, „Liebe ohne Skrupel“\, „Der Commissioner“) basiert auf dem Roman „Het Gouden Ei“ (1984) des niederländischen Schriftstellers Tim Krabbé. Die Schauspielerin Johanna ter Steege wurde für ihre Darstellung der Saskia mit dem Europäischen Filmpreis als Beste Nebendarstellerin ausgezeichnet. Beim Nederlands Film Festival 1988 erhielt SPOORLOS die Auszeichnung für den Besten Film sowie den Preis der niederländischen Filmkritik. \n  \nHorror\, B-Movies und hidden gems: Diese Filmreihe zeigt ausgewählte Schätze des abseitigen\, kultigen und skurrilen Kinos. \nEine Veranstaltung vom Filmfest Aachen in Kooperation mit dem Apollo Kino.
URL:https://aachen-kalender.de/event/filmfest-aachen-2025-cinema-obscura-spurlos-verschwunden-the-vanishing-nied-omu/
LOCATION:Apollo\, Pontstraße 141\, Aachen\, 52062\, Deutschland
CATEGORIES:Sonstiges
END:VEVENT
BEGIN:VEVENT
DTSTART;TZID=Europe/Berlin:20250617T180000
DTEND;TZID=Europe/Berlin:20250617T180000
DTSTAMP:20260419T221313
CREATED:20250513T140611Z
LAST-MODIFIED:20250513T141325Z
UID:10012825-1750183200-1750183200@aachen-kalender.de
SUMMARY:Rahmenprogramm zum 39. Aachener Weltfest. "Ich Capitano". Film.
DESCRIPTION:Ein berührender und aufrüttelnder Film über die Hoffnung auf ein besseres Leben. \nDie beiden Teenager Seydou und Moussa aus dem Senegal teilen einen Traum: Sie wollen in Europa leben und als Musiker berühmt werden. So schlagen sie alle Warnungen in den Wind und machen sich auf den Weg nach Italien. Doch der Roadtrip\, der als aufregendes Abenteuer beginnt\, entpuppt sich bald als gefährliche Odyssee durch die lebensfeindliche Wüste\, libysche Gefängnisse und schließlich das Mittelmeer. Die beiden Freunde müssen nicht mehr nur für ihren Traum kämpfen\, sondern auch um ihr Überleben. \nGastreferentin: Inge Heck-Böckler\, Amnesty International\, Save me Aachen\nModeration: Birgit Esser\, Filmwissenschaftlerin M.A. \n  \n\nDer Eintritt ist frei.\nSpende erbeten.
URL:https://aachen-kalender.de/event/rahmenprogramm-zum-weltfest-ich-capitano-film/
LOCATION:Apollo\, Pontstraße 141\, Aachen\, 52062\, Deutschland
CATEGORIES:Sonstiges
END:VEVENT
BEGIN:VEVENT
DTSTART;TZID=Europe/Berlin:20250519T193000
DTEND;TZID=Europe/Berlin:20250519T193000
DTSTAMP:20260419T221313
CREATED:20250513T135210Z
LAST-MODIFIED:20250513T135440Z
UID:10012823-1747683000-1747683000@aachen-kalender.de
SUMMARY:Film. "Deutscher Filmpreis Gewinner PETRA KELLY - ACT NOW!". Mit anschließendem Gespräch mit Carola Rakete.
DESCRIPTION:Mit über 30.000 KinobesucherInnen und aktuell mit der Auszeichnung des Deutschen Filmpreises 2025 hat der Dokumentarfilm PETRA KELLY – ACT NOW! bereits eine breite Öffentlichkeit bewegt. In der von der Film- und Medienstiftung NRW initiierten Reihe „Spot on“ wird der Film gezeigt gemeinsam mit der Produktionsfirma Bildersturm und Regisseurin Doris Metz in Aachen im Apollo Kino mit anschließendem Gespräch über Politik\, Aktivismus und gesellschaftliche Verantwortung u. a. mit Carola Rakete\, Aktivistin\, Seenotretterin und seit 2024 Abgeordnete im Europäischen Parlament.
URL:https://aachen-kalender.de/event/film-deutscher-filmpreis-gewinner-petra-kelly-act-now-mit-anschliessendem-gespraech-mit-carola-rakete/
LOCATION:Apollo\, Pontstraße 141\, Aachen\, 52062\, Deutschland
CATEGORIES:Sonstiges
ATTACH;FMTTYPE=image/jpeg:https://aachen-kalender.de/wp-content/uploads/2025/05/68232d7670621-e1747144311947.jpg
END:VEVENT
BEGIN:VEVENT
DTSTART;TZID=Europe/Berlin:20250517T230000
DTEND;TZID=Europe/Berlin:20250517T230000
DTSTAMP:20260419T221313
CREATED:20250403T155823Z
LAST-MODIFIED:20250423T103828Z
UID:10011853-1747522800-1747522800@aachen-kalender.de
SUMMARY:"20 Jahre Aachener Engel". Jubiläumsparty
DESCRIPTION:Der Verein Aachener Engel feiert am Samstag\, 17. Mai\, sein 20-jähriges Bestehen – und lädt herzlich zur Jubiläumsfeier ins Apollo an der Pontstraße ein. Um 19.30 Uhr beginnt der Abend mit einem Empfang für geladene Gäste. Ab 23 Uhr startet die große Party – offen für alle – im gesamten Apollo. Der Verein wurde 2005 von Martin Lücker gegründet und unterstützt seitdem Menschen in Notlagen in der Region Aachen –unbürokratisch\, ehrenamtlich und mit viel Herz. Auch präventive Angebote für benachteiligte Jugendliche gehören seit 2009 zum festen\nBestandteil der Arbeit. Ein Abend zum Feiern\, Erinnern und Danke sagen – an alle\, die den Weg der Aachener Engel begleitet haben. Infos unter aachener-engel.de.
URL:https://aachen-kalender.de/event/20-jahre-aachener-engel-e-v-jubilaeumsveranstaltung/
LOCATION:Apollo\, Pontstraße 141\, Aachen\, 52062\, Deutschland
CATEGORIES:Sonstiges
ATTACH;FMTTYPE=image/png:https://aachen-kalender.de/wp-content/uploads/2025/04/Aachener-Engel-e.V.-3-e1743696016448.png
END:VEVENT
BEGIN:VEVENT
DTSTART;TZID=Europe/Berlin:20250415T200000
DTEND;TZID=Europe/Berlin:20250415T200000
DTSTAMP:20260419T221313
CREATED:20250306T085017Z
LAST-MODIFIED:20250306T085143Z
UID:10011035-1744747200-1744747200@aachen-kalender.de
SUMMARY:Best of Poetry-Slam.
DESCRIPTION:Kabarett\, Comedy und feinste Poesie\, alles an einem Abend?! Poetry-Slam macht‘s möglich.\nNicht umsonst steht das Format\, das 2016 zum UNESCO Kulturerbe erklärt wurde\, für eine\nSpannweite von brüllend komischen Storys über rasante Lyrik bis hin zu politischem Witz\nund emotionalen Erzählungen.\nDoch damit nicht genug: beim Poetry-Slam wird die Show zum Wettkampf! Sieben Minuten\nhaben die Auftretenden jeweils Zeit\, um euch – das Publikum – von ihren Texten zu\nüberzeugen. Ihr stimmt ab und entscheidet darüber\, wen ihr ein weiteres Mal auf der Bühne\nsehen wollt. Die Regeln für die Auftretenden sind simpel: Die Texte müssen selbst\ngeschrieben sein und ohne Requisiten oder Musik auskommen.\nEgal\, wer den Kinosaal am Ende als Sieger*in verlässt\, meisterlich wird es allemal.\nSchließlich begrüßen die Moderatoren Oscar Malinowski und Lukas Knoben vier der besten\nSlam Poet*innen des deutschsprachigen Raums im Apollo Kino.
URL:https://aachen-kalender.de/event/best-of-poetry-slam-4/
LOCATION:Apollo\, Pontstraße 141\, Aachen\, 52062\, Deutschland
CATEGORIES:Kleinkunst
END:VEVENT
END:VCALENDAR