BEGIN:VCALENDAR
VERSION:2.0
PRODID:-//Aachen-Termine - ECPv6.15.18//NONSGML v1.0//EN
CALSCALE:GREGORIAN
METHOD:PUBLISH
X-ORIGINAL-URL:https://aachen-kalender.de
X-WR-CALDESC:Veranstaltungen für Aachen-Termine
REFRESH-INTERVAL;VALUE=DURATION:PT1H
X-Robots-Tag:noindex
X-PUBLISHED-TTL:PT1H
BEGIN:VTIMEZONE
TZID:Europe/Berlin
BEGIN:DAYLIGHT
TZOFFSETFROM:+0100
TZOFFSETTO:+0200
TZNAME:CEST
DTSTART:20250330T010000
END:DAYLIGHT
BEGIN:STANDARD
TZOFFSETFROM:+0200
TZOFFSETTO:+0100
TZNAME:CET
DTSTART:20251026T010000
END:STANDARD
BEGIN:DAYLIGHT
TZOFFSETFROM:+0100
TZOFFSETTO:+0200
TZNAME:CEST
DTSTART:20260329T010000
END:DAYLIGHT
BEGIN:STANDARD
TZOFFSETFROM:+0200
TZOFFSETTO:+0100
TZNAME:CET
DTSTART:20261025T010000
END:STANDARD
BEGIN:DAYLIGHT
TZOFFSETFROM:+0100
TZOFFSETTO:+0200
TZNAME:CEST
DTSTART:20270328T010000
END:DAYLIGHT
BEGIN:STANDARD
TZOFFSETFROM:+0200
TZOFFSETTO:+0100
TZNAME:CET
DTSTART:20271031T010000
END:STANDARD
END:VTIMEZONE
BEGIN:VEVENT
DTSTART;TZID=Europe/Berlin:20260419T174500
DTEND;TZID=Europe/Berlin:20260419T174500
DTSTAMP:20260419T162328
CREATED:20260413T115442Z
LAST-MODIFIED:20260413T115620Z
UID:10022300-1776620700-1776620700@aachen-kalender.de
SUMMARY:Rahmenprogramm Karlspreis. "Italien zu Gast im Kino: Morgen ist auch noch ein Tag". Film.
DESCRIPTION:Der italienische Filmtag lädt dazu ein\, die Kultur und Filmkunst Italiens zu entdecken und zu feiern. An diesem Kino-Sonntag stehen zwei besondere Werke des italienischen Kinos auf dem\nProgramm: ein zeitloser Klassiker und ein preisgekrönter Publikumserfolg der Gegenwart.\n15.00 Uhr sehen sie Federico Fellinis Meisterwerk „8 1/2“. Der Film erzählt von einem Regisseur in einer kreativen und persönlichen Krise und gilt mit seiner poetischen Bildsprache und surrealen Erzählweise als einer der einflussreichsten Filme der europäischen Filmgeschichte.\n17.45 Uhr folgt „Morgen ist auch noch ein Tag“ (C’è ancora domani)\, einer der erfolgreichsten italienischen Filme der letzten Jahre. Der Film erzählt die Geschichte von Delia im Rom der Nachkriegszeit\, die sich gegen ihren gewalttätigen Ehemann und ein repressives Patriarchat auflehnt\, um den Weg in ein selbstbestimmtes Leben zu finden.\n\n\n\n\n\n\n\n\n\n\nEintritt: 7\,50 € | Tickets: https://apollo-aachen.de/kino/\n\nVeranstalter: Apollo Kino & Bar in Kooperation mit Internationaler Karlspreis\, Stadt Aachen\n\nDie Veranstaltung gehört zum offiziellen Rahmenprogramm der Karlspreisverleihung 2026 an den ehemaligen italienischen Ministerpräsidenten Mario Draghi.
URL:https://aachen-kalender.de/event/rahmenprogramm-karlspreis-italien-zu-gast-im-kino-morgen-ist-auch-noch-ein-tag-film/
LOCATION:Apollo\, Pontstraße 141\, Aachen\, 52062\, Deutschland
CATEGORIES:Sonstiges
END:VEVENT
BEGIN:VEVENT
DTSTART;TZID=Europe/Berlin:20260423T180000
DTEND;TZID=Europe/Berlin:20260423T180000
DTSTAMP:20260419T162328
CREATED:20260302T100705Z
LAST-MODIFIED:20260302T100934Z
UID:10020886-1776967200-1776967200@aachen-kalender.de
SUMMARY:CINEvhs global. "Little Trouble Girls". NEUER TERMIN!
DESCRIPTION:Die introvertierte 16-jährige Lucija tritt dem Mädchenchor ihrer katholischen Schule bei und schließt dort Freundschaft mit der beliebten und leichtherzigen Ana Maria. Als der Chor für ein intensives Probenwochenende in ein Kloster auf dem Land fährt\, weckt ein vor Ort tätiger Restaurator Lucijas Interesse und sie ist bereit\, die Freundschaft mit Ana Maria und den anderen Mädchen aufs Spiel zu setzen. Angesichts der ungewohnten Umgebung und ihrer erwachenden Sexualität beginnt Lucija\, ihren Glauben und ihre Werte infrage zu stellen. Neue Triebe brechen sich Bahn. Die Harmonie im Chor zerbricht.\nSlowenien\, 2026\, Regie: Urška Djukić\, Länge: 89 Minuten \n\nTickets unter www.apollo-aachen.de
URL:https://aachen-kalender.de/event/cinevhs-global-little-trouble-girls-neuer-termin/
LOCATION:Apollo\, Pontstraße 141\, Aachen\, 52062\, Deutschland
CATEGORIES:Sonstiges
ATTACH;FMTTYPE=image/jpeg:https://aachen-kalender.de/wp-content/uploads/2025/07/CINEvhs-global-by-Evangelos-Rodoulis-vhs-Aachen-scaled-e1754393279536.jpg
END:VEVENT
BEGIN:VEVENT
DTSTART;TZID=Europe/Berlin:20260507T180000
DTEND;TZID=Europe/Berlin:20260507T180000
DTSTAMP:20260419T162328
CREATED:20260402T082612Z
LAST-MODIFIED:20260402T082612Z
UID:10021921-1778176800-1778176800@aachen-kalender.de
SUMMARY:vhs Aachen. "Marc Sagnol: Die Wasser des Bug". Film.
DESCRIPTION:Der anlässlich des 100. Geburtstags von Paul Celan erschienene Film „Les eaux du Boug“ von Marc Sagnol beginnt mit einer Initiationsreise durch ein Land namens Podolien\, das vom südlichen Bug durchquert wird. Während des 2. Weltkriegs wurde dieses Land\, das heute zur Ukraine gehört\, Transnistrien genannt und war der Ort der Deportation der jüdischen Bevölkerung von Rumänien. Der Film rekonstruiert die Reiseroute der Deportierten\, insbesondere der Eltern Paul Celans\, von Czernowitz (Bukowina) nach Michailowka am Ufer des Bug. \nDokumentarfilm\, Deutschland-Frankreich\, 2020\, 85 min OmU\nOriginalsprachen: Französisch\, Deutsch\, Russisch\, Ukrainisch\, Jiddisch\, Rumänisch. \nIm Anschluss findet ein Gespräch mit dem Regisseur statt\, es moderiert Arndt Lorenz\, freier Journalist. \n\nTickets unter www.apollo-aachen.de
URL:https://aachen-kalender.de/event/vhs-aachen-marc-sagnol-die-wasser-des-bug-film/
LOCATION:Apollo\, Pontstraße 141\, Aachen\, 52062\, Deutschland
CATEGORIES:Sonstiges
END:VEVENT
BEGIN:VEVENT
DTSTART;TZID=Europe/Berlin:20260528T180000
DTEND;TZID=Europe/Berlin:20260528T180000
DTSTAMP:20260419T162328
CREATED:20260402T083609Z
LAST-MODIFIED:20260402T083849Z
UID:10021923-1779991200-1779991200@aachen-kalender.de
SUMMARY:CINEvhs global. "Calle Málaga - Ein Zuhause in Tanger". Film.
DESCRIPTION:María Ángeles\, 79 Jahre alt\, lebt seit Jahrzehnten im spanischen Viertel von Tanger. Ihre Wohnung in der Calle Málaga\, gefüllt mit Erinnerungen\, Blumen und alten Möbelstücken\, ist für sie weit mehr als ein Zuhause. Vom Balkon aus verfolgt sie das geschäftige Leben der Straßen\, in denen Vergangenheit und Gegenwart ineinanderfließen. Als ihre Tochter Clara jedoch den Entschluss fasst\, die Wohnung zu verkaufen\, steht María Ángeles vor einer entscheidenden Veränderung. Ein Umzug in ein Seniorenheim kommt für sie nicht infrage. Mit Einfallsreichtum und unbeirrbarem Willen setzt sie alles daran\, ihre vier Wände zu bewahren. Unerwartet eröffnet dieser Widerstand neue Begegnungen\, weckt Lebensfreude und bringt eine Liebe zurück\, die längst verloren schien.\nMarokko\, 2025. Regie: Maryam Touzani\, Länge: 116 Minuten \n  \n\nTickets unter www.apollo-aachen.de
URL:https://aachen-kalender.de/event/cinevhs-global-calle-malaga-ein-zuhause-in-tanger-film/
LOCATION:Apollo\, Pontstraße 141\, Aachen\, 52062\, Deutschland
CATEGORIES:Sonstiges
ATTACH;FMTTYPE=image/jpeg:https://aachen-kalender.de/wp-content/uploads/2025/07/CINEvhs-global-by-Evangelos-Rodoulis-vhs-Aachen-scaled-e1754393279536.jpg
END:VEVENT
END:VCALENDAR