BEGIN:VCALENDAR
VERSION:2.0
PRODID:-//Aachen-Termine - ECPv6.15.18//NONSGML v1.0//EN
CALSCALE:GREGORIAN
METHOD:PUBLISH
X-WR-CALNAME:Aachen-Termine
X-ORIGINAL-URL:https://aachen-kalender.de
X-WR-CALDESC:Veranstaltungen für Aachen-Termine
REFRESH-INTERVAL;VALUE=DURATION:PT1H
X-Robots-Tag:noindex
X-PUBLISHED-TTL:PT1H
BEGIN:VTIMEZONE
TZID:Europe/Berlin
BEGIN:DAYLIGHT
TZOFFSETFROM:+0100
TZOFFSETTO:+0200
TZNAME:CEST
DTSTART:20250330T010000
END:DAYLIGHT
BEGIN:STANDARD
TZOFFSETFROM:+0200
TZOFFSETTO:+0100
TZNAME:CET
DTSTART:20251026T010000
END:STANDARD
BEGIN:DAYLIGHT
TZOFFSETFROM:+0100
TZOFFSETTO:+0200
TZNAME:CEST
DTSTART:20260329T010000
END:DAYLIGHT
BEGIN:STANDARD
TZOFFSETFROM:+0200
TZOFFSETTO:+0100
TZNAME:CET
DTSTART:20261025T010000
END:STANDARD
BEGIN:DAYLIGHT
TZOFFSETFROM:+0100
TZOFFSETTO:+0200
TZNAME:CEST
DTSTART:20270328T010000
END:DAYLIGHT
BEGIN:STANDARD
TZOFFSETFROM:+0200
TZOFFSETTO:+0100
TZNAME:CET
DTSTART:20271031T010000
END:STANDARD
END:VTIMEZONE
BEGIN:VEVENT
DTSTART;TZID=Europe/Berlin:20260903T140000
DTEND;TZID=Europe/Berlin:20260903T150000
DTSTAMP:20260419T162353
CREATED:20260408T101725Z
LAST-MODIFIED:20260408T104925Z
UID:10022096-1788444000-1788447600@aachen-kalender.de
SUMMARY:"Die Förderung ist da - und nun? Verwendungsnachweis und Sachbericht mit Hilfe von KI-Tools".
DESCRIPTION:Sie haben eine oder mehrere Förderungen erhalten – und jetzt? Wie geht es weiter? Was erwarten die Fördermittelgeber und wie erstellen Sie einen Verwendungsnachweis\, so dass er Ihnen noch genug Zeit für die Arbeit mit den Menschen im Projekt und die persönliche Pflege der Kontakte zum Geber oder zu den Gebern lässt? Hier können KI-Tools wie ChatGPT\, Mistral LeChat\, Claude.ai\, Googles Gemini und NotebookLM helfen. Ob Ideen\, wie Sie Ihr Projekt verstetigen und Strukturen sichern können\, auch wenn die Förderung ausgelaufen ist\, oder originelle Möglichkeiten\, den Sachbericht zu gestalten: In dieser Sprechstunde erfahren Sie\, wie KI-Tools die Beziehungsarbeit und das Danke-Sagen nach der Bewilligung Ihres Förderantrags erleichtern. Referentin Christine Gedigas Leidenschaft sind Text und Sprache. Mit dieser Expertise begleitet sie seit 2007 Gemeinnützige im Fundraising und der Öffentlichkeitsarbeit. Seit ChatGPTs öffentlicher Geburt experimentiert sie mit LLMs (Large Language Models) und arbeitet mit KI zusammen\, um die besten Ergebnisse für die Spendenakquise und die Öffentlichkeitsarbeit zu erzielen. \nOnline – via Zoom
URL:https://aachen-kalender.de/event/die-foerderung-ist-da-und-nun-verwendungsnachweis-und-sachbericht-mit-hilfe-von-ki-tools/
LOCATION:Online
CATEGORIES:Sonstiges
END:VEVENT
BEGIN:VEVENT
DTSTART;TZID=Europe/Berlin:20260903T140000
DTEND;TZID=Europe/Berlin:20260903T153000
DTSTAMP:20260419T162353
CREATED:20250203T155557Z
LAST-MODIFIED:20260323T124140Z
UID:10021431-1788444000-1788449400@aachen-kalender.de
SUMMARY:"Altstadtführung".
DESCRIPTION:Bei diesem abwechslungsreichen Rundgang durch die Aachener Altstadt lernen die Teilnehmer Aachen mit allen Facetten kennen: Als moderne Stadt mit schönen historischen Bürgerhäusern\, vielen alten und neuen Brunnen sowie unzähligen Erzählungen rund um Dom und Rathaus. Eine Führung\, bei der die 2000 Jahre alte Aachener Geschichte lebendig wird. \nEine vorherige Buchung wird empfohlen. \nKosten: Erwachsene 12\,00 Euro\, Schüler bis 17 Jahre 5\,50 Euro
URL:https://aachen-kalender.de/event/altstadtfuehrung-322/2026-09-03/
LOCATION:Tourist Info\, Elisenbrunnen\, Friedrich-Wilhelm-Platz\, Aachen\, 52062\, Deutschland
CATEGORIES:Führungen
ATTACH;FMTTYPE=image/png:https://aachen-kalender.de/wp-content/uploads/2024/12/Altstadtfuehrung_ats.png
END:VEVENT
BEGIN:VEVENT
DTSTART;TZID=Europe/Berlin:20260903T160000
DTEND;TZID=Europe/Berlin:20260903T220000
DTSTAMP:20260419T162353
CREATED:20260409T144808Z
LAST-MODIFIED:20260416T134403Z
UID:10022218-1788451200-1788472800@aachen-kalender.de
SUMMARY:"Spät am Markt". Feierabendmarkt.
DESCRIPTION:Feines Flair am Markt mit Marktständen\, Foodtrucks\, Livemusik & DJs. Von Mai bis Oktober kommt der Feierabendmarkt einmal im Monat mit wechselnden Angeboten auf den Marktplatz. Vor der eindrucksvollen Kulisse des historischen Rathauses verwandelt er sich in einen stimmungsvollen Ort voller Genuss\, Begegnung und Lebensfreude. Kommt vorbei!
URL:https://aachen-kalender.de/event/spaet-am-markt-feierabendmarkt-3/2026-09-03/
LOCATION:Aachener Marktplatz\, Markt\, Aachen\, NRW\, 52058\, Germany
CATEGORIES:Markt/Messe
END:VEVENT
BEGIN:VEVENT
DTSTART;TZID=Europe/Berlin:20260903T170000
DTEND;TZID=Europe/Berlin:20260903T220000
DTSTAMP:20260419T162353
CREATED:20260409T144049Z
LAST-MODIFIED:20260409T144049Z
UID:10022213-1788454800-1788472800@aachen-kalender.de
SUMMARY:Eilendorfer After Work Markt.
DESCRIPTION:Der Eilendorfer After Work Markt geht 2026 in die nächste Runde – und bringt den Moritz-Braun-Park wieder zum Leben! Freut euch auf entspannte Abende in lockerer Atmosphäre mit Meet & Greet\, leckerem Essen\, kühlen Getränken und guter Stimmung. \nOb mit Kolleginnen und Kollegen direkt nach der Arbeit oder mit Freunden und Familie – hier trifft sich Eilendorf.
URL:https://aachen-kalender.de/event/eilendorfer-after-work-markt-4/2026-09-03/
LOCATION:Moritz-Braun-Park\, Eilendorf\, 52080
CATEGORIES:Markt/Messe
END:VEVENT
BEGIN:VEVENT
DTSTART;TZID=Europe/Berlin:20260903T190000
DTEND;TZID=Europe/Berlin:20260903T190000
DTSTAMP:20260419T162353
CREATED:20251124T095002Z
LAST-MODIFIED:20260303T101636Z
UID:10017978-1788462000-1788462000@aachen-kalender.de
SUMMARY:Chris Tall & Ingmar Stadelmann. "Comedy for Hope".
DESCRIPTION:Lachen und dabei Gutes tun – dieses tolle Konzept haben die beliebten Comedians Chris Tall und Ingmar Stadelmann bereits in den vergangenen fünf Jahren mit ihrer „Comedy For Hope“-Show verwirklicht. Auch im Sommer 2026 zielen die beiden erneut auf die Lachmuskeln und die Herzen ihres Publikums. Dazu haben sie wieder zahlreiche handverlesene Comedians eingeladen. Der Erlös des Abends geht wie immer einem karitativen Zweck zu. Wer also beides mag – Humor und Hilfsbereitschaft –\, kommt am Donnerstag\, 3. September 2026\, auf Burg Wilhelmstein Würselen voll auf seine Kosten. \nMit Ingmar Stadelmann und Chris Tall treten zwei Gewinner des Deutschen Comedy-Preises an\, um die Zuschauer für den guten Zweck zum Lachen zu bringen. Diese beiden sowie alle sonstigen Beteiligten\, sowohl die weiteren Künstler als auch Mitwirkende im Hintergrund\, arbeiten unentgeltlich bei diesem schönen Projekt mit. \nDas Line-up des Comedy-Benefiz-Abends steht nun fest und lässt nichts zu wünschen übrig. Neben den beiden Gastgebern Chris Tall und Ingmar Stadelmann treten drei echte Schwergewichte der deutschen Comedy-Szene auf: Herr Schröder\, Mensch gewordener Overhead-Projektor und Deutschlands lustigster Deutschlehrer\, Tutty Tran\, „Deutschlands be sowie Johann König\, Meister des ausschweifenden Minimalismus. Und schließlich nutzt Newcomerin Mareike Richter Stand-up als Ventil für die Überdrüssigkeiten ihres Alltags und bietet erfrischende Comedy außerhalb ihrer Komfortzone. \nRoger Nießen\, Bürgermeister der Stadt Würselen\, hat wieder die Schirmherrschaft der tollen Aktion „Comedy For Hope“ übernommen. Sämtliche Einnahmen des Abends gehen wieder als Spende an einen guten Zweck. \nSpaß haben und dabei Gutes tun kann also ganz einfach sein: Ticket kaufen\, lachen\, helfen! Schnappt Euch Eure Freunde\, kommt mit der ganzen Familie oder ladet Eure Kollegen ein – jedes Lachen\, jedes Ticket zählt.
URL:https://aachen-kalender.de/event/chris-tall-ingmar-stadelmann-comedy-for-hope/
LOCATION:Burg Wilhelmstein\, An Wilhelmstein\, Würselen\, 52146
CATEGORIES:Kleinkunst
ATTACH;FMTTYPE=image/jpeg:https://aachen-kalender.de/wp-content/uploads/2025/11/Comedy-For-Hope-210719-_C_Mike_Wahrlich-e1772532979382.jpg
END:VEVENT
END:VCALENDAR