BEGIN:VCALENDAR
VERSION:2.0
PRODID:-//Aachen-Termine - ECPv6.15.18//NONSGML v1.0//EN
CALSCALE:GREGORIAN
METHOD:PUBLISH
X-WR-CALNAME:Aachen-Termine
X-ORIGINAL-URL:https://aachen-kalender.de
X-WR-CALDESC:Veranstaltungen für Aachen-Termine
REFRESH-INTERVAL;VALUE=DURATION:PT1H
X-Robots-Tag:noindex
X-PUBLISHED-TTL:PT1H
BEGIN:VTIMEZONE
TZID:Europe/Berlin
BEGIN:DAYLIGHT
TZOFFSETFROM:+0100
TZOFFSETTO:+0200
TZNAME:CEST
DTSTART:20250330T010000
END:DAYLIGHT
BEGIN:STANDARD
TZOFFSETFROM:+0200
TZOFFSETTO:+0100
TZNAME:CET
DTSTART:20251026T010000
END:STANDARD
BEGIN:DAYLIGHT
TZOFFSETFROM:+0100
TZOFFSETTO:+0200
TZNAME:CEST
DTSTART:20260329T010000
END:DAYLIGHT
BEGIN:STANDARD
TZOFFSETFROM:+0200
TZOFFSETTO:+0100
TZNAME:CET
DTSTART:20261025T010000
END:STANDARD
BEGIN:DAYLIGHT
TZOFFSETFROM:+0100
TZOFFSETTO:+0200
TZNAME:CEST
DTSTART:20270328T010000
END:DAYLIGHT
BEGIN:STANDARD
TZOFFSETFROM:+0200
TZOFFSETTO:+0100
TZNAME:CET
DTSTART:20271031T010000
END:STANDARD
END:VTIMEZONE
BEGIN:VEVENT
DTSTART;TZID=Europe/Berlin:20260508T193000
DTEND;TZID=Europe/Berlin:20260822T210000
DTSTAMP:20260419T145658
CREATED:20260417T071135Z
LAST-MODIFIED:20260417T071135Z
UID:10022407-1778268600-1787432400@aachen-kalender.de
SUMMARY:Freitagsmusik in der Theresienkirche.
DESCRIPTION:Veranstaltungsreihe mit Musik und Literatur in der Theresienkirche. \nLesung: Dorothee Völling-Grube\, Musik: Piotr Oleniecki\, Violine\, Thomas Schneider Gitarre.
URL:https://aachen-kalender.de/event/freitagsmusik-in-der-theresienkirche-2/
LOCATION:Theresienkirche\, Pontstraße 41\, Aachen\, 52062
CATEGORIES:Musik
END:VEVENT
BEGIN:VEVENT
DTSTART;TZID=Europe/Berlin:20260510T140000
DTEND;TZID=Europe/Berlin:20260807T140000
DTSTAMP:20260419T145658
CREATED:20260408T083953Z
LAST-MODIFIED:20260408T083953Z
UID:10022085-1778421600-1786111200@aachen-kalender.de
SUMMARY:"Vom Ereignis zur Nachricht".
DESCRIPTION:Mit Christina Kral. \nIZM – ZEIT(UNGS)GESCHICHTE WELTWEIT\nDas Internationale Zeitungsmuseum ist eine weltweit anerkannte und bedeutende Größe im Presse- und Zeitungswesen. Die 1886 gegründete Sammlung umfasst inzwischen gut     300 000 Exemplare\, vorwiegend Erst-\, Letzt- und Jubiläumsausgaben aus aller Welt. Das Museum bietet eine aktuelle und aufschlussreiche Auseinandersetzung mit wesentlichen Aspekten der internationalen Medienwelt. \n 
URL:https://aachen-kalender.de/event/vom-ereignis-zur-nachricht/
LOCATION:Int. Zeitungsmuseum (IZM)\, Pontstraße 13\, Aachen\, 52062\, Deutschland
CATEGORIES:Führungen
END:VEVENT
BEGIN:VEVENT
DTSTART;TZID=Europe/Berlin:20260515T200000
DTEND;TZID=Europe/Berlin:20260715T200000
DTSTAMP:20260419T145658
CREATED:20260324T134743Z
LAST-MODIFIED:20260324T134813Z
UID:10021642-1778875200-1784145600@aachen-kalender.de
SUMMARY:"Aachen's Got Talent". Offene Bühne für Talente aus der Stadt.
DESCRIPTION:Der neue »Spielraum für Alle« macht die Bühne frei für Formate aller Art: In »Aachen’s Got Talent« zeigen Ensemblemitglieder\, Mitarbeiter:innen des Theaters oder kreative Köpfe aus der Stadt ihre Talente. \nIhr wollt mitmachen und euer Talent auf der Bühne präsentieren? Meldet euch (mit Namen\, Talent/Programm) bei: isabelle.becker@mail.aachen.de
URL:https://aachen-kalender.de/event/aachens-got-talent-offene-buehne-fuer-talente-aus-der-stadt-7/
LOCATION:Mörgens\, Mörgensstraße 24\, Aachen\, 52064
CATEGORIES:Sonstiges
ATTACH;FMTTYPE=image/jpeg:https://aachen-kalender.de/wp-content/uploads/2025/01/IMG_2173.jpg
END:VEVENT
BEGIN:VEVENT
DTSTART;TZID=Europe/Berlin:20260611T163000
DTEND;TZID=Europe/Berlin:20260712T163000
DTSTAMP:20260419T145658
CREATED:20260310T092734Z
LAST-MODIFIED:20260310T092734Z
UID:10021218-1781195400-1783873800@aachen-kalender.de
SUMMARY:RWTH AACHEN: Außergewöhnliche Einblicke. "Neugier erlaubt - Woran forscht die RWTH?" "Nachhaltigkeit auf dem Prüfstand – Wie Kraftstoffe von morgen entstehen".
DESCRIPTION:Dr. Bastian Lehrheuer ermöglicht besondere Einblicke in die Prüfstände und Labore des Exzellenzclusters „The Integrated Fuel & Chemical Science Center“ (FSC²) der RWTH Aachen. Dort wird erforscht\, wie nachhaltige Moleküle als Energieträger für den Verkehr und als Rohstoffe für die chemische Industrie genutzt werden können. \nWelche Rolle neue Kraftstoffe für eine klimafreundliche Mobilität spielen und wie moderne Motor- und Abgasnachbehandlungssysteme dafür entwickelt und getestet werden\, erfahren interessierte Teilnehmende in einem kurzen Impulsvortrag. Im Anschluss besteht die Möglichkeit\, einen Blick in verschiedene Forschungsanlagen zu werfen – darunter Prüfstände für Einzylinder-Forschungsmotoren\, ein Laborgasprüfstand zur Untersuchung von Abgasnachbehandlungssystemen sowie eine Hochdruck-Einspritzkammer. \nBastian Lehrheuer ist Oberingenieur am Lehrstuhl für Thermodynamik mobiler Energiewandlungssysteme (TME) der RWTH Aachen und Geschäftsführer des Exzellenzclusters „The Integrated Fuel & Chemical Science Center“ (FSC²). Als Forschungsmanager bringt er Wissenschaftlerinnen und Wissenschaftler unterschiedlicher Disziplinen zusammen und schafft ein produktives Umfeld für die Entwicklung ganzheitlicher Lösungen für eine nachhaltige Mobilität. Nach seinem Maschinenbaustudium an der RWTH begann er seine wissenschaftliche Laufbahn am TME im Bereich der Brennverfahrensentwicklung. Seit 2016 war er maßgeblich an der Akquise und Koordination von Forschungsprojekten zu nachhaltigen Antriebssystemen beteiligt. Im Juli 2018 übernahm Dr. Lehrheuer die Position des Oberingenieurs sowie die Geschäftsführung des Exzellenzclusters. \n 
URL:https://aachen-kalender.de/event/rwth-aachen-aussergewoehnliche-einblicke-neugier-erlaubt-woran-forscht-die-rwth-nachhaltigkeit-auf-dem-pruefstand-wie-kraftstoffe-von-morgen-entstehen/
LOCATION:The Integrated Fuel & Chemical Science Center\, Schinkelstraße 8\, Aachen\, 52062
CATEGORIES:Führungen
ATTACH;FMTTYPE=image/jpeg:https://aachen-kalender.de/wp-content/uploads/2025/09/20Nov_und4Dez_RWTH.jpg
END:VEVENT
BEGIN:VEVENT
DTSTART;TZID=Europe/Berlin:20260630T193000
DTEND;TZID=Europe/Berlin:20260731T193000
DTSTAMP:20260419T145658
CREATED:20251202T135726Z
LAST-MODIFIED:20251202T135739Z
UID:10018859-1782847800-1785526200@aachen-kalender.de
SUMMARY:Jazz im Büchel-Museum. "Michalke meets …"
DESCRIPTION:  \nSteffen Thormählen – drums\nStefan Michalke – Piano
URL:https://aachen-kalender.de/event/jazz-im-buechel-museum-michalke-meets-14/
LOCATION:Büchel-Museum\, Büchel 14\, Aachen\, 52062\, Deutschland
CATEGORIES:Musik
END:VEVENT
BEGIN:VEVENT
DTSTART;TZID=Europe/Berlin:20260708T190000
DTEND;TZID=Europe/Berlin:20260807T190000
DTSTAMP:20260419T145658
CREATED:20251201T083101Z
LAST-MODIFIED:20260218T142855Z
UID:10018765-1783537200-1786129200@aachen-kalender.de
SUMMARY:"Romeo & Julia". Stück von William Shakespeare.
DESCRIPTION:Es ist eine der größten Liebesgeschichten aller Zeiten und das Sinnbild der romantischen\, leidenschaftlichen Liebe: »The most excellent and lamentable tragedy of Romeo and Juliet«. Die Kinder zweier verfeindeter Familien im Verona des Mittelalters\, im Zeitalter der Pest und der politischen Hochzeiten\, verlieben sich blitzartig ineinander\, heiraten heimlich\, werden durch den Familienzwist auseinandergetrieben und sterben am Ende einen tragischen Tod. Die heiße Liebe der beiden währt kurz – nur eine einzige gemeinsame Nacht verbringen sie miteinander. Was wohl aus ihnen geworden wäre\, hätten sie mehr Zeit gehabt? Ein ganzes Leben gar? Hätte ihre Liebe überlebt? Und wenn ja: wie? Die Inszenierung des Shakespeare-Blockbusters von Regisseurin Anaïs Durand-Mauptit rahmt die 500 Jahre alte Liebesgeschichte mit einer Erzählung über Liebe zur Jetztzeit. Wie lieben wir heute und welche Hürden überwinden wir dabei? Wie vielfältig sind Beziehungsformen\, Liebeskonzepte\, Paarkonstellationen unserer Gegenwart – und sehnen wir uns immer noch nach dem großen romantischen Gefühl\, das sogar den Tod überwinden will?
URL:https://aachen-kalender.de/event/romeo-julia-stueck-von-william-shakespeare-3/2026-07-08/
LOCATION:Theater Aachen\, Theaterplatz\, Aachen\, 52062\, Deutschland
CATEGORIES:Theater
END:VEVENT
BEGIN:VEVENT
DTSTART;TZID=Europe/Berlin:20260710T130000
DTEND;TZID=Europe/Berlin:20260710T130000
DTSTAMP:20260419T145658
CREATED:20260223T091018Z
LAST-MODIFIED:20260223T092322Z
UID:10020597-1783688400-1783688400@aachen-kalender.de
SUMMARY:"Kurhaus Lambertz Aachen - TC Augsburg Siebentisch". 1. Bundesliga Herren.
DESCRIPTION:TK Kurhaus geht in die 22. Saison in der deutschen Tennis-Bundesliga und ist 2026 wieder mit zwei Teams aus Aachen dabei. \nKarten: https://www.eventim.de/noapp/eventseries/kurhaus-lambertz-aachen-1-bundesliga-tennis-herren-3653853/?affiliate=K81&utm_campaign=dk&utm_source=K81&utm_medium=dp
URL:https://aachen-kalender.de/event/kurhaus-lambertz-aachen-koelner-thc-stadion-rot-weiss/
LOCATION:Tennis-Klub Kurhaus Bad Aachen 1890 / 1932 e.V.\, Monheimsallee 40\, Aachen\, 52062
CATEGORIES:Sport
ATTACH;FMTTYPE=image/jpeg:https://aachen-kalender.de/wp-content/uploads/2025/03/MDE_20240802_27_4918_highres-scaled-e1743509742851.jpg
END:VEVENT
BEGIN:VEVENT
DTSTART;TZID=Europe/Berlin:20260710T140000
DTEND;TZID=Europe/Berlin:20260710T153000
DTSTAMP:20260419T145658
CREATED:20250203T155557Z
LAST-MODIFIED:20260323T124140Z
UID:10021384-1783692000-1783697400@aachen-kalender.de
SUMMARY:"Altstadtführung".
DESCRIPTION:Bei diesem abwechslungsreichen Rundgang durch die Aachener Altstadt lernen die Teilnehmer Aachen mit allen Facetten kennen: Als moderne Stadt mit schönen historischen Bürgerhäusern\, vielen alten und neuen Brunnen sowie unzähligen Erzählungen rund um Dom und Rathaus. Eine Führung\, bei der die 2000 Jahre alte Aachener Geschichte lebendig wird. \nEine vorherige Buchung wird empfohlen. \nKosten: Erwachsene 12\,00 Euro\, Schüler bis 17 Jahre 5\,50 Euro
URL:https://aachen-kalender.de/event/altstadtfuehrung-322/2026-07-10/
LOCATION:Tourist Info\, Elisenbrunnen\, Friedrich-Wilhelm-Platz\, Aachen\, 52062\, Deutschland
CATEGORIES:Führungen
ATTACH;FMTTYPE=image/png:https://aachen-kalender.de/wp-content/uploads/2024/12/Altstadtfuehrung_ats.png
END:VEVENT
BEGIN:VEVENT
DTSTART;TZID=Europe/Berlin:20260710T180000
DTEND;TZID=Europe/Berlin:20260710T193000
DTSTAMP:20260419T145658
CREATED:20260407T093629Z
LAST-MODIFIED:20260407T093629Z
UID:10022011-1783706400-1783711800@aachen-kalender.de
SUMMARY:Abendbummel
DESCRIPTION:Möchtest du Aachens Altstadt entspannt nach Feierabend kennenlernen? Dann lass dich bei unserem Abendbummel von der wundervollen Abendstimmung verzaubern. Genieße mit uns einen gemütlichen Spaziergang durch die hübschen Gassen und entlang der idyllischen Plätze der Stadt. Unsere erfahrenen Guides führen dich zu den schönsten Stellen der Altstadt und erzählen dir viel über die historischen Ereignisse. Vom Elisenbrunnen bis zum Rathaus und vom Dom bis zum Bahkauv erfährst du interessante Fakten und staunst über einige Anekdoten. Dabei sorgt die Abenddämmerung nicht nur für eine besondere Atmosphäre. Sie lässt auch Aachens Bauwerke in einem anderen Licht erscheinen.   \nTipp: Nach unserer Tour kannst du den Abend nach Lust und Laune ausklingen lassen\, zum Beispiel rund um den Markt oder in der lebhaften Pontstraße. Egal\, ob du ein Bier in einer traditionellen Kneipe genießen möchtest oder beim Drink in einer modernen Bar den Tag Revue passieren lässt – Aachens Altstadt bietet für jeden Geschmack das Richtige.  \nDauer: ca. 1\,5 Stunden \nKosten: 15€ Erwachsene\, 5\,50€ Jugendliche bis 17 Jahre \nTreffpunkt: Tourist Info Elisenbrunnen\, Friedrich-Wilhelm-Platz\, 52062 Aachen
URL:https://aachen-kalender.de/event/abendbummel-43/2026-07-10/
LOCATION:Tourist Info\, Elisenbrunnen\, Friedrich-Wilhelm-Platz\, Aachen\, 52062\, Deutschland
CATEGORIES:Führungen
END:VEVENT
BEGIN:VEVENT
DTSTART;TZID=Europe/Berlin:20260710T193000
DTEND;TZID=Europe/Berlin:20260710T193000
DTSTAMP:20260419T145658
CREATED:20260224T121809Z
LAST-MODIFIED:20260303T095527Z
UID:10020721-1783711800-1783711800@aachen-kalender.de
SUMMARY:Druckluft. Live.
DESCRIPTION:DRUCKLUFT\, die Karnevals-Brass-Party-Pop-Band aus Köln/Bonn\, steht für Live-Musik\, positive Vibes und maximale Lust auf jede Art von Bühne. Die zehnköpfige Gute-Laune-Band ist nun endlich live zu erleben – am Freitag\, 10. Juli 2026\, auf der Freilichtbühne von Burg Wilhelmstein Würselen. Als Support sorgt die Rockabilly-Band Hot Rod Devils für die richtige Stimmung. \nVon Wohnzimmerkonzerten über die Lanxess-Arena bis hin ins Fernsehen: Ob mit einem unbändigen und aufwändigen Auftritt in den sozialen Medien\, Gastauftritten bei der ersten Ausgabe der Stefan-Raab-Show oder als Showband beim Jubiläum von „Wer wird Millionär“ – DRUCKLUFT beweist von Projekt zu Projekt eine beeindruckende Vielfältigkeit und Detailverliebtheit\, die sich in ihrer Musik und ihrer 16-jährigen Karriere widerspiegeln. \nMit ihrem neuen Song „Karnevalsmaus“\, der bereits im September 2025 von vielen Fans zum inoffiziellen Sessions-Hit gekürt wurde\, beweist die Band einmal mehr ihre Liebe und Verbindung zum Karneval. Der Song erreichte Platz 3 der Spotify Viral Charts – Germany und sorgt mit über 10 Millionen Views auf den sozialen Medien schon vor Beginn der offiziellen Karnevalssession für Furore. Gekrönt wurde „Karnevalsmaus“ schließlich durch die persönliche Einladung von Florian Silbereisen zum „Silvester-Schlagerbooom 2026 – Die Wunderlichtershow“\, die von über 4\,5 Millionen Zuschauerinnen und Zuschauern verfolgt wurde. \n2026 startet die Band auf große Festivalreise mit über 20 Konzerten. Mit dem ersten eigenen Album\, das Ende 2026 erscheint\, erwartet die Fans neue\, bunte Musik. Auch im Fernsehen wird die Band wieder präsent sein – stay tuned für das wildeste Bandjahr ihrer Geschichte!
URL:https://aachen-kalender.de/event/druckluft-live/
LOCATION:Burg Wilhelmstein\, An Wilhelmstein\, Würselen\, 52146
CATEGORIES:Musik
ATTACH;FMTTYPE=image/jpeg:https://aachen-kalender.de/wp-content/uploads/2026/02/DRUCKLUFT_IMG5credits-wewerekids-scaled-e1772531721200.jpg
END:VEVENT
BEGIN:VEVENT
DTSTART;TZID=Europe/Berlin:20260710T200000
DTEND;TZID=Europe/Berlin:20260710T200000
DTSTAMP:20260419T145658
CREATED:20251127T131914Z
LAST-MODIFIED:20251127T131914Z
UID:10018697-1783713600-1783713600@aachen-kalender.de
SUMMARY:"Achtsam Morden durch bewusste Ernährung". Krimikomödie von Bernd Schmidt nach dem Roman von Karsten Dusse.
DESCRIPTION:Dank Achtsamkeit hat Björn Diemel seine Mitte gefunden. Seine Problemzonen sind nun allerdings die Ränder seines Körpers\, die sich immer weiter von dieser Mitte entfernen. Björn erkennt\, dass In-sich-Ruhen und Mangel an Bewegung zwei grundverschiedene Dinge sind. \nAls Unbekannte versuchen\, Björns Tochter zu entführen\, gelingt es ihm aufgrund seiner Körperfülle nur mit Mühe\, die Täter in die Flucht zu schlagen. Also lässt Björn sich von Joschka Breitner in Bezug auf die Grundsätze bewusster Ernährung coachen. Er taucht ein in die faszinierende Welt des Heilfastens und der Ernährungsbausteine. Noch ahnt Björn nicht\, wie wunderbar sich Ernährung\, Entspannung und das Auflösen von Gewaltfantasien miteinander kombinieren lassen.
URL:https://aachen-kalender.de/event/achtsam-morden-durch-bewusste-ernaehrung-krimikomoedie-von-bernd-schmidt-nach-dem-roman-von-karsten-dusse-7/2026-07-10/
LOCATION:Grenzlandtheater\, ElisenGalerie\, Aachen\, 52062
CATEGORIES:Theater
END:VEVENT
END:VCALENDAR