BEGIN:VCALENDAR
VERSION:2.0
PRODID:-//Aachen-Termine - ECPv6.15.18//NONSGML v1.0//EN
CALSCALE:GREGORIAN
METHOD:PUBLISH
X-ORIGINAL-URL:https://aachen-kalender.de
X-WR-CALDESC:Veranstaltungen für Aachen-Termine
REFRESH-INTERVAL;VALUE=DURATION:PT1H
X-Robots-Tag:noindex
X-PUBLISHED-TTL:PT1H
BEGIN:VTIMEZONE
TZID:Europe/Berlin
BEGIN:DAYLIGHT
TZOFFSETFROM:+0100
TZOFFSETTO:+0200
TZNAME:CEST
DTSTART:20250330T010000
END:DAYLIGHT
BEGIN:STANDARD
TZOFFSETFROM:+0200
TZOFFSETTO:+0100
TZNAME:CET
DTSTART:20251026T010000
END:STANDARD
BEGIN:DAYLIGHT
TZOFFSETFROM:+0100
TZOFFSETTO:+0200
TZNAME:CEST
DTSTART:20260329T010000
END:DAYLIGHT
BEGIN:STANDARD
TZOFFSETFROM:+0200
TZOFFSETTO:+0100
TZNAME:CET
DTSTART:20261025T010000
END:STANDARD
BEGIN:DAYLIGHT
TZOFFSETFROM:+0100
TZOFFSETTO:+0200
TZNAME:CEST
DTSTART:20270328T010000
END:DAYLIGHT
BEGIN:STANDARD
TZOFFSETFROM:+0200
TZOFFSETTO:+0100
TZNAME:CET
DTSTART:20271031T010000
END:STANDARD
END:VTIMEZONE
BEGIN:VEVENT
DTSTART;TZID=Europe/Berlin:20260508T193000
DTEND;TZID=Europe/Berlin:20260822T210000
DTSTAMP:20260422T014408
CREATED:20260417T071135Z
LAST-MODIFIED:20260417T071135Z
UID:10022407-1778268600-1787432400@aachen-kalender.de
SUMMARY:Freitagsmusik in der Theresienkirche.
DESCRIPTION:Veranstaltungsreihe mit Musik und Literatur in der Theresienkirche. \nLesung: Dorothee Völling-Grube\, Musik: Piotr Oleniecki\, Violine\, Thomas Schneider Gitarre.
URL:https://aachen-kalender.de/event/freitagsmusik-in-der-theresienkirche-2/
LOCATION:Theresienkirche\, Pontstraße 41\, Aachen\, 52062
CATEGORIES:Musik
END:VEVENT
BEGIN:VEVENT
DTSTART;TZID=Europe/Berlin:20260510T140000
DTEND;TZID=Europe/Berlin:20260807T140000
DTSTAMP:20260422T014408
CREATED:20260408T083953Z
LAST-MODIFIED:20260408T083953Z
UID:10022085-1778421600-1786111200@aachen-kalender.de
SUMMARY:"Vom Ereignis zur Nachricht".
DESCRIPTION:Mit Christina Kral. \nIZM – ZEIT(UNGS)GESCHICHTE WELTWEIT\nDas Internationale Zeitungsmuseum ist eine weltweit anerkannte und bedeutende Größe im Presse- und Zeitungswesen. Die 1886 gegründete Sammlung umfasst inzwischen gut     300 000 Exemplare\, vorwiegend Erst-\, Letzt- und Jubiläumsausgaben aus aller Welt. Das Museum bietet eine aktuelle und aufschlussreiche Auseinandersetzung mit wesentlichen Aspekten der internationalen Medienwelt. \n 
URL:https://aachen-kalender.de/event/vom-ereignis-zur-nachricht/
LOCATION:Int. Zeitungsmuseum (IZM)\, Pontstraße 13\, Aachen\, 52062\, Deutschland
CATEGORIES:Führungen
END:VEVENT
BEGIN:VEVENT
DTSTART;TZID=Europe/Berlin:20260515T200000
DTEND;TZID=Europe/Berlin:20260715T200000
DTSTAMP:20260422T014408
CREATED:20260324T134743Z
LAST-MODIFIED:20260324T134813Z
UID:10021642-1778875200-1784145600@aachen-kalender.de
SUMMARY:"Aachen's Got Talent". Offene Bühne für Talente aus der Stadt.
DESCRIPTION:Der neue »Spielraum für Alle« macht die Bühne frei für Formate aller Art: In »Aachen’s Got Talent« zeigen Ensemblemitglieder\, Mitarbeiter:innen des Theaters oder kreative Köpfe aus der Stadt ihre Talente. \nIhr wollt mitmachen und euer Talent auf der Bühne präsentieren? Meldet euch (mit Namen\, Talent/Programm) bei: isabelle.becker@mail.aachen.de
URL:https://aachen-kalender.de/event/aachens-got-talent-offene-buehne-fuer-talente-aus-der-stadt-7/
LOCATION:Mörgens\, Mörgensstraße 24\, Aachen\, 52064
CATEGORIES:Sonstiges
ATTACH;FMTTYPE=image/jpeg:https://aachen-kalender.de/wp-content/uploads/2025/01/IMG_2173.jpg
END:VEVENT
BEGIN:VEVENT
DTSTART;TZID=Europe/Berlin:20260517T110000
DTEND;TZID=Europe/Berlin:20260616T110000
DTSTAMP:20260422T014408
CREATED:20260409T084110Z
LAST-MODIFIED:20260409T084110Z
UID:10022150-1779015600-1781607600@aachen-kalender.de
SUMMARY:Familientag im Museum Zinkhütter Hof.
DESCRIPTION:Es erwartet Euch ein tolles Programm für die ganze Familie. \nKommt vorbei ins Museum Zinkhütter Hof. \n 
URL:https://aachen-kalender.de/event/familientag-im-museum-zinkhuetter-hof/
LOCATION:Zinkhütter Hof\, Cockerillstraße 90\, Stolberg\, 52222\, Deutschland
CATEGORIES:Familie
END:VEVENT
BEGIN:VEVENT
DTSTART;TZID=Europe/Berlin:20260531T110000
DTEND;TZID=Europe/Berlin:20260630T110000
DTSTAMP:20260422T014408
CREATED:20260409T084543Z
LAST-MODIFIED:20260409T084543Z
UID:10022151-1780225200-1782817200@aachen-kalender.de
SUMMARY:Öffentliche Führung im Zinkhütter Hof.
DESCRIPTION:An jedem letzten Sonntag im Monat wird Ihnen eine kostenlose Führung durch das Museum geboten. Entdecken Sie Nadel\, Zink\, Messing und Mobilität aus einer neuen Perspektive. Gemeinsam mit den Museumsführern besuchen Sie alle Abteilungen\, können Fragen loswerden und Neues entdecken. \nDie Führung ist kostenlos. Lediglich der Museumseintritt ist zu entrichten. \n  \nWeitere Infos: Annika Jones\, 02402/9031310\, annika.jones@museumstolberg.de \n 
URL:https://aachen-kalender.de/event/oeffentliche-fuehrung-im-zinkhuetter-hof-9/
LOCATION:Zinkhütter Hof\, Cockerillstraße 90\, Stolberg\, 52222\, Deutschland
CATEGORIES:Familie
END:VEVENT
BEGIN:VEVENT
DTSTART;TZID=Europe/Berlin:20260607T090000
DTEND;TZID=Europe/Berlin:20260607T090000
DTSTAMP:20260422T014408
CREATED:20260304T100534Z
LAST-MODIFIED:20260331T113433Z
UID:10021073-1780822800-1780822800@aachen-kalender.de
SUMMARY:"16. Offene Europameisterschaft im Hap Ki Do".
DESCRIPTION:Am 6. und 7. Juni 2026 ist es endlich so weit: Die europäische Hap Ki Do – Elite trifft sich in der traditionsreichen Stadt Aachen\, um gemeinsam die Hap Ki Do Europameisterschaft 2026 zu feiern – ein sportliches Highlight\, das Kampfkunst\, Respekt und Gemeinschaft auf höchstem Niveau vereint. \nDie Hap Ki Do – Abteilung des DJK FV Haaren und wir\, der Aachener Kampfkunstverein richten die Meisterschaft im Namen der International Hap Ki Do Cooperation (IHC) aus. \nDie Anmeldung ist vom 1. März 2026 bis zum 16. April 2026 geöffnet. \nDie genauen Zeiten der einzelnen Wettkämpfe erfahren Sie zu gegebener Zeit auf der Homepage des Veranstalters.
URL:https://aachen-kalender.de/event/16-offenen-europameisterschaft-im-hap-ki-do/2026-06-07/
LOCATION:Sporthalle Nord 1\, Neukölnerstraße 9\, Aachen\, 52068
CATEGORIES:Sport
END:VEVENT
BEGIN:VEVENT
DTSTART;TZID=Europe/Berlin:20260607T100000
DTEND;TZID=Europe/Berlin:20260607T180000
DTSTAMP:20260422T014408
CREATED:20260310T101542Z
LAST-MODIFIED:20260310T101542Z
UID:10021230-1780826400-1780855200@aachen-kalender.de
SUMMARY:"Gartenfest Hex - Gartentage & Pflanzenmesse".
DESCRIPTION:Schloss Hex ist ein Treffpunkt für Liebhaber von Garten\, Gartenbau und Natur.\nDie jährlichen Gartentage/Pflanzenmessen sind für viele eine Gelegenheit\, in entspannter Atmosphäre – und im außergewöhnlichen Ambiente dieser historischen Gärten – Freunde und Kollegen zu treffen\, besondere Pflanzen zu entdecken und sich von Züchtern und Spezialisten beraten zu lassen. \nDie nächsten Gartentage finden am Freitag\, 5. Juni\, Samstag\, 6. Juni und Sonntag\, 7. Juni 2026 statt.
URL:https://aachen-kalender.de/event/gartenfest-hex-gartentage-pflanzenmesse-2/2026-06-07/
LOCATION:Kasteel Hex\, Heers-Heks\, BE 3870\, Belgien
CATEGORIES:Markt/Messe
ATTACH;FMTTYPE=image/jpeg:https://aachen-kalender.de/wp-content/uploads/2024/12/Flyer-PO-J-2025-WEB-JPG-e1741098461850.jpg
END:VEVENT
BEGIN:VEVENT
DTSTART;TZID=Europe/Berlin:20260607T110000
DTEND;TZID=Europe/Berlin:20260607T123000
DTSTAMP:20260422T014408
CREATED:20251208T152221Z
LAST-MODIFIED:20260323T123943Z
UID:10021006-1780830000-1780835400@aachen-kalender.de
SUMMARY:"Altstadtführung".
DESCRIPTION:Bei diesem abwechslungsreichen Rundgang durch die Aachener Altstadt lernen die Teilnehmer Aachen mit allen Facetten kennen: als moderne Stadt mit schönen historischen Bürgerhäusern\, vielen alten und neuen Brunnen sowie unzähligen Erzählungen rund um Dom und Rathaus. Eine Führung\, bei der die 2000 Jahre alte Aachener Geschichte lebendig wird. \nEine vorherige Buchung wird empfohlen. \nKosten: Erwachsene 12\,00 Euro\, Jugendliche bis 17 Jahre 5\,50 Euro
URL:https://aachen-kalender.de/event/altstadtfuehrung-320-2/2026-06-07/
LOCATION:Tourist Info\, Elisenbrunnen\, Friedrich-Wilhelm-Platz\, Aachen\, 52062\, Deutschland
CATEGORIES:Führungen
ATTACH;FMTTYPE=image/png:https://aachen-kalender.de/wp-content/uploads/2024/12/Altstadtfuehrung_ats.png
END:VEVENT
BEGIN:VEVENT
DTSTART;TZID=Europe/Berlin:20260607T110000
DTEND;TZID=Europe/Berlin:20260607T200000
DTSTAMP:20260422T014408
CREATED:20250714T122243Z
LAST-MODIFIED:20260413T071614Z
UID:10021812-1780830000-1780862400@aachen-kalender.de
SUMMARY:"Historischer Jahrmarkt".
DESCRIPTION:Der historische Jahrmarkt ist zurück! Fünf Tage voller Zauber\, Musik und lebendiger Geschichte\, eine Zeitreise für alle Sinne.\nZwischen Gauklern\, Handwerk und duftenden Köstlichkeiten erwacht vergangene Zeit zu neuem Leben.\nZwischen liebevoll restaurierten Fahrgeschäften und traditionsreichen Händlerständen entfaltet sich der ganze Zauber des Historischen Jahrmarkts:\nWährend nostalgische Karussells ihre Runden drehen\, locken handgefertigte Waren\, süße Leckereien und besondere Schätze zum Stöbern und Genießen.\nEin Fest für alle Sinne – lebendig\, herzlich und voller Geschichte. \n\nHistorische Fahrgeschäfte wie Autoscooter und Riesenrad\nHistorische Spielgeschäfte\nStraßenkünstler (so wie man es von früher kennt) als Walking Acts\n(Historisches) Kunsthandwerk\nAntikmarkt\nWinzer und besondere Spezialitäten (bspw. Flammlachs)\n\nNeu: Kiss & Ride Bereich: an der Kreuzung „Internberg“ und „Korenliusstraße“\n\nInfos zu Programm Ausstellern auf der Homepage: https://www.historischer-jahrmarkt.de/\nParkgelegenheiten an bekannten Stellen
URL:https://aachen-kalender.de/event/historische-jahrmarkt-in-kornelimuenster-auftakt/2026-06-07/
LOCATION:Korneliusmarkt\, Aachen\, 52076\, Deutschland
CATEGORIES:Markt/Messe
ATTACH;FMTTYPE=image/jpeg:https://aachen-kalender.de/wp-content/uploads/2025/07/Jahrmarkt.jpg
END:VEVENT
BEGIN:VEVENT
DTSTART;TZID=Europe/Berlin:20260607T133000
DTEND;TZID=Europe/Berlin:20260607T160000
DTSTAMP:20260422T014408
CREATED:20260310T101448Z
LAST-MODIFIED:20260407T085548Z
UID:10021225-1780839000-1780848000@aachen-kalender.de
SUMMARY:"Mit FahrRad den Pferdelandpark entdecken". Fahrradsommer-Eröffnungstour.
DESCRIPTION:Im Jahr 2026 findet der Aachener Fahrradsommer zum 32. Mal statt. Die ausgeschilderte\, rund 22 Kilometer lange Rundroute steht diesmal im Zeichen der Reit-WM Aachen 2026 (11. bis 25.August). Die Tour beginnt am Reitstadion in der Soers und führt von dort in den Pferdelandpark zwischen den Städten Aachen\, Herzogenrath und Kerkrade. Dieser grenzüberschreitende Landschaftspark hat eine Fläche von 2000 Hektar und umfasst folgende Gebiete: Lousberg\, Soers\, Hasenwalder Feld und Horbacher Börde. \nEine genaue Streckenbeschreibung finden Interessierte hier: www.fahrrad-in-aachen.de
URL:https://aachen-kalender.de/event/fahrradsommer-eroeffnungstour-2026/
LOCATION:Tivoli\, Krefelder Straße 205\, Aachen\, 52070\, Deutschland
CATEGORIES:Sport
ATTACH;FMTTYPE=image/jpeg:https://aachen-kalender.de/wp-content/uploads/2026/03/69afee50705d8-8TgF93-e1773137652488.jpg
END:VEVENT
BEGIN:VEVENT
DTSTART;TZID=Europe/Berlin:20260607T150000
DTEND;TZID=Europe/Berlin:20260607T150000
DTSTAMP:20260422T014408
CREATED:20250917T071000Z
LAST-MODIFIED:20260323T115429Z
UID:10015790-1780844400-1780844400@aachen-kalender.de
SUMMARY:Philzuid & Saleem Ashkar. "Skandinavische Stimmungen". Meisterkonzert.
DESCRIPTION:In diesem Konzert nimmt die französische Dirigentin Ariane Matiakh Philzuid mit auf eine Entdeckungsreise durch ein farbenfrohes Skandinavien. Mit seiner Suite zu Ibsens „Peer Gynt“ gelang Edvard Grieg ein vielgeschätzter Klassiker\, dessen musikalisches Spektrum von der lebensfrohen „Morgenstimmung“ bis zu den intensiven\, traurigen Klängen von „Aases Tod“ reicht. Nordische Töne sind auch in Griegs romantischem Klavierkonzert zu hören\, das sogar Franz Liszt begeisterte. Vorbild für das hier durch den palästinensischisraelischen Pianisten Saleem Ashkar zur Aufführung kommende Werk war das ebenfalls in a-Moll stehende Klavierkonzert von Robert Schumann. Nach Finnland führt abschließend die zweite Sinfonie von Jean Sibelius. Von positiver Grundstimmung und Ashkar reich an melodischer Erfindung\, wurde diese Komposition aus Klavier den Jahren 1901/02 zur populärsten der insgesamt sieben Sinfonien des berühmten Finnen. \n\n\nkostenlose Bustransfers vom Eurogress nach Heerlen/Kerkrade und zurück!
URL:https://aachen-kalender.de/event/meisterkonzerte-aachen-2025-26-saleem-ashkar-skandinavische-stimmungen-mit-philzuid/
LOCATION:Theater Heerlen\, Burgemeester van Grunsvenplein 145\, Heerlen\, Netherlands
CATEGORIES:Musik
ATTACH;FMTTYPE=image/jpeg:https://aachen-kalender.de/wp-content/uploads/2025/09/7Juni_Meisterkonzert.jpg
END:VEVENT
BEGIN:VEVENT
DTSTART;TZID=Europe/Berlin:20260607T150000
DTEND;TZID=Europe/Berlin:20260607T150000
DTSTAMP:20260422T014408
CREATED:20251030T124601Z
LAST-MODIFIED:20260326T174202Z
UID:10017402-1780844400-1780844400@aachen-kalender.de
SUMMARY:RC Zugvogel Aachen. Aachener Bank Radrennen "Rund um Dom und Rathaus".
DESCRIPTION:  \nIn diesem Jahr am 7. Juni und nicht im August wird Aachens Innenstadt erneut zur Kulisse für eines der anspruchsvollsten und stimmungsvollsten Radrennen der Region. Seit über fünf Jahrzehnten organisiert der RC Zugvogel 09 das Aachener Bank-Traditionsrennen Rund um Dom und Rathaus – ein echtes Heimspiel für den ältesten Radsportverein der Stadt\, der auf eine bewegte Geschichte mit Olympia-\, WM- und DM-Erfolgen zurückblicken kann.\nDie Strecke führt über 0\,9 Kilometer durch enge Altstadtgassen\, rund 90 Prozent davon über herausforderndes Kopfsteinpflaster. Der Anstieg am Büchel\, schnelle Kurven und ständige Führungswechsel machen das Hauptrennen über 80 Runden (Start: 18.30 Uhr) zu einem packenden Erlebnis – für Fahrer wie für Zuschauer. Tausende säumen jedes Jahr die Strecke zwischen Markt\, Jakobstraße\, Rennbahn und Münsterplatz und sorgen für eine ganz besondere Atmo­sphäre.\nWer nicht nur anfeuern\, sondern selbst in die Pedale treten will\, hat gleich mehrfach die Gelegenheit dazu: Um 16.30 Uhr startet das Jedermann-/Jedefraurennen für alle ohne Lizenz – mit 25 Runden ein ambitionierter Test auf echtem Rennkurs. Und beim Social Ride (Start: 17.45 Uhr) können alle mitradeln\, ganz gleich ob auf Tandem\, Lastenrad\, E-Bike oder Rennrad aus den 1970ern – fünf gemütliche Runden auf den Kopfsteinpflasterkurven ohne Wettkampfdruck.
URL:https://aachen-kalender.de/event/rc-zugvogel-aachen-aachener-bank-radrennen-rund-um-dom-und-rathaus-3/
LOCATION:Markt\, Markt\, Aachen
CATEGORIES:Sport
ATTACH;FMTTYPE=image/jpeg:https://aachen-kalender.de/wp-content/uploads/2024/12/Radrennen_9Aug.jpg
END:VEVENT
BEGIN:VEVENT
DTSTART;TZID=Europe/Berlin:20260607T150000
DTEND;TZID=Europe/Berlin:20260607T154500
DTSTAMP:20260422T014408
CREATED:20260407T084223Z
LAST-MODIFIED:20260407T084223Z
UID:10021971-1780844400-1780847100@aachen-kalender.de
SUMMARY:Puppenspiel. "Mascha und drei Bären".
DESCRIPTION:Theater JURAKOWA-PROJEKT präsentiert: Die kleine Mascha geht in den Wald. Sie ist sehr neugierig und es gibt im Wald so viele interessante Sachen\, Tiere und Vögel zu beobachten\, dass die kleine Mascha aus dem Staunen nicht mehr herauskommt. Wenn man aber so ganz allein in den dunklen Wald geht\, dann kann es schon mal passieren\, dass man sich verläuft und plötzlich tief im Wald vor einem Haus steht… Wer mag wohl in diesem Haus wohnen… Für Kinder ab 3 Jahre. \nKartenverkauf: Tel.: 02407/17911\, Email: theater.jurakowa@gmx.de
URL:https://aachen-kalender.de/event/puppenspiel-mascha-und-drei-baeren-2/
LOCATION:Die kleine Theaterfabrik\, Strüverweg 116\, Aachen\, 52070\, Deutschland
CATEGORIES:Theater
END:VEVENT
BEGIN:VEVENT
DTSTART;TZID=Europe/Berlin:20260607T163000
DTEND;TZID=Europe/Berlin:20260607T173000
DTSTAMP:20260422T014408
CREATED:20251215T121615Z
LAST-MODIFIED:20251215T121615Z
UID:10019296-1780849800-1780853400@aachen-kalender.de
SUMMARY:Orgel plus ... "Dialog Musik für Violoncello & Orgel".
DESCRIPTION:Werke von Bach\, Dupré\, Lysenko & Rheinberger. \n\nVioloncello: Franziska Blasel\nOrgel: Regionalkantor Andreas Hoffmann
URL:https://aachen-kalender.de/event/orgel-plus-dialog-musik-fuer-violoncello-orgel/
LOCATION:St. Johann Baptist Aachen Burtscheid\, Abteiplatz\, Aachen\, 52066
CATEGORIES:Musik
ATTACH;FMTTYPE=image/jpeg:https://aachen-kalender.de/wp-content/uploads/2025/12/693fefe6b2444-go45g2-scaled-e1765800901249.jpg
END:VEVENT
BEGIN:VEVENT
DTSTART;TZID=Europe/Berlin:20260607T170000
DTEND;TZID=Europe/Berlin:20260607T170000
DTSTAMP:20260422T014408
CREATED:20251124T144935Z
LAST-MODIFIED:20251124T145052Z
UID:10018011-1780851600-1780851600@aachen-kalender.de
SUMMARY:HFMT. "Suor Angelica". Premiere.
DESCRIPTION:Oper in einem Akt von Giacomo Puccini aus »Il Trittico«\, Libretto von Giovacchino Forzano. \n\n\n\nSchwester Angelica lebt seit Jahren im Kloster\, zurückgezogen und ganz der Pflege des klösterlichen Kräutergartens verschrieben. In ihrem Herzen trägt sie die große Sehnsucht nach ihrem Sohn\, den sie einst bei ihrer Tante zurücklassen musste. Nach Jahren stattet diese ihr einen Besuch ab und drängt Angelica\, von ihrem Erbe zurückzutreten. Fast nebenbei erfährt Angelica dabei vom tragischen Tod ihres Sohnes. Sie greift zum Gift – da erklingen in der Ferne Engelsstimmen … \nGiacomo Puccini plante über Jahre hinweg einen Zyklus aus drei Einaktern\, einem tragischen\, einem lyrischen und einem burlesken. »Suor Angelica« ist das lyrische Intermezzo\, eine berührende Kurzoper für ein großes Ensemble von Frauen. In Kooperation mit der Hochschule für Musik und Tanz Köln\, Standort Aachen\, bringen nun Gesangsstudierende und Musiker:innen der Hochschule dieses außergewöhnliche\, hoch emotionale Werk des beginnenden 20. Jahrhunderts im Kirchenraum zum Erklingen. \nEine Kooperation mit der Hochschule für Musik und Tanz Köln.
URL:https://aachen-kalender.de/event/hfmt-suor-angelica-premiere/
LOCATION:Theater Aachen\, Theaterplatz\, Aachen\, 52062\, Deutschland
CATEGORIES:Theater
END:VEVENT
BEGIN:VEVENT
DTSTART;TZID=Europe/Berlin:20260607T180000
DTEND;TZID=Europe/Berlin:20260607T180000
DTSTAMP:20260422T014408
CREATED:20251125T121340Z
LAST-MODIFIED:20260127T095657Z
UID:10018091-1780855200-1780855200@aachen-kalender.de
SUMMARY:"Frankenstein".
DESCRIPTION:Alle reden von Künstlicher Intelligenz. Tech-Konzerne und Regierungen pumpen Milliarden in die verheißungsvolle Schlüsseltechnologie der Zukunft. Praktisch alle Bereiche menschlichen Lebens soll sie revolutionieren. Dabei ist die Idee im Kern nicht neu: Schon 1816 ließ Mary Shelley ihren Schweizer Wissenschaftler Victor Frankenstein eine künstliche Intelligenz erschaffen – sein berühmtes Monster irrt seit gut 200 Jahren durch die Pop-Kultur. Wie heutige »Large Language Models« (z.B. ChatGPT) lernt es durch Beobachtung und Nachahmung. Seine tollpatschige Brutalität berührt und erschreckt uns\, so wie KI zugleich Euphorie und Endzeitangst provoziert. Doch was\, wenn diese beiden Reaktionsmuster gar kein Widerspruch wären: Steht am Ursprung der Erfindungslust vielleicht die Sehnsucht nach der Selbstabschaffung? Ersetzen wir uns willentlich durch eine neue\, bessere Daseinsform – vernünftiger und weniger zerstörerisch als die ausgediente Spezies Mensch? In seiner spielerischen Neuinterpretation verbindet Regisseur Tristan Linder Mary Shelleys Klassiker mit aktuellen technologischen Debatten\, unter Einsatz ebenjener Tools\, die zugleich Thema sind. Ein Theaterabend zwischen Science-Fiction und Schöpfungsmythos\, zwischen Hoffen und Fürchten.
URL:https://aachen-kalender.de/event/frankenstein-5/2026-06-07/
LOCATION:Theater Aachen\, Theaterplatz\, Aachen\, 52062\, Deutschland
CATEGORIES:Theater
ATTACH;FMTTYPE=image/jpeg:https://aachen-kalender.de/wp-content/uploads/2025/11/Frankenstein_1_Foto_Annemone-Taake-scaled-e1769507582602.jpg
END:VEVENT
BEGIN:VEVENT
DTSTART;TZID=Europe/Berlin:20260607T180000
DTEND;TZID=Europe/Berlin:20260607T193000
DTSTAMP:20260422T014408
CREATED:20260409T075717Z
LAST-MODIFIED:20260409T075717Z
UID:10022135-1780855200-1780860600@aachen-kalender.de
SUMMARY:Jubiläumskonzert. 45 Jahre Aachener Kammerchor. "Sunrise Mass / Rejoice in the Lamb".
DESCRIPTION:Seit 45 Jahren begeistert der Aachener Kammerchor sein Publikum mit vielfältiger Chormusik – davon 30 Jahre unter der Leitung von Martin te Laak. Diese Jubiläen feiert der Chor mit einem besonderen Konzert. Der erste Teil bietet eine klangliche Reise durch die Jahrhunderte: von Renaissance-Motetten über meditative Klangwelten der Komponistin Katarina Gimon bis hin zu mitreißenden Spirituals und Jazz-Pop-Arrangements. Im zweiten Teil erklingen Ola Gjeilos Sunrise Mass und Benjamin Brittens Rejoice in the Lamb\, begleitet von einem Projektorchester aus Mitgliedern des Collegium Musicum und des Aachener Studentenorchesters. Eintritt: 15 EUR / ermäßigt 8 EUR. \nDetails zum Kartenverkauf: Kartenverkauf an der Abendkasse\, Reservierungen möglich unter reservierung@aachener-kammerchor.de.
URL:https://aachen-kalender.de/event/jubilaeumskonzert-45-jahre-aachener-kammerchor-sunrise-mass-rejoice-in-the-lamb/
LOCATION:Auferstehungskirche\, Am Kupferofen 19 -21\, Aachen\, 52066
CATEGORIES:Musik
END:VEVENT
BEGIN:VEVENT
DTSTART;TZID=Europe/Berlin:20260607T200000
DTEND;TZID=Europe/Berlin:20260607T200000
DTSTAMP:20260422T014408
CREATED:20251126T092914Z
LAST-MODIFIED:20260218T142410Z
UID:10018319-1780862400-1780862400@aachen-kalender.de
SUMMARY:Das Da Theater. "Romeo & Julia – das Pop-Rock-Musical".
DESCRIPTION:Im Juni 2026 erleben Sie die wohl bekannteste Liebesgeschichte als einzigartiges Sommer-Musical auf Burg Wilhelmstein. „Romeo & Julia – das Pop-Rock-Musical“ erzählt die romantisch-tragische Geschichte Shakespeares in der besonderen Kombination von historischen Kostümen und Sprache mit kraftvollen Rock- und Popsongs. \nEin Sommer im Verona des 16. Jahrhunderts. Auf einem Maskenball begegnen und verlieben sich der junge Romeo und die junge Julia. Doch ihre Familien\, die Montagues und die Capulets\, sind verfeindet. Nach ihrer geheimen Hochzeit eskaliert der Konflikt\, und Romeo wird verbannt. Um mit ihrem Geliebten fliehen zu können\, täuscht Julia ihren Tod vor. Doch dann kommt alles ganz anders als gedacht. \nErleben Sie bewegende Emotionen mit unserem gesangsstarken Ensemble\, das jeden Abend live von der DAS DA-Band begleitet wird. Unsere Neuinterpretation des weltbekannten Dramas von William Shakespeare schlägt eine Brücke zwischen Vergangenheit und Gegenwart. Denn sie erzählt von zeitlosen Themen wie Liebe\, Verlust und Versöhnung.
URL:https://aachen-kalender.de/event/das-da-theater-romeo-julia-das-pop-rock-musical/2026-06-07/
LOCATION:Burg Wilhelmstein\, An Wilhelmstein\, Würselen\, 52146
CATEGORIES:Theater
ATTACH;FMTTYPE=image/jpeg:https://aachen-kalender.de/wp-content/uploads/2025/05/38_DasDA_RomeoJulia_alle.jpg
END:VEVENT
END:VCALENDAR