BEGIN:VCALENDAR
VERSION:2.0
PRODID:-//Aachen-Termine - ECPv6.15.18//NONSGML v1.0//EN
CALSCALE:GREGORIAN
METHOD:PUBLISH
X-WR-CALNAME:Aachen-Termine
X-ORIGINAL-URL:https://aachen-kalender.de
X-WR-CALDESC:Veranstaltungen für Aachen-Termine
REFRESH-INTERVAL;VALUE=DURATION:PT1H
X-Robots-Tag:noindex
X-PUBLISHED-TTL:PT1H
BEGIN:VTIMEZONE
TZID:Europe/Berlin
BEGIN:DAYLIGHT
TZOFFSETFROM:+0100
TZOFFSETTO:+0200
TZNAME:CEST
DTSTART:20250330T010000
END:DAYLIGHT
BEGIN:STANDARD
TZOFFSETFROM:+0200
TZOFFSETTO:+0100
TZNAME:CET
DTSTART:20251026T010000
END:STANDARD
BEGIN:DAYLIGHT
TZOFFSETFROM:+0100
TZOFFSETTO:+0200
TZNAME:CEST
DTSTART:20260329T010000
END:DAYLIGHT
BEGIN:STANDARD
TZOFFSETFROM:+0200
TZOFFSETTO:+0100
TZNAME:CET
DTSTART:20261025T010000
END:STANDARD
BEGIN:DAYLIGHT
TZOFFSETFROM:+0100
TZOFFSETTO:+0200
TZNAME:CEST
DTSTART:20270328T010000
END:DAYLIGHT
BEGIN:STANDARD
TZOFFSETFROM:+0200
TZOFFSETTO:+0100
TZNAME:CET
DTSTART:20271031T010000
END:STANDARD
END:VTIMEZONE
BEGIN:VEVENT
DTSTART;TZID=Europe/Berlin:20260506T100000
DTEND;TZID=Europe/Berlin:20260506T120000
DTSTAMP:20260419T204803
CREATED:20260409T120146Z
LAST-MODIFIED:20260409T120257Z
UID:10022205-1778061600-1778068800@aachen-kalender.de
SUMMARY:Golden Days. "Digital-Paten".
DESCRIPTION:Digital-Paten helfen: mehr Sicherheit im Umgang mit Handy und Tablet. Smartphone-Fragen? App-Probleme? Oder einfach neugierig\, was Ihr Gerät alles kann? Unsere Digital-Paten helfen persönlich\, geduldig und ohne Fachchinesisch. Kommen Sie mit Ihrem Gerät vorbei – ohne Anmeldung!
URL:https://aachen-kalender.de/event/golden-days-digital-paten-8/
LOCATION:Stadtbibliothek\, Couvenstraße 15\, Aachen\, 52062\, Deutschland
CATEGORIES:Sonstiges
END:VEVENT
BEGIN:VEVENT
DTSTART;TZID=Europe/Berlin:20260506T110000
DTEND;TZID=Europe/Berlin:20260506T110000
DTSTAMP:20260419T204803
CREATED:20260408T122127Z
LAST-MODIFIED:20260408T122127Z
UID:10022120-1778065200-1778065200@aachen-kalender.de
SUMMARY:Mit Baby ins Museum. "Mode und mehr! Highlights der Sammlung".
DESCRIPTION:Eltern und ihre Babys im ersten Lebensjahr sind eingeladen zu einer entspannten Führung durch die aktuellen Ausstellungen in den Aachener Museen. Im Anschluss an das gemeinsame Kunsterlebnis besteht die Möglichkeit\, sich bei einem Kaffee auszutauschen und kennenzulernen. Um Anmeldung wird gebeten\, aber auch Kurzentschlossene sind herzlich willkommen. \nMit Sabine Blazy\nKosten: 4 € zzgl. Museumseintritt (€ 10 / ermäßigt € 6) \n\n\nAnmeldung\nMuseumsdienst Aachen\nmuseumsdienst@mail.aachen.de\nTel.: +49 241 432-4998\nServicezeiten: Di-Fr: 9.00 – 14.00 Uhr
URL:https://aachen-kalender.de/event/mit-baby-ins-museum-mode-und-mehr-highlights-der-sammlung/
LOCATION:Suermondt-Ludwig-Museum\, Wilhelmstraße 18\, Aachen\, 52070\, Deutschland
CATEGORIES:Führungen
END:VEVENT
BEGIN:VEVENT
DTSTART;TZID=Europe/Berlin:20260506T120000
DTEND;TZID=Europe/Berlin:20260506T140000
DTSTAMP:20260419T204803
CREATED:20260413T090639Z
LAST-MODIFIED:20260413T090639Z
UID:10022277-1778068800-1778076000@aachen-kalender.de
SUMMARY:Fairtrade-Aktionstage. "Fairtrade-Verkostung".
DESCRIPTION:Auch in diesem Jahr finden wieder die Fairtrade-Aktionstage in der Städteregion Aachen statt. Das Motto lautet „Eine Welt – unsere Welt“. Vom 06. bis zum 09. Mai erwartet interessierte Bürger_innen ein buntes Programm in der Städteregion Aachen\, das die Produktionsbedingungen und die Bedeutung von Fairtrade bekannter machen soll. \n\nAachen\, 12-14 Uhr: Fairtrade-Verkostung – Alle Mitarbeitenden und Besucher*innen des Hauses der StädteRegion Aachen sind herzlich zu einer Fairtrade-Verkostung eingeladen. Foyer der StädteRegion Aachen (Zollernstraße 10\, Aachen
URL:https://aachen-kalender.de/event/fairtrade-aktionstage-fairtrade-verkostung/
LOCATION:Haus der Städteregion\, Zollernstraße 10\, Aachen\, 52070\, Deutschland
CATEGORIES:Sonstiges
END:VEVENT
BEGIN:VEVENT
DTSTART;TZID=Europe/Berlin:20260506T140000
DTEND;TZID=Europe/Berlin:20260506T153000
DTSTAMP:20260419T204803
CREATED:20250203T155557Z
LAST-MODIFIED:20260323T124140Z
UID:10021328-1778076000-1778081400@aachen-kalender.de
SUMMARY:"Altstadtführung".
DESCRIPTION:Bei diesem abwechslungsreichen Rundgang durch die Aachener Altstadt lernen die Teilnehmer Aachen mit allen Facetten kennen: Als moderne Stadt mit schönen historischen Bürgerhäusern\, vielen alten und neuen Brunnen sowie unzähligen Erzählungen rund um Dom und Rathaus. Eine Führung\, bei der die 2000 Jahre alte Aachener Geschichte lebendig wird. \nEine vorherige Buchung wird empfohlen. \nKosten: Erwachsene 12\,00 Euro\, Schüler bis 17 Jahre 5\,50 Euro
URL:https://aachen-kalender.de/event/altstadtfuehrung-322/2026-05-06/
LOCATION:Tourist Info\, Elisenbrunnen\, Friedrich-Wilhelm-Platz\, Aachen\, 52062\, Deutschland
CATEGORIES:Führungen
ATTACH;FMTTYPE=image/png:https://aachen-kalender.de/wp-content/uploads/2024/12/Altstadtfuehrung_ats.png
END:VEVENT
BEGIN:VEVENT
DTSTART;TZID=Europe/Berlin:20260506T150000
DTEND;TZID=Europe/Berlin:20260506T170000
DTSTAMP:20260419T204803
CREATED:20260309T094935Z
LAST-MODIFIED:20260310T100957Z
UID:10021143-1778079600-1778086800@aachen-kalender.de
SUMMARY:Verkehrsunterricht mit Fahrradtraining für Kinder.
DESCRIPTION:Fahrradtraining der FahrRad in Aachen. Bei diesem Fahrradtraining werden Kids fit für den Straßenverkehr gemacht. Die Teilnahme ist kostenlos. \nAnmeldung via Dr. Stephanie Küpper\, telefonisch 0241-432-68213 oder per Mail an: fahrrad-in-aachen@mail.aachen.de. \n 
URL:https://aachen-kalender.de/event/verkehrsunterricht-mit-fahrradtraining-fuer-kinder/
LOCATION:Verkehrswacht\, Hohenstaufenallee 3\, Aachen\, 52064\, Deutschland
CATEGORIES:Familie
ATTACH;FMTTYPE=image/png:https://aachen-kalender.de/wp-content/uploads/2026/03/69ae9671eb892-0tYzpf-e1773049712385.png
END:VEVENT
BEGIN:VEVENT
DTSTART;TZID=Europe/Berlin:20260506T163000
DTEND;TZID=Europe/Berlin:20260506T163000
DTSTAMP:20260419T204803
CREATED:20260409T115529Z
LAST-MODIFIED:20260409T115529Z
UID:10022201-1778085000-1778085000@aachen-kalender.de
SUMMARY:Märchen mit Maria am Mittwoch.
DESCRIPTION:Maria erzählt Märchen frei und lebendig. Die Kinder gestalten die Geschichten aktiv mit. Dabei werden Fantasie\, sprachlicher Ausdruck und kreatives Denken gefördert. Für Kinder ab ca. 4 Jahren Dauer: ca. 30–40 Minuten Eintritt frei Keine Anmeldung erforderlich
URL:https://aachen-kalender.de/event/maerchen-mit-maria-am-mittwoch/2026-05-06/
LOCATION:Stadtbibliothek\, Couvenstraße 15\, Aachen\, 52062\, Deutschland
CATEGORIES:Familie
END:VEVENT
BEGIN:VEVENT
DTSTART;TZID=Europe/Berlin:20260506T163000
DTEND;TZID=Europe/Berlin:20260506T180000
DTSTAMP:20260419T204803
CREATED:20260326T104429Z
LAST-MODIFIED:20260326T104429Z
UID:10021700-1778085000-1778090400@aachen-kalender.de
SUMMARY:Entdeckerstunden mit Denise und Sabine.
DESCRIPTION:Experimentieren\, Malen\, Spielen\, Tanzen\, Lesen\, Basteln\, Gestalten\, Darstellen & Entdecken für Kinder zwischen 4 und 7 Jahren in der KinderWelt. \n\nEintritt frei
URL:https://aachen-kalender.de/event/entdeckerstunden-mit-denise-und-sabine-16/2026-05-06/
LOCATION:Mayersche Buchhandlung\, Buchkremerstraße 1-7\, Aachen\, 52062\, Deutschland
CATEGORIES:Familie
ATTACH;FMTTYPE=image/jpeg:https://aachen-kalender.de/wp-content/uploads/2025/11/Mayersche_Entdeckerstunden_alle.jpg
END:VEVENT
BEGIN:VEVENT
DTSTART;TZID=Europe/Berlin:20260506T170000
DTEND;TZID=Europe/Berlin:20260506T170000
DTSTAMP:20260419T204803
CREATED:20260413T185531Z
LAST-MODIFIED:20260413T185808Z
UID:10022324-1778086800-1778086800@aachen-kalender.de
SUMMARY:Rahmenprogramm Karlspreis. "Paneuropa als politisch-intellektuelles Projekt – Richard Graf Coudenhove-Kalergi und seine Vorstellungen vom vereinten Europa".
DESCRIPTION:Richard Nikolaus Graf Coudenhove-Kalergi steht 1950 als erster Preisträger am Anfang der Geschichte des Karlspreises. Er steht mehr noch am Ursprung einer europäischen Idee\, die bis heute nachwirkt\, die „Vereinigten Staaten von Europa“\, allerdings noch ganz anders konzipierte\, als sich der Vereinigungsprozess dann im „Europa der Institutionen“ ausgestaltete. Anlässlich des 75. Karlspreis-Jubiläums im letzten Jahr haben sich die Route Charlemagne und das Historische Institut der RWTH Aachen in einer Tagung Coudenhove-Kalergis und seiner Idee von Paneuropa angenommen. Der jetzt vorliegende Tagungsband versammelt Beiträge aus der aktuellen Forschung\, die zentrale Aspekte des Denkens und Handelns Coudenhove-Kalergis einordnen\, die Karlspreisverleihung als erinnerungspolitischen Moment analysieren und nach der Aktualität seiner Entwürfe vor dem Hintergrund heutiger EU-Krisen fragen. Es besteht die Möglichkeit zum Erwerb des Bandes. Die Herausgeber Ines Soldwisch und Frank Pohle signieren auf Wunsch gerne.\nEintritt: frei\n\nVeranstalter: Stadt Aachen\, Internationaler Karlspreis\n\nDie Veranstaltung gehört zum offiziellen Rahmenprogramm der Karlspreisverleihung 2026 an den ehemaligen italienischen Ministerpräsidenten Mario Draghi.
URL:https://aachen-kalender.de/event/rahmenprogramm-karlspreis-paneuropa-als-politisch-intellektuelles-projekt-richard-graf-coudenhove-kalergi-und-seine-vorstellungen-vom-vereinten-europa/
LOCATION:Centre Charlemagne\, Katschhof\, Aachen\, 52062\, Deutschland
CATEGORIES:Lesung/Vortrag
END:VEVENT
BEGIN:VEVENT
DTSTART;TZID=Europe/Berlin:20260506T170000
DTEND;TZID=Europe/Berlin:20260506T183000
DTSTAMP:20260419T204803
CREATED:20260407T093819Z
LAST-MODIFIED:20260407T093819Z
UID:10021997-1778086800-1778092200@aachen-kalender.de
SUMMARY:"Fokus Gebärmutter: Erkrankungen\, Diagnosen\, Therapien".
DESCRIPTION:SAH Eschweiler informiert am 6. Mai über gutartige Beschwerden wie Myome und Polypen bis hin zu Tumorerkrankungen. Das von der Deutschen Krebsgesellschaft zertifizierte Gynäkologische Krebszentrum am St.-Antonius-Hospital Eschweiler lädt herzlich zur Informationsveranstaltung „Fokus Gebärmutter: Erkrankungen\, Therapien“ ein. \nZiel des Angebots ist es\, über die vielfältigen Erkrankungen der Gebärmutter – von gutartigen Beschwerden wie Myome und Polypen bis hin zu Tumorerkrankungen – verständlich zu informieren. Dabei stehen Ursachen\, Symptome\, aktuelle Diagnoseverfahren und moderne Therapieoptionen im Fokus. „Uns ist wichtig\, medizinische Inhalte so zu vermitteln\, dass sie gut verständlich und alltagsnah sind“\, sagt Dr. med. Boris Abramowski\, Chefarzt der Klinik für Frauenheilkunde und Leiter des Gynäkologischen Krebszentrums. „Gut informierte Patientinnen können gemeinsam mit ihren behandelnden Ärztinnen und Ärzten sichere Entscheidungen treffen.“ \nIm Anschluss an die Vorträge besteht Gelegenheit\, Fragen zu stellen und mit den Expertinnen und Experten ins Gespräch zu kommen. „Wir möchten Raum für Fragen\, persönliche Gespräche und einen offenen Austausch schaffen“\, sagt Oberärztin Dr. med. Nisreen Kweider. Eine Anmeldung ist nicht erforderlich. Parken ist kostenfrei.
URL:https://aachen-kalender.de/event/fokus-gebaermutter-erkrankungen-diagnosen-therapien/
LOCATION:St. Antonius Hospital\, Dechant-Deckers-Straße 8\, Eschweiler\, Deutschland
CATEGORIES:Lesung/Vortrag
END:VEVENT
BEGIN:VEVENT
DTSTART;TZID=Europe/Berlin:20260506T180000
DTEND;TZID=Europe/Berlin:20260506T180000
DTSTAMP:20260419T204803
CREATED:20260414T093914Z
LAST-MODIFIED:20260414T093914Z
UID:10022349-1778090400-1778090400@aachen-kalender.de
SUMMARY:Reihe "Medizin für Bürgerinnen und Bürger". Dr. Khalid Sayed Ahmed. "Laser zur Behandlung von Harnsteinen und Prostatavergrößerungen".
DESCRIPTION:Dr. Khalid Sayed Ahmed spricht in der Cantina über Laser zur Behandlung von Harnsteinen und Prostatavergrößerungen. \nChefarzt der Klinik für Urologie und Kinderurologie. \nGehen Sie mit dem Rhein-Maas Klinikum auf die Reise in die medizinische Welt. Dabei bieten das Team neben dem verständlichen Überblick über aktuelle Optionen in Diagnostik und Therapie immer die Gelegenheit zum persönlichen Austausch mit den Spezialistinnen und Spezialisten.\n  \nDer Eintritt ist frei\, eine Anmeldung ist nicht erforderlich.
URL:https://aachen-kalender.de/event/reihe-medizin-fuer-buergerinnen-und-buerger-dr-khalid-sayed-ahmed-laser-zur-behandlung-von-harnsteinen-und-prostatavergroesserungen/
LOCATION:Cantina des Rhein-Maas Klinikums\, Mauerfeldchen 25\, Würselen\, 52146
CATEGORIES:Lesung/Vortrag
END:VEVENT
BEGIN:VEVENT
DTSTART;TZID=Europe/Berlin:20260506T183000
DTEND;TZID=Europe/Berlin:20260506T183000
DTSTAMP:20260419T204803
CREATED:20260401T124438Z
LAST-MODIFIED:20260413T185751Z
UID:10021879-1778092200-1778092200@aachen-kalender.de
SUMMARY:Rahmenprogramm Karlspreis. Prof. Max Kerner. "Florenz – Lesarten europäischer Kultur".
DESCRIPTION:Florenz im Quattrocento – hier entstand im 15. Jh. rund um die Riesenkuppel des Doms eine neue Welt: die Kultur der Renaissance. Ermöglicht wurde sie durch den Aufstieg der Medici\, einer erfolgreichen Kaufmanns- und Bankiersfamilie. Die Geschichte dieser ungewöhnlichen Familie und der Stadt Florenz führte zu einer faszinierenden Epoche in der Geschichte Europas\, zum Beginn der Moderne und ihrem Verständnis von Humanität und Individualität. Diesen „Vorreiter einer helleren Kultur“ gilt es\, an einigen herausragenden Zeugnissen aufzuweisen wie etwa der Paradiespforte des Baptisteriums (an dieser Bronze ist alles Genie) oder auch an Michelangelos David (berühmteste Kolossalstatue der Welt) oder schließlich an Botticcellis Primavera\, die als verschlüsseltes Rätselbild für das Florenz des Quattrocento steht und als Ikone einer Zeitenwende gilt.\n\n\n\nProf. Dr. Max Kerner\, Historisches Institut der RWTH Aachen University\n\n\n\nEintritt: frei\n\nVeranstalter: Hochschule für Musik und Tanz Köln | Aachen\, Internationaler Karlspreis\, Stadt Aachen\n\nDie Veranstaltung gehört zum offiziellen Rahmenprogramm der Karlspreisverleihung 2026 an den ehemaligen italienischen Ministerpräsidenten Mario Draghi.
URL:https://aachen-kalender.de/event/rahmenprogramm-karlspreis-prof-max-kerner/
LOCATION:Hochschule für Musik und Tanz\, Theaterplatz 16\, Aachen\, 52064\, Deutschland
CATEGORIES:Lesung/Vortrag
END:VEVENT
BEGIN:VEVENT
DTSTART;TZID=Europe/Berlin:20260506T190000
DTEND;TZID=Europe/Berlin:20260506T190000
DTSTAMP:20260419T204803
CREATED:20260325T132032Z
LAST-MODIFIED:20260325T132032Z
UID:10021651-1778094000-1778094000@aachen-kalender.de
SUMMARY:"Tastenpodium".
DESCRIPTION:Junge Instrumentalist*innen konzertieren. Leitung: Marianne Reiser.
URL:https://aachen-kalender.de/event/tastenpodium-3/
LOCATION:Musikschule der Stadt Aachen\, Blücherplatz 43\, Aachen\, 52058
CATEGORIES:Musik
END:VEVENT
BEGIN:VEVENT
DTSTART;TZID=Europe/Berlin:20260506T190000
DTEND;TZID=Europe/Berlin:20260506T190000
DTSTAMP:20260419T204803
CREATED:20260331T132705Z
LAST-MODIFIED:20260331T132705Z
UID:10021855-1778094000-1778094000@aachen-kalender.de
SUMMARY:Marc Sagnol. "Spuren jüdischer Geschichte".
DESCRIPTION:Marc Sagnol liest aus zwei Büchern\, in denen er sich literarisch und geografisch auf die Spuren jüdischer Schriftsteller begeben hat. In „Galizien und Lodomerien“\, heute Gebiete der westlichen Ukraine\, findet er verschollene österreichische\, polnische und jüdische Kultur und Erinnerungen an zahlreiche Schriftsteller wie Georg Trakl\, Joseph Roth\, Bruno Schulz und Paul Celan. Ein Leitfaden bleibt die Vernichtung der jüdischen Bevölkerung von Galizien in der Shoah und die unwiderrufliche Zerstörung einer blühenden Kultur. In „Celan\, Weißglas. Die Wasser des Bug“ wird die Suche nach den Orten von Paul Celan fortgesetzt. \nZeitgleich ist die Ausstellung „Synagogen in Polen und in der Ukraine“ von Marc Sagnol zu sehen. Am 7. Mai wird zudem sein Film „Die Wasser des Bug“ im Apollo-Kino gezeigt. \nIn Kooperation mit dem IZM Internationales Zeitungsmuseum\, Pontstraße 13\, Aachen \n\nKosten: kostenfrei
URL:https://aachen-kalender.de/event/marc-sagnol-spuren-juedischer-geschichte/
LOCATION:Int. Zeitungsmuseum (IZM)\, Pontstraße 13\, Aachen\, 52062\, Deutschland
CATEGORIES:Lesung/Vortrag
ATTACH;FMTTYPE=image/jpeg:https://aachen-kalender.de/wp-content/uploads/2026/03/Marc-Sagnol-Paris-2021-photo-Natalia-Bogdanovska-scaled-e1774963618839.jpg
END:VEVENT
BEGIN:VEVENT
DTSTART;TZID=Europe/Berlin:20260506T190000
DTEND;TZID=Europe/Berlin:20260506T190000
DTSTAMP:20260419T204803
CREATED:20260401T120831Z
LAST-MODIFIED:20260401T120831Z
UID:10021863-1778094000-1778094000@aachen-kalender.de
SUMMARY:Rabbiner Brian Weisz & Aaron Knappstein. "Purim und Karneval - Unterschiede und Gemeinsamkeiten".
DESCRIPTION:Das Purim-Fest ist ein den nichtjüdischen Menschen zumeist unbekanntes Fest im jüdischen Kalender. Da es mit Kostümen und Masken\, Freude und Lärm verbunden ist\, wird es manchmal mit dem karnevalistischen Treiben verglichen. Doch worin besteht die Differenz? Denn im Rheinland feierten und feiern jüdische Menschen auch Karneval\, so etwa die „Kölsche Kippa-Köpp“. Was sagt das über das (neue) jüdische Lebensgefühl in der „fünften Jahreszeit“ aus? Antworten hierauf geben der Aachener Rabbiner Brian Weisz und der Präsident des jüdischen Karnevalsvereins „Kölsche Kippa Köpp vun 2017 e. V.“ Aaron Knappstein. \nVeranstalter: Gesellschaft für christlich-jüdische Zusammenarbeit Aachen e.V. in Kooperation mit dem FestAusschuss Aachener Karneval 1935 e.V. \n\nDer Eintritt ist frei.\nEine Anmeldung ist erforderlich unter info@jgaachen.de.\nTeilnehmende müssen beim Einlass einen amtlichen Ausweis mitführen und sollten auf das Mitbringen großer Taschen und Rucksäcke verzichten.\n\n  \n 
URL:https://aachen-kalender.de/event/rabbiner-brian-weisz-aaron-knappstein-purim-und-karneval-unterschiede-und-gemeinsamkeiten/
LOCATION:Jüdische Gemeinde\, Synagogenplatz 23\, Aachen\, 52062
CATEGORIES:Lesung/Vortrag
END:VEVENT
BEGIN:VEVENT
DTSTART;TZID=Europe/Berlin:20260506T193000
DTEND;TZID=Europe/Berlin:20260506T193000
DTSTAMP:20260419T204803
CREATED:20260324T130450Z
LAST-MODIFIED:20260324T130528Z
UID:10021631-1778095800-1778095800@aachen-kalender.de
SUMMARY:Mörgens Extra. "Open Session. Session zum Mittanzen und Zuschauen".
DESCRIPTION:Die monatlichen Open Sessions im Mörgens\, hostet by ARTbewegt\, vereinen Tanzspaß\, freies Training und jede Menge Wissen über die Kultur hinter den Stilen. Jede Ausgabe wird von einer:m anderen Host und DJ-Sets geleitet. Die Grenzen zwischen Tänzer:innen und Publikum sind fließend und der Zugang während der Session ist jederzeit möglich. \n  \n\nhttps://theateraachen.reservix.de/p/reservix/event/2537678
URL:https://aachen-kalender.de/event/moergens-extra-open-session-session-zum-mittanzen-und-zuschauen-4/
LOCATION:Mörgens\, Mörgensstraße 24\, Aachen\, 52064
CATEGORIES:Sonstiges
END:VEVENT
BEGIN:VEVENT
DTSTART;TZID=Europe/Berlin:20260506T193000
DTEND;TZID=Europe/Berlin:20260506T193000
DTSTAMP:20260419T204803
CREATED:20260409T065555Z
LAST-MODIFIED:20260409T065555Z
UID:10022131-1778095800-1778095800@aachen-kalender.de
SUMMARY:Offener Autorinnentreff.
DESCRIPTION:Das Literaturbüro EMR bietet unentgeltlich einen offenen Autorinnentreff an für alle\, die selber Prosa oder Lyrik schreiben oder einfach nur zuhören möchten. Moderiert von Harald Redle werden kurze Prosatexte\, Ausschnitte aus längeren Romanarbeiten sowie Gedichte vorgelesen und zur Diskussion gestellt. Texte aller Art sind willkommen\, es geht um einen lebendigen Austausch miteinander. \nDetails zum Kartenverkauf: Der Eintritt ist kostenfrei. Spenden sind willkommen. Wir freuen uns auf Sie und Euch!
URL:https://aachen-kalender.de/event/offener-autorinnentreff/
LOCATION:Café Vers\, Löhergraben 22\, Aachen\, 52064\, Germany
CATEGORIES:Lesung/Vortrag
END:VEVENT
BEGIN:VEVENT
DTSTART;TZID=Europe/Berlin:20260506T200000
DTEND;TZID=Europe/Berlin:20260506T200000
DTSTAMP:20260419T204803
CREATED:20251127T123741Z
LAST-MODIFIED:20260414T111243Z
UID:10018590-1778097600-1778097600@aachen-kalender.de
SUMMARY:Grenzlandtheater. "Show Must Go On". Tribute to Freddie Mercury.
DESCRIPTION:Freddie Mercury – grandioser „Queen“-Frontmann\, Meister der Extravaganz\, genialer Songschreiber\, Sexsymbol für Männer und Frauen. Kein Zweifel\, Freddie war einer der ganz Großen. Auch Jahrzehnte nach seinem Tod fasziniert der Macho mit dem Schnauzbart\, der glamouröse Diva und zerbrechliche Künstlerseele zugleich war\, auf einzigartige Weise. Die Hits von „Queen“ tun ihr Übriges\, um den Mythos Mercury am Leben zu halten. \nIm Musical „Show must go on“ bekommt ein junger Mann\, Frederick\, den Auftrag\, nach der Asche von Freddie Mercury zu suchen. Schlaglichtartig wird anhand dieser Suche das Leben des Sängers nacherzählt\, Begegnungen mit Weggefährt*innen wechseln sich ab mit „Queen“-Klassikern. Erleben Sie Freddie Mercurys Weg vom unbekannten Kunststudenten Farrokh Bulsara zum absoluten Ausnahmekünstler.
URL:https://aachen-kalender.de/event/grenzlandtheater-show-must-go-on-tribute-to-freddie-mercury-7/2026-05-06/
LOCATION:Theaterzelt an der 100\,5 Arena\, Hubert-Wienen-Straße 8\, Aachen\, 52070\, Deutschland
CATEGORIES:Theater
ATTACH;FMTTYPE=image/jpeg:https://aachen-kalender.de/wp-content/uploads/2025/11/GTA-scaled-e1776165008701.jpg
END:VEVENT
BEGIN:VEVENT
DTSTART;TZID=Europe/Berlin:20260506T200000
DTEND;TZID=Europe/Berlin:20260506T200000
DTSTAMP:20260419T204803
CREATED:20251127T124846Z
LAST-MODIFIED:20260310T144101Z
UID:10018608-1778097600-1778097600@aachen-kalender.de
SUMMARY:"Einszweiundzwanzig vor dem Ende". Komödie von Matthieu Delaporte.
DESCRIPTION:Als Bernhard sich gerade umbringen will\, klopft es an der Tür. Ein Mann mit Schnurrbart\, Rollkragenpullover und Pistole steht und zielt auf den überrumpelten Bernhard. Es ist der Tod in Person\, der in dieser Funktion seinen ersten Arbeitstag hat und Bernhard abholen will. Leider hat sich der Tod im Stockwerk geirrt. Und auch ansonsten ist er alles andere als ein Profi … \nMatthieu Delaportes Stück ist eine originelle und witzige Spekulation über die unmittelbare Zeit vor dem Ende und zeichnet sich dabei durch Situationskomik und Sprachwitz aus.
URL:https://aachen-kalender.de/event/einszweiundzwanzig-vor-dem-ende-komoedie-von-matthieu-delaporte/2026-05-06/
LOCATION:Grenzlandtheater\, ElisenGalerie\, Aachen\, 52062
CATEGORIES:Theater
ATTACH;FMTTYPE=image/jpeg:https://aachen-kalender.de/wp-content/uploads/2025/11/Einszweiundzwanzig.jpg
END:VEVENT
END:VCALENDAR