BEGIN:VCALENDAR
VERSION:2.0
PRODID:-//Aachen-Termine - ECPv6.15.18//NONSGML v1.0//EN
CALSCALE:GREGORIAN
METHOD:PUBLISH
X-WR-CALNAME:Aachen-Termine
X-ORIGINAL-URL:https://aachen-kalender.de
X-WR-CALDESC:Veranstaltungen für Aachen-Termine
REFRESH-INTERVAL;VALUE=DURATION:PT1H
X-Robots-Tag:noindex
X-PUBLISHED-TTL:PT1H
BEGIN:VTIMEZONE
TZID:Europe/Berlin
BEGIN:DAYLIGHT
TZOFFSETFROM:+0100
TZOFFSETTO:+0200
TZNAME:CEST
DTSTART:20250330T010000
END:DAYLIGHT
BEGIN:STANDARD
TZOFFSETFROM:+0200
TZOFFSETTO:+0100
TZNAME:CET
DTSTART:20251026T010000
END:STANDARD
BEGIN:DAYLIGHT
TZOFFSETFROM:+0100
TZOFFSETTO:+0200
TZNAME:CEST
DTSTART:20260329T010000
END:DAYLIGHT
BEGIN:STANDARD
TZOFFSETFROM:+0200
TZOFFSETTO:+0100
TZNAME:CET
DTSTART:20261025T010000
END:STANDARD
BEGIN:DAYLIGHT
TZOFFSETFROM:+0100
TZOFFSETTO:+0200
TZNAME:CEST
DTSTART:20270328T010000
END:DAYLIGHT
BEGIN:STANDARD
TZOFFSETFROM:+0200
TZOFFSETTO:+0100
TZNAME:CET
DTSTART:20271031T010000
END:STANDARD
END:VTIMEZONE
BEGIN:VEVENT
DTSTART;TZID=Europe/Berlin:20260421T100000
DTEND;TZID=Europe/Berlin:20260421T170000
DTSTAMP:20260423T141033
CREATED:20260413T120753Z
LAST-MODIFIED:20260413T120753Z
UID:10022302-1776765600-1776790800@aachen-kalender.de
SUMMARY:Rahmenprogramm Karlspreis. "Von der Gazeta zur Gazette – Italienische (Zeitungs-)Impressionen". Kabinettausstellung.
DESCRIPTION:Das IZM wirft einen Blick auf die italienische Presselandschaft und ihre historische Entwicklung. Die „Gazeta“\, eine venezianische Münze aus dem 17. Jahrhundert\, war einst der Preis für eine einzelne Zeitung. Sie wurde weltweit zum Synonym für Zeitungen\, teils abwertend im Sinne einer „Groschenzeitung“\, meist aber als\nrespektvolle Bezeichnung für Qualitätszeitungen aller Art. Diese Prägung wirkt nach: Auch heute noch gibt es zahlreiche Zeitungen mit dem Namen „Gazetta“ in Italien und „Gazetten“ in vielen Ländern. Die Ausstellung präsentiert eine Auswahl italienischer Zeitungen aus vier Jahrhunderten. Dabei sind regionale Presseerzeugnisse\, wie z.B. deutschsprachige Zeitungen aus Südtirol\, ebenso vertreten wie Kuriosa und ausländische Zeitungen\, die\nüber ausgewählte Ereignisse der italienischen Geschichte berichten. Eine Reihe von „Gazetten“ rundet das Bild ab.\n\nDie Ausstellung wird bis zum 31. Dezember 2026 zu folgenden\nÖffnungszeiten präsentiert: Di – So: 10.00 – 17.00 Uhr\nMuseumseintritt: 10\,00 € / 6\,00 € (erm.)\nVeranstalter: Stadt Aachen\, Internationaler Karlspreis
URL:https://aachen-kalender.de/event/rahmenprogramm-karlspreis-von-der-gazeta-zur-gazette-italienische-zeitungs-impressionen-kabinettausstellung/
LOCATION:Int. Zeitungsmuseum (IZM)\, Pontstraße 13\, Aachen\, 52062\, Deutschland
CATEGORIES:Ausstellungen
END:VEVENT
BEGIN:VEVENT
DTSTART;TZID=Europe/Berlin:20260421T101500
DTEND;TZID=Europe/Berlin:20260421T101500
DTSTAMP:20260423T141033
CREATED:20260303T082239Z
LAST-MODIFIED:20260303T082346Z
UID:10020928-1776766500-1776766500@aachen-kalender.de
SUMMARY:"Interkultureller Kunstworkshop".
DESCRIPTION:Einmal im Monat bieten das Suermondt-Ludwig-Museum gemeinsam mit dem Referat für Integration und Migration des Caritas Verbandes Aachen interkulturelle Kunstworkshops an. \nNach einer gemeinsamen Betrachtung ausgewählter Kunstwerke der Sammlung werden die Teilnehmenden in der praktischen Arbeit kunsttherapeutisch begleitet\, um ihre Gedanken und Gefühle in Bilder und Formen zu fassen. Es wird ein sicherer Raum geschaffen\, in dem jede (r) kreativ tätig werden kann\, unabhängig von Vorkenntnissen. \nDer Workshop ist offen für alle Interessierten und bietet eine einzigartige Gelegenheit\, sich mit Kunst auf eine tiefere\, emotionale Weise auseinanderzusetzen. Dabei steht nicht das Endergebnis\, sondern der kreative Prozess im Vordergrund. \n\nKostenfreies Angebot\, Anmeldung erforderlich\n\n  \nInformation und Anmeldung \n\nIntegrationsagentur des Regionalen Caritasverbands Aachen\nGeraldine Wronski\nE-Mail: g.wronski@caritas-aachen.de\nTelefon: 0241 / 94927285
URL:https://aachen-kalender.de/event/interkultureller-kunstworkshop/
LOCATION:Suermondt-Ludwig-Museum\, Wilhelmstraße 18\, Aachen\, 52070\, Deutschland
CATEGORIES:Sonstiges
END:VEVENT
BEGIN:VEVENT
DTSTART;TZID=Europe/Berlin:20260421T120000
DTEND;TZID=Europe/Berlin:20260421T120000
DTSTAMP:20260423T141033
CREATED:20260303T153422Z
LAST-MODIFIED:20260319T125417Z
UID:10020977-1776772800-1776772800@aachen-kalender.de
SUMMARY:Stephan van de Wijgert. "Marktkonzert in der Kopermolen".
DESCRIPTION:Am 21. April findet in der Vaalser Kopermolen wieder ein Marktkonzert statt. Zu Gast ist der niederländische Organist Stephan van de Wijgert. Er studierte am Conservatorium von Utrecht bei u.a. Reitze Smits und Jan Welmers. Er ist Titularorganist in De Duif in Amsterdam an der historischen Smits-Orgel. Als künstlerischer Leiter der Berne Abteikonzerte bemüht er sich um innovative Programme\, in denen sich Tiefgang und Zugänglichkeit die Waage halten. In seinem Programm „Partitas und Portraits“ spielt er Musik von Böhm\, Bach und Sigfrid Karg-Elert – kleine Stücke in diversen Stilen von Palestrina über Händel bis hin zu Schönberg. \nDas ca. 30-minütige Marktkonzert findet während des Vaalser Wochenmarkts statt und beginnt um 12 Uhr. \n\nEintritt freie Gabe.\n\n 
URL:https://aachen-kalender.de/event/stephan-van-de-wijgert-marktkonzert-in-der-kopermolen/
LOCATION:De Kopermolen\, Von Clermontplein 11\, Vaals\, 6291 AT\, Deutschland
CATEGORIES:Musik
ATTACH;FMTTYPE=image/jpeg:https://aachen-kalender.de/wp-content/uploads/2026/03/2026-04-21-Stefan-van-de-Wijgert-Foto-Aldwin-Kroeze-scaled-e1772552032181.jpg
END:VEVENT
BEGIN:VEVENT
DTSTART;TZID=Europe/Berlin:20260421T120000
DTEND;TZID=Europe/Berlin:20260421T130000
DTSTAMP:20260423T141033
CREATED:20260303T083607Z
LAST-MODIFIED:20260303T083607Z
UID:10020932-1776772800-1776776400@aachen-kalender.de
SUMMARY:Kunst am Mittag. "Mehr als nur Tapeten - Wanddekoration in früherer Zeit".
DESCRIPTION:Großflächige Tapetenbilder zeigen Fluß- und Gebirgslandschaften\, exotische und fantastische Gegenden und lassen in Schäferszenen den Sehnsuchtsort Arkadien lebendig werden. \nMit Dr. Monika Haas \nMuseumseintritt zzgl. Führung 3\,00 Euro \nTreffpunkt Museumskasse \n  \nAnmeldung \n\nMuseumsdienst Aachen\nmuseumsdienst@mail.aachen.de\nTel.: +49 241 432-4998\nServicezeiten: Di-Fr: 9.00 – 14.00 Uhr
URL:https://aachen-kalender.de/event/kunst-am-mittag-mehr-als-nur-tapeten-wanddekoration-in-frueherer-zeit/
LOCATION:Couven Museum\, Hühnermarkt 17\, Aachen\, 52062\, Deutschland
CATEGORIES:Führungen
END:VEVENT
BEGIN:VEVENT
DTSTART;TZID=Europe/Berlin:20260421T130000
DTEND;TZID=Europe/Berlin:20260421T131500
DTSTAMP:20260423T141033
CREATED:20260309T140636Z
LAST-MODIFIED:20260309T140702Z
UID:10021193-1776776400-1776777300@aachen-kalender.de
SUMMARY:Kunstpause. "Der Lobkowitzer Kaiserpokal".
DESCRIPTION:Ein einzigartiges Meisterwerk: Der Lobkowitzer Kaiserpokal. \nDer Lobkowitzer Kaiserpokal gehört zu den bedeutendsten und eindrucksvollsten Werken barocker Schatzkunst im Suermondt-Ludwig-Museum. Das um 1650 in Prag entstandene Prunkgefäß wurde von Kaiser Ferdinand III. in Auftrag gegeben und einem Mitglied der böhmischen Adelsfamilie Lobkowitz gewidmet. Seit 1961 ist der Kaiserpokal Teil der Sammlung Ludwig und wird heute als Dauerleihgabe der Peter und Irene Ludwig Stiftung in der „Kunst- und Wunderkammer“ des Museums präsentiert. \nGefertigt aus getriebenem Gold und aufwendig verziert\, vereint der Pokal höchste Goldschmiedekunst mit meisterlicher Steinschnittarbeit der Prager Hofwerkstätten. Sein außergewöhnlich komplexes Bildprogramm macht ihn zu weit mehr als einem repräsentativen Schaustück. Reichsadler und imperiale Insignien\, Allegorien der Tugenden\, Darstellungen der vier Weltreiche des Altertums sowie 144 fein gearbeitete Kaiserporträts verdichten sich zu einem politischen Manifest kaiserlicher Macht und Legitimation. \nDie Kunstpause bietet Gelegenheit\, dieses einzigartige Kunstkammerstück als Sinnbild frühneuzeitlicher Herrschaftsrepräsentation zu entdecken und seine künstlerische wie ideologische Dimension zu erschließen. \nMit Karoline Bauer 
URL:https://aachen-kalender.de/event/kunstpause-der-lobkowitzer-kaiserpokal/
LOCATION:Suermondt-Ludwig-Museum\, Wilhelmstraße 18\, Aachen\, 52070\, Deutschland
CATEGORIES:Führungen
END:VEVENT
BEGIN:VEVENT
DTSTART;TZID=Europe/Berlin:20260421T140000
DTEND;TZID=Europe/Berlin:20260421T153000
DTSTAMP:20260423T141033
CREATED:20250203T155557Z
LAST-MODIFIED:20260323T124140Z
UID:10021315-1776780000-1776785400@aachen-kalender.de
SUMMARY:"Altstadtführung".
DESCRIPTION:Bei diesem abwechslungsreichen Rundgang durch die Aachener Altstadt lernen die Teilnehmer Aachen mit allen Facetten kennen: Als moderne Stadt mit schönen historischen Bürgerhäusern\, vielen alten und neuen Brunnen sowie unzähligen Erzählungen rund um Dom und Rathaus. Eine Führung\, bei der die 2000 Jahre alte Aachener Geschichte lebendig wird. \nEine vorherige Buchung wird empfohlen. \nKosten: Erwachsene 12\,00 Euro\, Schüler bis 17 Jahre 5\,50 Euro
URL:https://aachen-kalender.de/event/altstadtfuehrung-322/2026-04-21/
LOCATION:Tourist Info\, Elisenbrunnen\, Friedrich-Wilhelm-Platz\, Aachen\, 52062\, Deutschland
CATEGORIES:Führungen
ATTACH;FMTTYPE=image/png:https://aachen-kalender.de/wp-content/uploads/2024/12/Altstadtfuehrung_ats.png
END:VEVENT
BEGIN:VEVENT
DTSTART;TZID=Europe/Berlin:20260421T170000
DTEND;TZID=Europe/Berlin:20260421T190000
DTSTAMP:20260423T141033
CREATED:20260119T155948Z
LAST-MODIFIED:20260119T155948Z
UID:10019868-1776790800-1776798000@aachen-kalender.de
SUMMARY:Dr. Arne Driessen und Dr. Iordanis Gissis. "Gelenkknorpel: Wenns im Gelenk knirscht - Was tun?"
DESCRIPTION:Die beiden Spezialisten und Leiter des Gelenkzentrums\, Dr. Arne Driessen und Dr. Iordanis Gissis\, stellen den Zuhörern die Möglichkeiten vor\, die sie bei Gelenkknorpelverschleiß haben. Es gibt diverse Möglichkeiten\, die individuell auf den Knorpel und das Gelenk des Patienten angepasst werden müssen. Im Vordergrund stehen die Therapie- und Behandlungsmöglichkeiten bei Gelenkknorpelproblemen und -schäden. Im Anschluss an die Vorträge sind die Besucher eingeladen\, Fragen zu stellen und mit dem Ärzteteam in den Austausch zu gehen.
URL:https://aachen-kalender.de/event/dr-arne-driessen-und-dr-iordanis-gissis-gelenkknorpel-wenns-im-gelenk-knirscht-was-tun/
LOCATION:Luisenhospital\, Boxgraben 99\, Aachen\, 52064\, Deutschland
CATEGORIES:Lesung/Vortrag
ATTACH;FMTTYPE=image/png:https://aachen-kalender.de/wp-content/uploads/2026/01/696de192273e1-ppwiPZ-e1768838345960.png
END:VEVENT
BEGIN:VEVENT
DTSTART;TZID=Europe/Berlin:20260421T180000
DTEND;TZID=Europe/Berlin:20260421T180000
DTSTAMP:20260423T141033
CREATED:20260225T130649Z
LAST-MODIFIED:20260225T130649Z
UID:10020752-1776794400-1776794400@aachen-kalender.de
SUMMARY:Claudia Paganini. "Der neue Gott - künstliche Intelligenz und menschliche Sinnsuche".
DESCRIPTION:In ihrem Essay entfaltet Claudia Paganini eine brisante These: Erstmals erschafft der Mensch einen Gott\, statt ihn nur zu denken. \n\n\n\n„Ist Künstliche Intelligenz der neue Gott des digitalen Zeitalters?“ In diesem tiefgründigen Essay entfaltet Claudia Paganini eine philosophisch brisante These: Erstmals erschafft der Mensch einen Gott\, statt ihn nur zu denken. Die KI übernimmt zunehmend\, was einst der Religion vorbehalten war: Sinnstiftung\, Orientierung\, allzeit verfügbare Antworten. Wir beten nicht mehr\, wir klicken. \nMit analytischer Schärfe und theologischem Weitblick untersucht Paganini die spirituellen Konsequenzen dieser Entwicklung und zeigt: Im anbrechenden dritten Jahrtausend könnten nicht nur Menschen durch KI ersetzt werden\, sondern auch kein geringerer als \nGott selbst. Eine provokante Überlegung an der Schnittstelle von Religion und Technik.“  \nVerlag Herder \nDas Gespräch mit Claudia Paganini über ihr Buch findet im Rahmen des digitalen Lesekreises der Akademien Aachen\, Mainz und Rottenburg-Stuttgart statt. \n\n\n\n\n\nAutorin und Gesprächspartnerin\n\n\n\nDr. Claudia Paganini ist eine österreichische Philosophin\, Theologin und Kommunalpolitikerin. Nach Ende ihrer Vertretungsprofessur für Medienethik an der Hochschule für Philosophie München lehrt sie als Privatdozentin an der Universität Innsbruck. \nKostenfreie Veranstaltung. \n\nAnmeldung: https://www.akademie-bistum-aachen.de/bilden-begegnen/veranstaltungen/veranstaltung/Der-neue-Gott-kuenstliche-Intelligenz-und-menschliche-Sinnsuche-2026.04.21/?instancedate=1776787200000
URL:https://aachen-kalender.de/event/claudia-paganini-der-neue-gott-kuenstliche-intelligenz-und-menschliche-sinnsuche-2/
LOCATION:Online
CATEGORIES:Lesung/Vortrag
END:VEVENT
BEGIN:VEVENT
DTSTART;TZID=Europe/Berlin:20260421T180000
DTEND;TZID=Europe/Berlin:20260421T180000
DTSTAMP:20260423T141033
CREATED:20260225T132346Z
LAST-MODIFIED:20260225T132346Z
UID:10020753-1776794400-1776794400@aachen-kalender.de
SUMMARY:"Die Macht des Visums". Film und Diskussionsabend.
DESCRIPTION:Bewegende Geschichte eines binationalen Paares\, das nach drei abgelehnten Visa und mehreren Jahren Trennung endlich die Chance bekommt\, in Deutschland zusammenzuleben. \nEin Visum kann Türen öffnen oder sie verschlossen halten: Der Film deckt mithilfe von Expert:innen und Betroffenen aus verschiedenen Ländern die systematischen Ungerechtigkeiten und die menschliche Tragik auf\, die deutsche Visavergabe mit sich bringen kann. Es wird deutlich\, wie diese Praxis nicht nur persönliche Schicksale\, sondern auch globale Machtverhältnisse widerspiegelt. \nEin Film von VisaWie e. V.\, Produktion und Regie: Moritz Steegmaier\, 2024\, Filmlänge: 40 Minuten \nDie Veranstaltung findet in Kooperation statt mit Amnesty International Aachen e. V.\, Eine Welt Forum Aachen e. V.\, Eine Welt Netz NRW e. V.\, Katholik:innenräte der Regionen Aachen-Stadt und -Land und VisaWie? e .V. \n\nKostenfreie Veranstaltung\n\nAnmeldung\nBitte melden Sie sich über das Anmeldeformular auf der Veranstaltungsseite an. \nBei Rückfragen unter 0241 47996-25 \nichnehmeteil@bistum-aachen.de \nAkademie des Bistums Aachen\nLeonhardstraße 18-20\n52064 Aachen \nAnmeldefrist: 17.04.2026
URL:https://aachen-kalender.de/event/die-macht-des-visums-film-und-diskussionsabend/
LOCATION:Bischöfliche Akademie\, Leonhardstraße 18-20\, Aachen\, 52064\, Deutschland
CATEGORIES:Lesung/Vortrag
END:VEVENT
BEGIN:VEVENT
DTSTART;TZID=Europe/Berlin:20260421T180000
DTEND;TZID=Europe/Berlin:20260421T180000
DTSTAMP:20260423T141033
CREATED:20260310T095716Z
LAST-MODIFIED:20260310T095716Z
UID:10021220-1776794400-1776794400@aachen-kalender.de
SUMMARY:Else Schnakenberg. "Mikrobenvielfalt im Darm entscheidend für Gesundheit und Wohlbefinden".
DESCRIPTION:Der Darm bzw. Verdauungstrakt ist das größte Kontakt-Organ des Körpers mit der Umwelt und beeinflusst in hohem Maße unsere Immunkraft\, Vitalität und Gesamtgesundheit. Die Fülle der Funktionen ist abhängig von der Vielfalt\, Anzahl\, Vitalität und dem Zusammenspiel guter Darmbakterien. Leider machen unsere moderne Lebens- und Ernährungsweise den Bakterien das Überleben schwer und den Menschen krank. Je besser die Bakterien mit ihrem Lieblingsessen versorgt werden\, umso besser unterstützen sie Gesundheit und Wohlbefinden. Auch die Mikroben leben gerne nachhaltig und bevorzugen regionale\, saisonale und ökologische Nahrung. \n\nKostenfrei
URL:https://aachen-kalender.de/event/else-schnakenberg-mikrobenvielfalt-im-darm-entscheidend-fuer-gesundheit-und-wohlbefinden/
LOCATION:vhs Aachen\, Peterstraße 21-25\, Aachen\, 52062\, Deutschland
CATEGORIES:Lesung/Vortrag
END:VEVENT
BEGIN:VEVENT
DTSTART;TZID=Europe/Berlin:20260421T190000
DTEND;TZID=Europe/Berlin:20260421T190000
DTSTAMP:20260423T141033
CREATED:20260302T131136Z
LAST-MODIFIED:20260302T131136Z
UID:10020892-1776798000-1776798000@aachen-kalender.de
SUMMARY:"Die jüdische Aachener Familie Rosenberg".
DESCRIPTION:Zwei große Grabdenkmäler am Hauptweg des jüdischen Friedhofs an der Lütticher Straße veranschaulichen eindrücklich den abrupten und radikalen Bruch jüdischen Lebens in Aachen durch die Shoah: die Grabstätten der Familien Louis und Emil Rosenberg. Die beiden in Lünen geborenen Brüder waren in den 1880er Jahren nach Aachen gekommen und hatten hier einen Tuchgroßhandel gegründet\, den später Emils Sohn Hans übernahm. Das Unternehmen florierte bis zur Zwangsenteignung Ende des Jahres 1938 in der Aachener Bahnhofstraße.\nDer Vortrag stellt einzelne Familienmitglieder vor. Im Mittelpunkt steht dabei insbesondere das Schicksal der jungen Familie von Hans Rosenberg\, an den seit 2021 ein Stolperstein in der Limburger Straße erinnert. \n\nvhs\, Peterstraße\, Raum 241\, Forum\nkostenfreie Veranstaltung
URL:https://aachen-kalender.de/event/die-juedische-aachener-familie-rosenberg/
LOCATION:vhs Aachen\, Peterstraße 21-25\, Aachen\, 52062\, Deutschland
CATEGORIES:Lesung/Vortrag
END:VEVENT
BEGIN:VEVENT
DTSTART;TZID=Europe/Berlin:20260421T190000
DTEND;TZID=Europe/Berlin:20260421T190000
DTSTAMP:20260423T141033
CREATED:20260305T095217Z
LAST-MODIFIED:20260413T121216Z
UID:10021099-1776798000-1776798000@aachen-kalender.de
SUMMARY:Rahmenprogramm Karlspreis. Jean-Marie Magro. "Wohin steuert Europa? Herausforderungen und Visionen für die Zukunft der EU".
DESCRIPTION:Klimakrise\, geopolitische Spannungen\, Migration\, Sicherheit – die Europäische Union steht vor einer Vielzahl globaler Herausforderungen. Gleichzeitig haben alte und neue Mitgliedstaaten unterschiedliche Vorstellungen davon\, wie Europas Zukunft aussehen soll. Soll die EU sich weiter ausdehnen oder ihre Strukturen vertiefen – vielleicht sogar hin zu einer europäischen Verfassung? \nWas hält Europa heute zusammen – und was treibt es auseinander? Welches Selbstverständnis soll Europa in den kommenden Jahrzehnten tragen? \nBei ‚Europa am Dienstag‘ werden wir gemeinsam mit dem Experten Jean-Marie Magro diskutieren\, welche Wege die EU einschlagen kann und welche Vision sie braucht\, um den globalen Wandel aktiv zu gestalten. \nFragen aus dem Publikum sind willkommen. Die Moderation übernimmt Eva Onkels. Sie studierte Literatur- und Politikwissenschaft an der RWTH Aachen und war von 2015 bis 2019 Assistenzkraft bei EUROPE DIRECT Aachen. Aktuell ist sie am Forschungszentrum Jülich beschäftigt. \nEintritt: frei | Anmeldung unter https://ogy.de/Europa-2026\n\nVeranstalter: EUROPE DIRECT Aachen\, Europäisches Klassenzimmer\, Internationaler Karlspreis\, Deutsch-Französisches Kulturinstitut Aachen\n\nDie Veranstaltung gehört zum offiziellen Rahmenprogramm der Karlspreisverleihung 2026 an den ehemaligen italienischen Ministerpräsidenten Mario Draghi.
URL:https://aachen-kalender.de/event/jean-marie-magro-wohin-steuert-europa-herausforderungen-und-visionen-fuer-die-zukunft-der-eu/
LOCATION:Grashaus und Online
CATEGORIES:Lesung/Vortrag
END:VEVENT
BEGIN:VEVENT
DTSTART;TZID=Europe/Berlin:20260421T190000
DTEND;TZID=Europe/Berlin:20260421T190000
DTSTAMP:20260423T141033
CREATED:20260401T121529Z
LAST-MODIFIED:20260401T123656Z
UID:10021865-1776798000-1776798000@aachen-kalender.de
SUMMARY:Klavierabend.
DESCRIPTION:Mit Studierenden der Klasse Prof. Martinez-Mehner.
URL:https://aachen-kalender.de/event/klavierabend-11/
LOCATION:Hochschule für Musik und Tanz\, Theaterplatz 16\, Aachen\, 52064\, Deutschland
CATEGORIES:Musik
END:VEVENT
BEGIN:VEVENT
DTSTART;TZID=Europe/Berlin:20260421T193000
DTEND;TZID=Europe/Berlin:20260421T193000
DTSTAMP:20260423T141033
CREATED:20260310T102805Z
LAST-MODIFIED:20260319T142031Z
UID:10021234-1776799800-1776799800@aachen-kalender.de
SUMMARY:Florian Dankelmann & Marcel Emonds-pool. "Op d’r Tivoli!"
DESCRIPTION:Die Buchhandlung Schmetz freut sich auf einen bunten Bilder- und Geschichtenabend rund um den Aufstieg der Alemannia in die 3. Liga. Florian Dankelmann hat dieses besondere Jahr seiner Lieblingsmannschaft und ihrer Fans intensiv fotografisch begleitet und ein Buch daraus gemacht. Buchhändler Marcel Emonds-pool\, selbst großer Fan\, moderiert diesen launigen „Op d’r Tivoli“ Abend. \nFlorian Dankelmann ist Fotograf\, Designer und leidenschaftlicher Alemannia Aachen Fan seit über 20 Jahren. Nach seiner Ausbildung zum Mediengestalter studierte er Design\, schloss den Master mit Schwerpunkt Fotografie ab und gründete die Webdesign-Agentur Carolus Media. Als gebürtiger Öcher sucht er in seiner fotografischen Arbeit die Verbindung von ästhetischer Gestaltung und dokumentarischer Authentizität. \nTicket € 13\,- / ermäßigt € 10\,- gibt es in der Buchhandlung und sind bar zu zahlen. Ermäßigung erhalten Mitglieder der Alemannia gegen Vorlage des Ausweises\, Schüler:innen\, Studierende\, Schwerbehinderte ab 50% sowie Inhaber:innen des Aachener Ehrenamtspasses. Vorherige Anmeldung wird erbeten. \nTicketanfrage per E-Mail
URL:https://aachen-kalender.de/event/florian-dankelmann-marcel-emonds-pool-op-dr-tivoli/
LOCATION:Buchhandlung Schmetz am Dom\, Münsterplatz 7-9\, Aachen\, 52062\, Deutschland
CATEGORIES:Lesung/Vortrag
END:VEVENT
BEGIN:VEVENT
DTSTART;TZID=Europe/Berlin:20260421T193000
DTEND;TZID=Europe/Berlin:20260421T235900
DTSTAMP:20260423T141033
CREATED:20260224T092704Z
LAST-MODIFIED:20260323T115836Z
UID:10020680-1776799800-1776815940@aachen-kalender.de
SUMMARY:"Leuchtende Gärten: Frühlingslichter".
DESCRIPTION:Die Leuchtenden Gärten sind vom 10. bis zum 26. April zurück in Zülpich. Freuen Sie sich auf illuminierte Attraktionen im historischen Park am Wallgraben mitsamt seiner frühlingshaften Flora. Rund um die kurkölnische Landesburg\, über die Streuobstwiese\, vorbei am Weinberg und dem restaurierten Weiertor bis hin zum Bachtor erwarten die Gäste ein spektakuläres Lichtermeer\, leuchtende Skulpturen und einige illuminierte Attraktionen zum Staunen. Erstmals finden die Leuchtenden Gärten 2026 bereits im Frühling statt. Neu ist auch das bunte Rahmenprogramm mit täglich wechselnden Highlights u.a. Live-Musik von Eva Lebertz\, Leuchtakrobatik von Feuerartist René Albert sowie speziellen abendlichen Stadtführungen rund um den Käsmarkt. Auch die Akteure des Lichterzugs Eiserfey mit den beliebten Leuchtkostümen sind wieder Teil der zweiwöchigen Veranstaltung\, ebenso wie weitere Partner\, darunter die Römerthermen Zülpich und die Kirche St. Peter. \nErneut kommt es bei den Leuchtenden Gärten 2026 zur Kooperation mit den Lichtkünstlern von „World of Lights“\, die an gleicher Stelle schon die Leuchtenden Gärten in Zülpich von 2014 bis 2019 inszenierten. Der Eingang des Lichtspektakels erwartet Sie an der Landesburg neben der Brücke zum Wallgraben. Von dort können Sie alle Lichtstationen und illuminierten Highlights über einen Rundweg bestaunen. Ein Gastronomiebereich auf der Hälfte des Weges bietet täglich Speisen und Getränke. Neben den kulinarischen Eifeler Imbissspezialitäten wird auch eine erlesene Weinauswahl u.a. mit dem exklusiven Zülpicher Weiertor-Wein angeboten. Daneben wird im „Garten der Begegnung“ an den Wochenenden wieder der beliebte Fruchtpunsch ausgeschenkt.  Dort können Sie dann den direkten Ausgang zur Weierstraße nutzen oder zurück in Richtung Burg spazieren. \n\nTickets sind ab sofort im Rathaus der Stadt Zülpich sowie im Onlineshop des Seeparks erhältlich.\nAb März 2026 sind die Tickets zudem an der Hauptkasse zum Seepark erhältlich.\nAb dem 10. April ist dann täglich auch die Abendkasse geöffnet.
URL:https://aachen-kalender.de/event/leuchtende-gaerten-fruehlingslichter-2/2026-04-21/
LOCATION:Seepark Zülpich\, Am Wassersportsee 7\, Zülpich\, 53909\, Deutschland
CATEGORIES:Sonstiges
ATTACH;FMTTYPE=image/jpeg:https://aachen-kalender.de/wp-content/uploads/2026/02/10bis26April_LeuchtendeGaerten.jpg
END:VEVENT
END:VCALENDAR