BEGIN:VCALENDAR
VERSION:2.0
PRODID:-//Aachen-Termine - ECPv6.15.18//NONSGML v1.0//EN
CALSCALE:GREGORIAN
METHOD:PUBLISH
X-WR-CALNAME:Aachen-Termine
X-ORIGINAL-URL:https://aachen-kalender.de
X-WR-CALDESC:Veranstaltungen für Aachen-Termine
REFRESH-INTERVAL;VALUE=DURATION:PT1H
X-Robots-Tag:noindex
X-PUBLISHED-TTL:PT1H
BEGIN:VTIMEZONE
TZID:Europe/Berlin
BEGIN:DAYLIGHT
TZOFFSETFROM:+0100
TZOFFSETTO:+0200
TZNAME:CEST
DTSTART:20250330T010000
END:DAYLIGHT
BEGIN:STANDARD
TZOFFSETFROM:+0200
TZOFFSETTO:+0100
TZNAME:CET
DTSTART:20251026T010000
END:STANDARD
BEGIN:DAYLIGHT
TZOFFSETFROM:+0100
TZOFFSETTO:+0200
TZNAME:CEST
DTSTART:20260329T010000
END:DAYLIGHT
BEGIN:STANDARD
TZOFFSETFROM:+0200
TZOFFSETTO:+0100
TZNAME:CET
DTSTART:20261025T010000
END:STANDARD
BEGIN:DAYLIGHT
TZOFFSETFROM:+0100
TZOFFSETTO:+0200
TZNAME:CEST
DTSTART:20270328T010000
END:DAYLIGHT
BEGIN:STANDARD
TZOFFSETFROM:+0200
TZOFFSETTO:+0100
TZNAME:CET
DTSTART:20271031T010000
END:STANDARD
END:VTIMEZONE
BEGIN:VEVENT
DTSTART;TZID=Europe/Berlin:20260420T140000
DTEND;TZID=Europe/Berlin:20260420T140000
DTSTAMP:20260424T100955
CREATED:20260226T093944Z
LAST-MODIFIED:20260324T111241Z
UID:10020860-1776693600-1776693600@aachen-kalender.de
SUMMARY:"Öcher Bend". Finaltag.
DESCRIPTION:Alles findet ein Ende\, so auch der Osterbend. Aber zum Glück gibt es bald wieder den Sommerbend. Da trifft man sich wieder. \n 
URL:https://aachen-kalender.de/event/oecher-bend-2026-finaltag/
LOCATION:Bendplatz
CATEGORIES:Sonstiges
ATTACH;FMTTYPE=image/jpeg:https://aachen-kalender.de/wp-content/uploads/2024/12/19April_Bend-e1739804317527.jpg
END:VEVENT
BEGIN:VEVENT
DTSTART;TZID=Europe/Berlin:20260420T140000
DTEND;TZID=Europe/Berlin:20260420T153000
DTSTAMP:20260424T100955
CREATED:20250203T155557Z
LAST-MODIFIED:20260323T124140Z
UID:10021314-1776693600-1776699000@aachen-kalender.de
SUMMARY:"Altstadtführung".
DESCRIPTION:Bei diesem abwechslungsreichen Rundgang durch die Aachener Altstadt lernen die Teilnehmer Aachen mit allen Facetten kennen: Als moderne Stadt mit schönen historischen Bürgerhäusern\, vielen alten und neuen Brunnen sowie unzähligen Erzählungen rund um Dom und Rathaus. Eine Führung\, bei der die 2000 Jahre alte Aachener Geschichte lebendig wird. \nEine vorherige Buchung wird empfohlen. \nKosten: Erwachsene 12\,00 Euro\, Schüler bis 17 Jahre 5\,50 Euro
URL:https://aachen-kalender.de/event/altstadtfuehrung-322/2026-04-20/
LOCATION:Tourist Info\, Elisenbrunnen\, Friedrich-Wilhelm-Platz\, Aachen\, 52062\, Deutschland
CATEGORIES:Führungen
ATTACH;FMTTYPE=image/png:https://aachen-kalender.de/wp-content/uploads/2024/12/Altstadtfuehrung_ats.png
END:VEVENT
BEGIN:VEVENT
DTSTART;TZID=Europe/Berlin:20260420T190000
DTEND;TZID=Europe/Berlin:20260420T190000
DTSTAMP:20260424T100955
CREATED:20260401T122221Z
LAST-MODIFIED:20260401T122221Z
UID:10021869-1776711600-1776711600@aachen-kalender.de
SUMMARY:Violaabend.
DESCRIPTION:Mit Studierenden der Klasse Volodymyr Mykytka.
URL:https://aachen-kalender.de/event/violaabend-3/
LOCATION:Hochschule für Musik und Tanz\, Theaterplatz 16\, Aachen\, 52064\, Deutschland
CATEGORIES:Musik
END:VEVENT
BEGIN:VEVENT
DTSTART;TZID=Europe/Berlin:20260420T190000
DTEND;TZID=Europe/Berlin:20260420T190000
DTSTAMP:20260424T100955
CREATED:20260413T081428Z
LAST-MODIFIED:20260413T081428Z
UID:10022267-1776711600-1776711600@aachen-kalender.de
SUMMARY:Jenny Erpenbeck. "Heimsuchung".
DESCRIPTION:Ein Haus an einem märkischen See\, in dem ein ganzes Jahrhundert wütet: Es ist der Schauplatz für fünfzehn Lebensläufe\, Geschichten\, Schicksale\, von den Zwanzigerjahren bis heute. Seine Bewohner erleben die Weimarer Republik\, das Dritte Reich\, den Krieg und dessen Ende\, die DDR\, die Wende und die Zeit der Nachwende. Jedem einzelnen Schicksal gibt Jenny Erpenbeck eine eigene literarische Form\, jedes entfaltet auf ganz eigene Weise seine Dramatik\, seine Tragik\, sein Glück. Ein Panorama des letzten Jahrhunderts von beeindruckender Wucht. \n\nKartenbestellung unter E-Mail:\npost@theaterschule-aachen.de
URL:https://aachen-kalender.de/event/jenny-erpenbeck-heimsuchung/2026-04-20/
LOCATION:Barockfabrik\, Löhergraben 22\, Aachen\, 52064
CATEGORIES:Lesung/Vortrag
ATTACH;FMTTYPE=image/jpeg:https://aachen-kalender.de/wp-content/uploads/2026/01/IMG-20260112-WA0009-e1768227139472.jpg
END:VEVENT
BEGIN:VEVENT
DTSTART;TZID=Europe/Berlin:20260420T193000
DTEND;TZID=Europe/Berlin:20260420T193000
DTSTAMP:20260424T100955
CREATED:20260413T120127Z
LAST-MODIFIED:20260413T120142Z
UID:10022301-1776713400-1776713400@aachen-kalender.de
SUMMARY:Rahmenprogramm Karlspreis. "Wohlstand\, Freiheit\, Frieden und Demokratie. Die Werte- und Wirtschaftsgemeinschaft Europa".
DESCRIPTION:Drei Bereiche benennt der „Draghi-Report“\, in denen Europa dynamischer werden muss: die Innovationslücke gegenüber den USA und China\, Wettbewerbsfähigkeit im Energiesektor und bei der Sicherheit. Es lohnt der genaue Blick: Halten die USA und China die Versprechen als „gelobte Länder“ des Erfolgs? Nutzt die Euregio ihr Potenzial als Ort\, an dem Europa selbstverständlich gelebt wird? Wenn Europa sich des Wertes der eigenen Haltungen bewusst ist\, wie lässt der sich wirtschaftlich nutzen? Impulse aus Forschung\, Lehre und erfolgreichen Startups eröffnen den Abend. Anschließend präsentieren sich studentische Projekte im „Speed Geeking“. Dies ermöglicht schnelle Einblicke in unterschiedliche Praxisperspektiven – die in einem Abschlusspodium eingesammelt werden.\nGäste:\n\n\nProf. Dr. Thomas Ritz\, Rektor der FH Aachen\, Informatiker und Wirtschaftswissenschaftler\nDr. Robert Brüll\, Gründer und CEO von FibreCoat\, Aachen\, Landessprecher des Deutschen Startup-Verbandes für Nordrhein-Westfalen\nGesprächspartnerinnen und -partner von niederländischen Hochschulen sowie Vertreterinnen und Vertreter von Startups in der Euregio\n\n\n\nEintritt: frei | Anmeldung unter ichnehmeteil@bistum-aachen.de\n\nVeranstalter: Akademie des Bistums Aachen\, FH Aachen\, Ministerium für Wirtschaft\, Industrie\, Klimaschutz und Energie des Landes Nordrhein-Westfalen\, Stadt Aachen\, Internationaler Karlspreis\n\nDie Veranstaltung gehört zum offiziellen Rahmenprogramm der Karlspreisverleihung 2026 an den ehemaligen italienischen Ministerpräsidenten Mario Draghi.
URL:https://aachen-kalender.de/event/rahmenprogramm-karlspreis-wohlstand-freiheit-frieden-und-demokratie-die-werte-und-wirtschaftsgemeinschaft-europa/
LOCATION:Bischöfliche Akademie\, Leonhardstraße 18-20\, Aachen\, 52064\, Deutschland
CATEGORIES:Lesung/Vortrag
END:VEVENT
BEGIN:VEVENT
DTSTART;TZID=Europe/Berlin:20260420T193000
DTEND;TZID=Europe/Berlin:20260420T235900
DTSTAMP:20260424T100955
CREATED:20260224T092704Z
LAST-MODIFIED:20260323T115836Z
UID:10020679-1776713400-1776729540@aachen-kalender.de
SUMMARY:"Leuchtende Gärten: Frühlingslichter".
DESCRIPTION:Die Leuchtenden Gärten sind vom 10. bis zum 26. April zurück in Zülpich. Freuen Sie sich auf illuminierte Attraktionen im historischen Park am Wallgraben mitsamt seiner frühlingshaften Flora. Rund um die kurkölnische Landesburg\, über die Streuobstwiese\, vorbei am Weinberg und dem restaurierten Weiertor bis hin zum Bachtor erwarten die Gäste ein spektakuläres Lichtermeer\, leuchtende Skulpturen und einige illuminierte Attraktionen zum Staunen. Erstmals finden die Leuchtenden Gärten 2026 bereits im Frühling statt. Neu ist auch das bunte Rahmenprogramm mit täglich wechselnden Highlights u.a. Live-Musik von Eva Lebertz\, Leuchtakrobatik von Feuerartist René Albert sowie speziellen abendlichen Stadtführungen rund um den Käsmarkt. Auch die Akteure des Lichterzugs Eiserfey mit den beliebten Leuchtkostümen sind wieder Teil der zweiwöchigen Veranstaltung\, ebenso wie weitere Partner\, darunter die Römerthermen Zülpich und die Kirche St. Peter. \nErneut kommt es bei den Leuchtenden Gärten 2026 zur Kooperation mit den Lichtkünstlern von „World of Lights“\, die an gleicher Stelle schon die Leuchtenden Gärten in Zülpich von 2014 bis 2019 inszenierten. Der Eingang des Lichtspektakels erwartet Sie an der Landesburg neben der Brücke zum Wallgraben. Von dort können Sie alle Lichtstationen und illuminierten Highlights über einen Rundweg bestaunen. Ein Gastronomiebereich auf der Hälfte des Weges bietet täglich Speisen und Getränke. Neben den kulinarischen Eifeler Imbissspezialitäten wird auch eine erlesene Weinauswahl u.a. mit dem exklusiven Zülpicher Weiertor-Wein angeboten. Daneben wird im „Garten der Begegnung“ an den Wochenenden wieder der beliebte Fruchtpunsch ausgeschenkt.  Dort können Sie dann den direkten Ausgang zur Weierstraße nutzen oder zurück in Richtung Burg spazieren. \n\nTickets sind ab sofort im Rathaus der Stadt Zülpich sowie im Onlineshop des Seeparks erhältlich.\nAb März 2026 sind die Tickets zudem an der Hauptkasse zum Seepark erhältlich.\nAb dem 10. April ist dann täglich auch die Abendkasse geöffnet.
URL:https://aachen-kalender.de/event/leuchtende-gaerten-fruehlingslichter-2/2026-04-20/
LOCATION:Seepark Zülpich\, Am Wassersportsee 7\, Zülpich\, 53909\, Deutschland
CATEGORIES:Sonstiges
ATTACH;FMTTYPE=image/jpeg:https://aachen-kalender.de/wp-content/uploads/2026/02/10bis26April_LeuchtendeGaerten.jpg
END:VEVENT
BEGIN:VEVENT
DTSTART;TZID=Europe/Berlin:20260420T200000
DTEND;TZID=Europe/Berlin:20260420T200000
DTSTAMP:20260424T100955
CREATED:20251127T103446Z
LAST-MODIFIED:20260414T111841Z
UID:10018563-1776715200-1776715200@aachen-kalender.de
SUMMARY:Grenzlandtheater. "Show Must Go On". Tribute to Freddie Mercury.
DESCRIPTION:Freddie Mercury – grandioser „Queen“-Frontmann\, Meister der Extravaganz\, genialer Songschreiber\, Sexsymbol für Männer und Frauen. Kein Zweifel\, Freddie war einer der ganz Großen. Auch Jahrzehnte nach seinem Tod fasziniert der Macho mit dem Schnauzbart\, der glamouröse Diva und zerbrechliche Künstlerseele zugleich war\, auf einzigartige Weise. Die Hits von „Queen“ tun ihr Übriges\, um den Mythos Mercury am Leben zu halten. \nIm Musical „Show must go on“ bekommt ein junger Mann\, Frederick\, den Auftrag\, nach der Asche von Freddie Mercury zu suchen. Schlaglichtartig wird anhand dieser Suche das Leben des Sängers nacherzählt\, Begegnungen mit Weggefährt*innen wechseln sich ab mit „Queen“-Klassikern. Erleben Sie Freddie Mercurys Weg vom unbekannten Kunststudenten Farrokh Bulsara zum absoluten Ausnahmekünstler.
URL:https://aachen-kalender.de/event/grenzlandtheater-show-must-go-on-tribute-to-freddie-mercury-3/2026-04-20/
LOCATION:Theaterzelt an der 100\,5 Arena\, Hubert-Wienen-Straße 8\, Aachen\, 52070\, Deutschland
CATEGORIES:Theater
ATTACH;FMTTYPE=image/jpeg:https://aachen-kalender.de/wp-content/uploads/2025/11/GTA-scaled-e1776165008701.jpg
END:VEVENT
BEGIN:VEVENT
DTSTART;TZID=Europe/Berlin:20260420T200000
DTEND;TZID=Europe/Berlin:20260420T200000
DTSTAMP:20260424T100955
CREATED:20260309T093216Z
LAST-MODIFIED:20260416T103802Z
UID:10021141-1776715200-1776715200@aachen-kalender.de
SUMMARY:Michael Wolffsohn. "Genie und Gewissen. Herbert von Karajan zwischen Musik und Nationalsozialismus". FÄLLT KRANKHEITSBEDINGT AUS!
DESCRIPTION:Der Historiker und Publizist Michael Wolffsohn liest aus seinem Buch „Genie und Gewissen. Herbert von Karajan zwischen Musik und Nationalsozialismus“. Moderiert wird die Lesung von Bernd Mathieu. \nTicket: https://theateraachen.reservix.de/p/reservix/event/2526650
URL:https://aachen-kalender.de/event/michael-wolffsohn-genie-und-gewissen-herbert-von-karajan-zwischen-musik-und-nationalsozialismus/
LOCATION:Theater Aachen\, Theaterplatz\, Aachen\, 52062\, Deutschland
CATEGORIES:Lesung/Vortrag
END:VEVENT
END:VCALENDAR