BEGIN:VCALENDAR
VERSION:2.0
PRODID:-//Aachen-Termine - ECPv6.15.18//NONSGML v1.0//EN
CALSCALE:GREGORIAN
METHOD:PUBLISH
X-WR-CALNAME:Aachen-Termine
X-ORIGINAL-URL:https://aachen-kalender.de
X-WR-CALDESC:Veranstaltungen für Aachen-Termine
REFRESH-INTERVAL;VALUE=DURATION:PT1H
X-Robots-Tag:noindex
X-PUBLISHED-TTL:PT1H
BEGIN:VTIMEZONE
TZID:Europe/Berlin
BEGIN:DAYLIGHT
TZOFFSETFROM:+0100
TZOFFSETTO:+0200
TZNAME:CEST
DTSTART:20250330T010000
END:DAYLIGHT
BEGIN:STANDARD
TZOFFSETFROM:+0200
TZOFFSETTO:+0100
TZNAME:CET
DTSTART:20251026T010000
END:STANDARD
BEGIN:DAYLIGHT
TZOFFSETFROM:+0100
TZOFFSETTO:+0200
TZNAME:CEST
DTSTART:20260329T010000
END:DAYLIGHT
BEGIN:STANDARD
TZOFFSETFROM:+0200
TZOFFSETTO:+0100
TZNAME:CET
DTSTART:20261025T010000
END:STANDARD
BEGIN:DAYLIGHT
TZOFFSETFROM:+0100
TZOFFSETTO:+0200
TZNAME:CEST
DTSTART:20270328T010000
END:DAYLIGHT
BEGIN:STANDARD
TZOFFSETFROM:+0200
TZOFFSETTO:+0100
TZNAME:CET
DTSTART:20271031T010000
END:STANDARD
END:VTIMEZONE
BEGIN:VEVENT
DTSTART;TZID=Europe/Berlin:20260413T140000
DTEND;TZID=Europe/Berlin:20260413T140000
DTSTAMP:20260421T094958
CREATED:20260226T093537Z
LAST-MODIFIED:20260324T111142Z
UID:10020847-1776088800-1776088800@aachen-kalender.de
SUMMARY:"Öcher Bend".
DESCRIPTION:Der Öcher Bend findet zweimal im Jahr in Aachen statt. Der Osterbend ist der Auftakt in jede Kirmessaison. 17 Tage lang locken täglich ab 14 Uhr rasante Fahrgeschäfte und kulinarische Leckerbissen – ein Vergnügen für Jung und Alt. \n 
URL:https://aachen-kalender.de/event/oecher-bend-2026-2/2026-04-13/
LOCATION:Bendplatz
CATEGORIES:Sonstiges
ATTACH;FMTTYPE=image/jpeg:https://aachen-kalender.de/wp-content/uploads/2024/12/19April_Bend-e1739804317527.jpg
END:VEVENT
BEGIN:VEVENT
DTSTART;TZID=Europe/Berlin:20260413T140000
DTEND;TZID=Europe/Berlin:20260413T153000
DTSTAMP:20260421T094958
CREATED:20250203T155557Z
LAST-MODIFIED:20260323T124140Z
UID:10021308-1776088800-1776094200@aachen-kalender.de
SUMMARY:"Altstadtführung".
DESCRIPTION:Bei diesem abwechslungsreichen Rundgang durch die Aachener Altstadt lernen die Teilnehmer Aachen mit allen Facetten kennen: Als moderne Stadt mit schönen historischen Bürgerhäusern\, vielen alten und neuen Brunnen sowie unzähligen Erzählungen rund um Dom und Rathaus. Eine Führung\, bei der die 2000 Jahre alte Aachener Geschichte lebendig wird. \nEine vorherige Buchung wird empfohlen. \nKosten: Erwachsene 12\,00 Euro\, Schüler bis 17 Jahre 5\,50 Euro
URL:https://aachen-kalender.de/event/altstadtfuehrung-322/2026-04-13/
LOCATION:Tourist Info\, Elisenbrunnen\, Friedrich-Wilhelm-Platz\, Aachen\, 52062\, Deutschland
CATEGORIES:Führungen
ATTACH;FMTTYPE=image/png:https://aachen-kalender.de/wp-content/uploads/2024/12/Altstadtfuehrung_ats.png
END:VEVENT
BEGIN:VEVENT
DTSTART;TZID=Europe/Berlin:20260413T140000
DTEND;TZID=Europe/Berlin:20260413T153000
DTSTAMP:20260421T094958
CREATED:20260224T094553Z
LAST-MODIFIED:20260224T094553Z
UID:10020690-1776088800-1776094200@aachen-kalender.de
SUMMARY:Vortrag der Wohnberatung. "Abenteuer Wohnungssuche – Wie sich Senior*innen gut rüsten".
DESCRIPTION:Wenn sich ältere Menschen heute auf die Suche nach einer neuen Wohnung begeben\, treffen sie auf ein überschaubares Angebot – und eine schnelle\, digitale Welt\, die sie oftmals benachteiligt. Mit einer guten Vorbereitung auf die Wohnungssuche können sie ihre Chancen aber durchaus verbessern. Die Wohnberatung der Leitstelle „Älter werden in Aachen“ gibt in einem Vortrag Hilfestellungen und Tipps. \nDie Veranstaltung findet statt am Montag\, 13. April\, in der Begegnungsstätte Burtscheider Stube\, Bayernallee 3-5 (14.00 bis 15.30 Uhr). \n\nEine Anmeldung wird erbeten unter Tel. 69334 oder wyk15848@gmx.de.
URL:https://aachen-kalender.de/event/vortrag-der-wohnberatung-abenteuer-wohnungssuche-wie-sich-seniorinnen-gut-ruesten-3/
LOCATION:Burtscheider Stube\, Bayernallee 3-5\, Aachen\, 52066
CATEGORIES:Lesung/Vortrag
END:VEVENT
BEGIN:VEVENT
DTSTART;TZID=Europe/Berlin:20260413T163000
DTEND;TZID=Europe/Berlin:20260413T180000
DTSTAMP:20260421T094958
CREATED:20260407T093704Z
LAST-MODIFIED:20260407T093704Z
UID:10021996-1776097800-1776103200@aachen-kalender.de
SUMMARY:SAH GelenkZeit. "Der Roboter in der Endoprothetik - die bessere Prothese?".
DESCRIPTION:Wie hilft moderne Technik bei Hüft- und Kniegelenkersatz? Ist der Einsatz eines Roboters in der Endoprothetik tatsächlich ein Vorteil für Patientinnen und Patienten? Antworten auf diese und weitere Fragen gibt die nächste Ausgabe der monatlichen Patienteninformationsveranstaltung „GelenkZeit“ des zertifizierten EndoProthetikZentrums (EPZ) am St.-Antonius-Hospital Eschweiler. Im Mittelpunkt der Veranstaltung stehen aktuelle Entwicklungen in der Behandlung von Arthrose an Hüfte und Knie. Die Expertinnen und Experten des EPZ geben umfassende Einblicke in moderne Therapiekonzepte und stellen mögliche Behandlungsoptionen verständlich vor. Ein besonderer Fokus liegt diesmal auf dem Einsatz computer-gestützter und robotisch assistierter Verfahren in der Endoprothetik und zeigt auf\, welche Vorteile diese Technologien bei Planung\, Präzision und Implantation bieten können. Die Veranstaltung richtet sich an Patientinnen und Patienten\, Angehörige sowie alle Interessierten\, die sich über moderne Entwicklungen in der Endoprothetik informieren möchten. Im Anschluss an die Vorträge stehen die Referierenden für individuelle Fragen und den persönlichen Austausch zur Verfügung.
URL:https://aachen-kalender.de/event/sah-gelenkzeit-der-roboter-in-der-endoprothetik-die-bessere-prothese/
LOCATION:St. Antonius Hospital\, Dechant-Deckers-Straße 8\, Eschweiler\, Deutschland
CATEGORIES:Lesung/Vortrag
END:VEVENT
BEGIN:VEVENT
DTSTART;TZID=Europe/Berlin:20260413T170000
DTEND;TZID=Europe/Berlin:20260413T193000
DTSTAMP:20260421T094958
CREATED:20260224T101315Z
LAST-MODIFIED:20260224T101331Z
UID:10020707-1776099600-1776108600@aachen-kalender.de
SUMMARY:Fahrradtraining für Lastenräder.
DESCRIPTION:Alle Termine sind kostenlos\, auf Deutsch und Englisch und für Erwachsene. Lastenräder und Helme müssen mitgebracht werden. Einige Lastenräder stehen zur Verfügung. Das Leihlastenradsystem wird vorgestellt. \n\n\n\nAnmeldung (nötig): fahrrad-in-aachen@mail.aachen.de\nAdresse: Verkehrsübungsplatz\, Hohenstaufenallee 3
URL:https://aachen-kalender.de/event/fahrradtrainings-fuer-lastenraeder/
LOCATION:Verkehrswacht\, Hohenstaufenallee 3\, Aachen\, 52064\, Deutschland
CATEGORIES:Sport
END:VEVENT
BEGIN:VEVENT
DTSTART;TZID=Europe/Berlin:20260413T190000
DTEND;TZID=Europe/Berlin:20260413T190000
DTSTAMP:20260421T094958
CREATED:20260225T125131Z
LAST-MODIFIED:20260225T125202Z
UID:10020749-1776106800-1776106800@aachen-kalender.de
SUMMARY:Binge - der Serienzirkel. "Dexter".
DESCRIPTION:Serien besprechen und deren Themen reflektieren. Gemeinsam Fragen stellen\, Plots aufs eigene Leben beziehen und Gedanken dazu teilen – wie ein Literaturkreis für Serien. Einstieg jederzeit möglich.\nDie aktuelle Serie: Dexter\n\n„Dexter hat ein großes Geheimnis: Tagsüber klärt er Mordverbrechen auf\, nachts begeht er selbst welche. Er hat einen großen Drang zu töten\, dabei bemüht er sich jedoch\, nur ’schlechte Menschen‘ umzubringen. Beispielsweise solche\, die von der Justiz aufgrund fehlender Beweislast nicht bestraft werden konnten.“ \n\n\n\n\nAnmeldung:\n0241 47996-24\nichnehmeteil@bistum-aachen.de
URL:https://aachen-kalender.de/event/binge-der-serienzirkel-dexter/
LOCATION:Bischöfliche Akademie\, Leonhardstraße 18-20\, Aachen\, 52064\, Deutschland
CATEGORIES:Lesung/Vortrag
END:VEVENT
BEGIN:VEVENT
DTSTART;TZID=Europe/Berlin:20260413T190000
DTEND;TZID=Europe/Berlin:20260413T190000
DTSTAMP:20260421T094958
CREATED:20260401T121705Z
LAST-MODIFIED:20260401T123817Z
UID:10021866-1776106800-1776106800@aachen-kalender.de
SUMMARY:Klavierabend.
DESCRIPTION:Mit Studierenden der Klasse Prof. Andreas Frölich.
URL:https://aachen-kalender.de/event/klavierabend-12/
LOCATION:Hochschule für Musik und Tanz\, Theaterplatz 16\, Aachen\, 52064\, Deutschland
CATEGORIES:Musik
END:VEVENT
BEGIN:VEVENT
DTSTART;TZID=Europe/Berlin:20260413T190000
DTEND;TZID=Europe/Berlin:20260413T200000
DTSTAMP:20260421T094958
CREATED:20260408T070511Z
LAST-MODIFIED:20260408T070511Z
UID:10022070-1776106800-1776110400@aachen-kalender.de
SUMMARY:Vernissage zu einem Medienprojekt von Uwe Appold und Stephan Richter.
DESCRIPTION:Vernissage: M3 – Medium\, Message\, Massage Ein Experiment: \nLässt sich im Zeitalter des Internets und der Dauerkommunikation noch mit Hilfe der guten alten gedruckten Zeitung der Blick auf Inhalte schärfen? \nMit der Vernissage wird die Ausstellung eröffnet. Die Einführung in die Ausstellung erfolgt durch den Künstler und Designer Uwe Appold.
URL:https://aachen-kalender.de/event/vernissage-zu-einem-medienprojekt-von-uwe-appold-und-stephan-richter/
LOCATION:Akademie des Bistums Aachen\, Leonhardstraße 18-20\, Aachen\, 52064
CATEGORIES:Ausstellungen
END:VEVENT
BEGIN:VEVENT
DTSTART;TZID=Europe/Berlin:20260413T193000
DTEND;TZID=Europe/Berlin:20260413T235900
DTSTAMP:20260421T094958
CREATED:20260224T092107Z
LAST-MODIFIED:20260323T115917Z
UID:10020663-1776108600-1776124740@aachen-kalender.de
SUMMARY:"Leuchtende Gärten: Frühlingslichter".
DESCRIPTION:Die Leuchtenden Gärten sind vom 10. bis zum 26. April zurück in Zülpich. Freuen Sie sich auf illuminierte Attraktionen im historischen Park am Wallgraben mitsamt seiner frühlingshaften Flora. Rund um die kurkölnische Landesburg\, über die Streuobstwiese\, vorbei am Weinberg und dem restaurierten Weiertor bis hin zum Bachtor erwarten die Gäste ein spektakuläres Lichtermeer\, leuchtende Skulpturen und einige illuminierte Attraktionen zum Staunen. Erstmals finden die Leuchtenden Gärten 2026 bereits im Frühling statt. Neu ist auch das bunte Rahmenprogramm mit täglich wechselnden Highlights u.a. Live-Musik von Eva Lebertz\, Leuchtakrobatik von Feuerartist René Albert sowie speziellen abendlichen Stadtführungen rund um den Käsmarkt. Auch die Akteure des Lichterzugs Eiserfey mit den beliebten Leuchtkostümen sind wieder Teil der zweiwöchigen Veranstaltung\, ebenso wie weitere Partner\, darunter die Römerthermen Zülpich und die Kirche St. Peter. \nErneut kommt es bei den Leuchtenden Gärten 2026 zur Kooperation mit den Lichtkünstlern von „World of Lights“\, die an gleicher Stelle schon die Leuchtenden Gärten in Zülpich von 2014 bis 2019 inszenierten. Der Eingang des Lichtspektakels erwartet Sie an der Landesburg neben der Brücke zum Wallgraben. Von dort können Sie alle Lichtstationen und illuminierten Highlights über einen Rundweg bestaunen. Ein Gastronomiebereich auf der Hälfte des Weges bietet täglich Speisen und Getränke. Neben den kulinarischen Eifeler Imbissspezialitäten wird auch eine erlesene Weinauswahl u.a. mit dem exklusiven Zülpicher Weiertor-Wein angeboten. Daneben wird im „Garten der Begegnung“ an den Wochenenden wieder der beliebte Fruchtpunsch ausgeschenkt.  Dort können Sie dann den direkten Ausgang zur Weierstraße nutzen oder zurück in Richtung Burg spazieren. \n\nTickets sind ab sofort im Rathaus der Stadt Zülpich sowie im Onlineshop des Seeparks erhältlich.\nAb März 2026 sind die Tickets zudem an der Hauptkasse zum Seepark erhältlich.\nAb dem 10. April ist dann täglich auch die Abendkasse geöffnet.
URL:https://aachen-kalender.de/event/leuchtende-gaerten-fruehlingslichter/2026-04-13/
LOCATION:Seepark Zülpich\, Am Wassersportsee 7\, Zülpich\, 53909\, Deutschland
CATEGORIES:Sonstiges
ATTACH;FMTTYPE=image/jpeg:https://aachen-kalender.de/wp-content/uploads/2026/02/10bis26April_LeuchtendeGaerten.jpg
END:VEVENT
BEGIN:VEVENT
DTSTART;TZID=Europe/Berlin:20260413T200000
DTEND;TZID=Europe/Berlin:20260413T200000
DTSTAMP:20260421T094958
CREATED:20251127T102747Z
LAST-MODIFIED:20260414T112117Z
UID:10018550-1776110400-1776110400@aachen-kalender.de
SUMMARY:Grenzlandtheater. "Show Must Go On". Tribute to Freddie Mercury.
DESCRIPTION:Freddie Mercury – grandioser „Queen“-Frontmann\, Meister der Extravaganz\, genialer Songschreiber\, Sexsymbol für Männer und Frauen. Kein Zweifel\, Freddie war einer der ganz Großen. Auch Jahrzehnte nach seinem Tod fasziniert der Macho mit dem Schnauzbart\, der glamouröse Diva und zerbrechliche Künstlerseele zugleich war\, auf einzigartige Weise. Die Hits von „Queen“ tun ihr Übriges\, um den Mythos Mercury am Leben zu halten. \nIm Musical „Show must go on“ bekommt ein junger Mann\, Frederick\, den Auftrag\, nach der Asche von Freddie Mercury zu suchen. Schlaglichtartig wird anhand dieser Suche das Leben des Sängers nacherzählt\, Begegnungen mit Weggefährt*innen wechseln sich ab mit „Queen“-Klassikern. Erleben Sie Freddie Mercurys Weg vom unbekannten Kunststudenten Farrokh Bulsara zum absoluten Ausnahmekünstler.
URL:https://aachen-kalender.de/event/grenzlandtheater-show-must-go-on-tribute-to-freddie-mercury/2026-04-13/
LOCATION:Theaterzelt an der 100\,5 Arena\, Hubert-Wienen-Straße 8\, Aachen\, 52070\, Deutschland
CATEGORIES:Theater
ATTACH;FMTTYPE=image/jpeg:https://aachen-kalender.de/wp-content/uploads/2025/11/GTA-scaled-e1776165008701.jpg
END:VEVENT
END:VCALENDAR