BEGIN:VCALENDAR
VERSION:2.0
PRODID:-//Aachen-Termine - ECPv6.15.18//NONSGML v1.0//EN
CALSCALE:GREGORIAN
METHOD:PUBLISH
X-ORIGINAL-URL:https://aachen-kalender.de
X-WR-CALDESC:Veranstaltungen für Aachen-Termine
REFRESH-INTERVAL;VALUE=DURATION:PT1H
X-Robots-Tag:noindex
X-PUBLISHED-TTL:PT1H
BEGIN:VTIMEZONE
TZID:Europe/Berlin
BEGIN:DAYLIGHT
TZOFFSETFROM:+0100
TZOFFSETTO:+0200
TZNAME:CEST
DTSTART:20250330T010000
END:DAYLIGHT
BEGIN:STANDARD
TZOFFSETFROM:+0200
TZOFFSETTO:+0100
TZNAME:CET
DTSTART:20251026T010000
END:STANDARD
BEGIN:DAYLIGHT
TZOFFSETFROM:+0100
TZOFFSETTO:+0200
TZNAME:CEST
DTSTART:20260329T010000
END:DAYLIGHT
BEGIN:STANDARD
TZOFFSETFROM:+0200
TZOFFSETTO:+0100
TZNAME:CET
DTSTART:20261025T010000
END:STANDARD
BEGIN:DAYLIGHT
TZOFFSETFROM:+0100
TZOFFSETTO:+0200
TZNAME:CEST
DTSTART:20270328T010000
END:DAYLIGHT
BEGIN:STANDARD
TZOFFSETFROM:+0200
TZOFFSETTO:+0100
TZNAME:CET
DTSTART:20271031T010000
END:STANDARD
END:VTIMEZONE
BEGIN:VEVENT
DTSTART;TZID=Europe/Berlin:20260225T120000
DTEND;TZID=Europe/Berlin:20260225T130000
DTSTAMP:20260423T121345
CREATED:20260106T101632Z
LAST-MODIFIED:20260106T101653Z
UID:10019425-1772020800-1772024400@aachen-kalender.de
SUMMARY:Kunst am Mittag. "Öffentliche Themenführung zur Ausstellung Shu Lea Cheang. 'KI$$ KI$$'".
DESCRIPTION:An jedem vierten Mittwoch im Monat wird eine Führung zu wechselnden Themen in den aktuellen Ausstellungen angeboten. \n\nMit Anmeldung\, Kosten: 3 € zzgl. Museumseintritt\nTreffpunkt: Museumskasse\n \nAnmeldung über den Museumsdienst Aachen:\nE-Mail: museumsdienst@mail.aachen.de\nTelefon: 0241 / 432-4998
URL:https://aachen-kalender.de/event/kunst-am-mittag-oeffentliche-themenfuehrung-zur-ausstellung-shu-lea-cheang-ki-ki/
LOCATION:Ludwig Forum\, Jülicher Straße 97-109\, Aachen\, 52070\, Deutschland
CATEGORIES:Führungen
ATTACH;FMTTYPE=image/jpeg:https://aachen-kalender.de/wp-content/uploads/2025/10/27Nov_bisMaerz_KissKiss_Lufo.jpg
END:VEVENT
BEGIN:VEVENT
DTSTART;TZID=Europe/Berlin:20260225T160000
DTEND;TZID=Europe/Berlin:20260225T160000
DTSTAMP:20260423T121345
CREATED:20260108T114335Z
LAST-MODIFIED:20260108T114335Z
UID:10019623-1772035200-1772035200@aachen-kalender.de
SUMMARY:Heribert Steinheuer. "Schnupperstunde: Präsentationen mit PowerPoint".
DESCRIPTION:Die kostenfreien und unverbindlichen Informationsveranstaltungen geben einen Überblick über die jeweiligen Schulungsinhalte. \n\nOrt: vhs\, Peterstraße\, Raum 324/325\, 52062 Aachen\nKostenfrei
URL:https://aachen-kalender.de/event/heribert-steinheuer-schnupperstunde-praesentationen-mit-powerpoint/
LOCATION:vhs Aachen\, Peterstraße 21-25\, Aachen\, 52062\, Deutschland
CATEGORIES:Lesung/Vortrag
END:VEVENT
BEGIN:VEVENT
DTSTART;TZID=Europe/Berlin:20260225T163000
DTEND;TZID=Europe/Berlin:20260225T180000
DTSTAMP:20260423T121345
CREATED:20260107T123054Z
LAST-MODIFIED:20260107T123054Z
UID:10019522-1772037000-1772042400@aachen-kalender.de
SUMMARY:Entdeckerstunden mit Denise und Sabine.
DESCRIPTION:Experimentieren\, Malen\, Spielen\, Tanzen\, Lesen\, Basteln\, Gestalten\, Darstellen & Entdecken für Kinder zwischen 4 und 7 Jahren in der KinderWelt. \n\nEintritt frei
URL:https://aachen-kalender.de/event/entdeckerstunden-mit-denise-und-sabine-6/2026-02-25/
LOCATION:Mayersche Buchhandlung\, Buchkremerstraße 1-7\, Aachen\, 52062\, Deutschland
CATEGORIES:Familie
ATTACH;FMTTYPE=image/jpeg:https://aachen-kalender.de/wp-content/uploads/2025/11/Mayersche_Entdeckerstunden_alle.jpg
END:VEVENT
BEGIN:VEVENT
DTSTART;TZID=Europe/Berlin:20260225T170000
DTEND;TZID=Europe/Berlin:20260225T170000
DTSTAMP:20260423T121345
CREATED:20260108T114502Z
LAST-MODIFIED:20260108T114502Z
UID:10019624-1772038800-1772038800@aachen-kalender.de
SUMMARY:Heribert Steinheuer. "Schnupperstunde PC-Einstiegsseminare Windows".
DESCRIPTION:Die kostenfreien und unverbindlichen Informationsveranstaltungen geben einen Überblick über die jeweiligen Schulungsinhalte. \n\nOrt: vhs\, Peterstraße\, Raum 324/325\, 52062 Aachen\nKostenfrei
URL:https://aachen-kalender.de/event/heribert-steinheuer-schnupperstunde-pc-einstiegsseminare-windows/
LOCATION:vhs Aachen\, Peterstraße 21-25\, Aachen\, 52062\, Deutschland
CATEGORIES:Lesung/Vortrag
END:VEVENT
BEGIN:VEVENT
DTSTART;TZID=Europe/Berlin:20260225T180000
DTEND;TZID=Europe/Berlin:20260225T180000
DTSTAMP:20260423T121345
CREATED:20260108T094923Z
LAST-MODIFIED:20260108T094923Z
UID:10019615-1772042400-1772042400@aachen-kalender.de
SUMMARY:Prof. Dr. Walter Hillen. "Unser Klimawandel".
DESCRIPTION:Zum ersten Mal in der Erdgeschichte wird ein Klimawandel durch den Menschen herbeigeführt\, verursacht durch wachsende Industrialisierung\, Zunahme des Energiebedarfs und steigende Weltbevölkerung.\n\nEs ist im wahrsten Sinne „unser Klimawandel“. Mögliche Auswirkungen dieser Klimaveränderung werden weltweit völlig unterschiedlich wahrgenommen und bewertet. \nDer Vortrag soll eine sachliche und objektive Betrachtung der Klimaentwicklung vermitteln. Es werden auf allgemein verständliche Weise die naturwissenschaftlichen Grundlagen behandelt\, die das Erdklima und seine Veränderungen bestimmen. Daten und Fakten der heutigen Klimaforschung werden zusammengetragen und die physikalischen\, chemischen und biologischen Prozesse erörtert\, die unser Klima bestimmen. \nDiese Grundlagen fließen in Klimamodelle ein\, mit denen zukünftige Klimaveränderungen beschrieben werden können. Die gravierende Bedeutung der Treibhausgas-Emissionen sowie selbstverstärkende Rückkopplungseffekte in der Klimaentwicklung werden dabei deutlich. So stellt der Vortrag Grundlagenwissen in allgemein verständlicher Weise zur Verfügung. \n\nAnmeldung:\nhttps://www.akademie-bistum-aachen.de/bilden-begegnen/veranstaltungen/veranstaltung/Walter-Hillen-Unser-Klimawandel-2026.02.25/?instancedate=1772038800000\nDer Eintritt ist frei.
URL:https://aachen-kalender.de/event/prof-dr-walter-hillen-unser-klimawandel/
LOCATION:Katechetisches Institut\, Eupener Straße 132-138\, Aachen\, 52066\, Deutschland
CATEGORIES:Lesung/Vortrag
END:VEVENT
BEGIN:VEVENT
DTSTART;TZID=Europe/Berlin:20260225T180000
DTEND;TZID=Europe/Berlin:20260225T180000
DTSTAMP:20260423T121345
CREATED:20260108T114545Z
LAST-MODIFIED:20260108T114545Z
UID:10019625-1772042400-1772042400@aachen-kalender.de
SUMMARY:Heribert Steinheuer. "Schnupperstunde: : MS Office: Word und Excel 2019".
DESCRIPTION:Die kostenfreien und unverbindlichen Informationsveranstaltungen geben einen Überblick über die jeweiligen Schulungsinhalte. \n\nOrt: vhs\, Peterstraße\, Raum 324/325\, 52062 Aachen\nKostenfrei
URL:https://aachen-kalender.de/event/heribert-steinheuer-schnupperstunde-ms-office-word-und-excel-2019/
LOCATION:vhs Aachen\, Peterstraße 21-25\, Aachen\, 52062\, Deutschland
CATEGORIES:Lesung/Vortrag
END:VEVENT
BEGIN:VEVENT
DTSTART;TZID=Europe/Berlin:20260225T200000
DTEND;TZID=Europe/Berlin:20260225T200000
DTSTAMP:20260423T121345
CREATED:20251016T081129Z
LAST-MODIFIED:20260120T133155Z
UID:10016806-1772049600-1772049600@aachen-kalender.de
SUMMARY:"Phantom der Oper". Musical.
DESCRIPTION:Geheimnisvoll\, düster und zutiefst berührend: Das Phantom der Oper kehrt als aufwendige Originalproduktion von Sasson/ Sautter auf die Bühne zurück und gastiert am 25. Februar im Eurogress Aachen. Mit eindrucksvollen Bühnenbildern\, detail­reichen Kostümen und kraftvollen Gesangspartien öffnet sich der Vorhang zu den verborgenen Katakomben der Pariser Oper. Im Zentrum steht die zeitlose Liebesgeschichte zwischen dem Phantom und der jungen Sängerin Christine – erzählt nah an der Romanvorlage und musikalisch geprägt von einer besonderen Verbindung aus Sassons eigenen Kompositionen und bekannten Opernzitaten. Dreidimensionale Videoprojektionen von Daniel Stryjecki lassen die Bühne lebendig werden und schaffen eine dichte\, fast filmische Atmo­sphäre. In der Rolle der Christine begeistert die international gefeierte Sopranistin und Echo-Klassik-Preisträgerin Deborah Sasson mit großer stimmlicher Präsenz. An ihrer Seite verkörpert Musicalstar Uwe Kröger das geheimnisvolle Phantom. Ein großes Ensemble aus Sängerinnen\, Tänzern und Schauspielern macht den Abend zu einem opulenten Musiktheater-Erlebnis. \nKarten: https://www.highlight-concerts.de/
URL:https://aachen-kalender.de/event/deborah-sasson-uwe-kroeger-phantom-der-oper/
LOCATION:Eurogress Aachen\, Monheimsallee 48\, Aachen\, 52062
CATEGORIES:Musik
ATTACH;FMTTYPE=image/jpeg:https://aachen-kalender.de/wp-content/uploads/2025/10/25Feb_PhantomOper.jpg
END:VEVENT
BEGIN:VEVENT
DTSTART;TZID=Europe/Berlin:20260225T200000
DTEND;TZID=Europe/Berlin:20260225T200000
DTSTAMP:20260423T121345
CREATED:20251125T120027Z
LAST-MODIFIED:20260127T095415Z
UID:10018073-1772049600-1772049600@aachen-kalender.de
SUMMARY:"Frankenstein".
DESCRIPTION:Alle reden von Künstlicher Intelligenz. Tech-Konzerne und Regierungen pumpen Milliarden in die verheißungsvolle Schlüsseltechnologie der Zukunft. Praktisch alle Bereiche menschlichen Lebens soll sie revolutionieren. Dabei ist die Idee im Kern nicht neu: Schon 1816 ließ Mary Shelley ihren Schweizer Wissenschaftler Victor Frankenstein eine künstliche Intelligenz erschaffen – sein berühmtes Monster irrt seit gut 200 Jahren durch die Pop-Kultur. Wie heutige »Large Language Models« (z.B. ChatGPT) lernt es durch Beobachtung und Nachahmung. Seine tollpatschige Brutalität berührt und erschreckt uns\, so wie KI zugleich Euphorie und Endzeitangst provoziert. Doch was\, wenn diese beiden Reaktionsmuster gar kein Widerspruch wären: Steht am Ursprung der Erfindungslust vielleicht die Sehnsucht nach der Selbstabschaffung? Ersetzen wir uns willentlich durch eine neue\, bessere Daseinsform – vernünftiger und weniger zerstörerisch als die ausgediente Spezies Mensch? In seiner spielerischen Neuinterpretation verbindet Regisseur Tristan Linder Mary Shelleys Klassiker mit aktuellen technologischen Debatten\, unter Einsatz ebenjener Tools\, die zugleich Thema sind. Ein Theaterabend zwischen Science-Fiction und Schöpfungsmythos\, zwischen Hoffen und Fürchten.
URL:https://aachen-kalender.de/event/frankenstein/2026-02-25/
LOCATION:Theater Aachen\, Theaterplatz\, Aachen\, 52062\, Deutschland
CATEGORIES:Theater
ATTACH;FMTTYPE=image/jpeg:https://aachen-kalender.de/wp-content/uploads/2025/11/Frankenstein_1_Foto_Annemone-Taake-scaled-e1769507582602.jpg
END:VEVENT
BEGIN:VEVENT
DTSTART;TZID=Europe/Berlin:20260225T200000
DTEND;TZID=Europe/Berlin:20260225T200000
DTSTAMP:20260423T121345
CREATED:20251127T094831Z
LAST-MODIFIED:20260120T144332Z
UID:10018467-1772049600-1772049600@aachen-kalender.de
SUMMARY:"Frauensache". Schauspiel von Lutz Hübner und Sarah Nemitz.
DESCRIPTION:Die Frauenärztin Beate möchte in den Ruhestand gehen und sucht deshalb eine Nachfolgerin für ihre Praxis in einer Provinz-Kleinstadt. Ein schwieriges Unterfangen\, denn das Interesse an einem arbeitsintensiven Arztjob auf dem Land ist gering. Doch dann meldet sich die junge Ärztin Hanna. Auf den ersten Blick scheint Hanna genau dem zu entsprechen\, was Beate sucht: eine engagierte\, selbstbewusste und selbstbestimmte Frau – freundlich\, offen und voller Idealismus. \nDoch als Hanna sich während ihrer Hospitation bei einem Beratungsgespräch über einen Schwangerschaftsabbruch ungefragt einmischt und dabei offenbart\, dass sie rigoros gegen Abtreibung ist\, kommt es zum Bruch: Hannas Auffassung des Frauenärztinnen-Berufs ist dem Beates offenbar komplett entgegengesetzt – ihr Wertekanon ist zutiefst reaktionär und mit der von den 68er-Idealen geprägten Einstellung Beates unvereinbar. Während Beate den Vorfall erstmal sacken lassen will\, tritt Hanna unter Mithilfe rechter Lebensschützer-Initiativen am nächsten Tag eine Hass- und Schmutzkampagne gegen Beate und ihre Praxis los\, die schon bald in aller Öffentlichkeit ausgetragen wird und das ganze Gemeinde-Leben erschüttert …
URL:https://aachen-kalender.de/event/frauensache-schauspiel-von-lutz-huebner-und-sarah-nemitz-7/2026-02-25/
LOCATION:Grenzlandtheater\, ElisenGalerie\, Aachen\, 52062
CATEGORIES:Theater
ATTACH;FMTTYPE=image/jpeg:https://aachen-kalender.de/wp-content/uploads/2025/04/Frauensache_alle.jpg
END:VEVENT
BEGIN:VEVENT
DTSTART;TZID=Europe/Berlin:20260225T200000
DTEND;TZID=Europe/Berlin:20260225T200000
DTSTAMP:20260423T121345
CREATED:20260108T115122Z
LAST-MODIFIED:20260113T144251Z
UID:10019626-1772049600-1772049600@aachen-kalender.de
SUMMARY:"schrit_tmacher-Festival". Huang Yi Studio (TW) & Ryoichi Kurokawa (JP).
DESCRIPTION:Das schrit_tmacher Festival 2026 startet mit „INK”\, einer faszinierenden Arbeit von Choreograf Huang Yi Studio und Medienkünstler Ryoichi Kurokawa\, inspiriert von der Kalligrafie Tong Yang-Tzes. Tanz\, Robotik und Bildkunst verschmelzen zu einer poetischen Begegnung von Tradition und Zukunft. Tänzer*innen bewegen sich zwischen feinen Zeichen\, mal kraftvoll\, mal fließend. Ein Roboter zeichnet ihre Bewegungen nach\, die Kurokawa in leuchtende Spuren und holografische Projektionen verwandelt. So entstehen lebendige Gemälde im Moment. „INK“ ist eine überwältigende Fusion von analog und digital und von Mensch und Maschine. Ein spektakulärer Festivalauftakt. \nVom 24. Februar bis zum 29. März 2026 steht die Euregio erneut ganz im Zeichen des internationalen zeitgenössischen Tanzes. Das schrit_tmacher Festival ist ein grenzüberschreitendes Tanzfestival mit Veranstaltungen an verschiedenen Orten in den Niederlanden\, Deutschland und Belgien. Das Programm vereint überraschende Choreograf*innen\, renommierte Compagnien und innovative Produktionen. \nKarten: https://schrittmacher.reservix.de/p/reservix/event/2497170
URL:https://aachen-kalender.de/event/das-schrit_tmacher-festival-2026-huang-yi-studio-tw-ryoichi-kurokawa-jp/
LOCATION:Theater Heerlen\, Burgemeester van Grunsvenplein 145\, Heerlen\, Netherlands
CATEGORIES:Tanz
ATTACH;FMTTYPE=image/jpeg:https://aachen-kalender.de/wp-content/uploads/2025/11/24Feb_ab_SchrittmacherFestival-e1771404360457.jpg
END:VEVENT
END:VCALENDAR