BEGIN:VCALENDAR
VERSION:2.0
PRODID:-//Aachen-Termine - ECPv6.15.18//NONSGML v1.0//EN
CALSCALE:GREGORIAN
METHOD:PUBLISH
X-WR-CALNAME:Aachen-Termine
X-ORIGINAL-URL:https://aachen-kalender.de
X-WR-CALDESC:Veranstaltungen für Aachen-Termine
REFRESH-INTERVAL;VALUE=DURATION:PT1H
X-Robots-Tag:noindex
X-PUBLISHED-TTL:PT1H
BEGIN:VTIMEZONE
TZID:Europe/Berlin
BEGIN:DAYLIGHT
TZOFFSETFROM:+0100
TZOFFSETTO:+0200
TZNAME:CEST
DTSTART:20250330T010000
END:DAYLIGHT
BEGIN:STANDARD
TZOFFSETFROM:+0200
TZOFFSETTO:+0100
TZNAME:CET
DTSTART:20251026T010000
END:STANDARD
BEGIN:DAYLIGHT
TZOFFSETFROM:+0100
TZOFFSETTO:+0200
TZNAME:CEST
DTSTART:20260329T010000
END:DAYLIGHT
BEGIN:STANDARD
TZOFFSETFROM:+0200
TZOFFSETTO:+0100
TZNAME:CET
DTSTART:20261025T010000
END:STANDARD
BEGIN:DAYLIGHT
TZOFFSETFROM:+0100
TZOFFSETTO:+0200
TZNAME:CEST
DTSTART:20270328T010000
END:DAYLIGHT
BEGIN:STANDARD
TZOFFSETFROM:+0200
TZOFFSETTO:+0100
TZNAME:CET
DTSTART:20271031T010000
END:STANDARD
END:VTIMEZONE
BEGIN:VEVENT
DTSTART;TZID=Europe/Berlin:20260213T183000
DTEND;TZID=Europe/Berlin:20260213T183000
DTSTAMP:20260423T134445
CREATED:20260107T150101Z
LAST-MODIFIED:20260120T151913Z
UID:10019587-1771007400-1771007400@aachen-kalender.de
SUMMARY:Stadtgarde Oecher Penn. "Öcher Narrentreff".
DESCRIPTION:Freitag\, der 13.? Im Karneval erst recht ein Glückstag: Nach der ausgelassenen Fettdonnerstagsfeierei geht es am 13. Februar nahtlos weiter. Im Pennzelt auf dem Katschhof wird ab 18.30 Uhr beim Öcher Narrentreff der Oecher Penn die närrische Stimmung aufs nächste Level gehoben. Der Traditionsveranstaltung\, die ein fester Bestandteil der Karnevals­session ist und immer wieder aufs Neue Menschen zusammenbringt\, gelingt es\, wie kaum einer anderen\, Tradition\, Frohsinn und karnevalistische Begeisterung auf einzigartige Weise zu vereinen. Mehr als 600 Karnevalisten aus befreundeten Vereinen und Garden präsentieren ein abwechslungs­reiches Programm voller Musik\, Tanz und\nhumorvoller Einlagen. Kostüme sorgen für Farbe\, Freude und jede Menge joue Vermaach – ein Highlight für alle\, die den Aachener Karneval in voller Pracht erleben möchten. \n 
URL:https://aachen-kalender.de/event/stadtgarde-oecher-penn-von-1857-e-v-oecher-narrentreff-2/
LOCATION:Pennzelt\, Katschhof\, Aachen\, 52062
CATEGORIES:Karneval
ATTACH;FMTTYPE=image/jpeg:https://aachen-kalender.de/wp-content/uploads/2026/01/13Feb_Narrentreff.jpg
END:VEVENT
BEGIN:VEVENT
DTSTART;TZID=Europe/Berlin:20260213T190000
DTEND;TZID=Europe/Berlin:20260213T190000
DTSTAMP:20260423T134445
CREATED:20251125T130140Z
LAST-MODIFIED:20260121T123133Z
UID:10018134-1771009200-1771009200@aachen-kalender.de
SUMMARY:"Eugen Onegin".
DESCRIPTION:Nach einer schlaflosen Nacht mit der Lektüre von Puschkins Roman »Eugen Onegin« war das Konzept für Tschaikowskys neue Oper geboren: »Ich suche ein intimes\, aber starkes Drama\, das auf Konflikten beruht\, die ich selber erfahren oder gesehen habe\, die mich im Innersten berühren können.« Tschaikowsky verwandelt den Roman in ein lyrisches Kammerspiel\, in dem eine unbändige Liebe\, scharfe Zurückweisung und ein tödliches Duell die Gefühlswelten junger Menschen erschüttern: Die junge\, in ihre Bücher vertiefte Tatjana verliebt sich Hals über Kopf in den draufgängerischen Onegin. In einem leidenschaftlichen Brief gesteht sie ihm ihre Liebe. Doch er weist sie schroff zurück\, vergnügt sich stattdessen mit ihrer Schwester Olga und tötet bei einem Duell seinen guten Freund Lenski. Nach Jahren des Umherirrens begreift Onegin seine verpasste\nChance. Gibt es ein Zurück? \nDie Regisseurin Verena Stoiber spürt in ihrer ersten Arbeit am Theater Aachen jenem tiefsinnigen Kaleidoskop über »wirkliche« Menschen nach\, deren Liebe durch verpasste Chancen\, falsches Timing und jugendlichen Leichtsinn mit tödlichen Folgen verunmöglicht wird.
URL:https://aachen-kalender.de/event/eugen-onegin/2026-02-13/
LOCATION:Theater Aachen\, Theaterplatz\, Aachen\, 52062\, Deutschland
CATEGORIES:Theater
ATTACH;FMTTYPE=image/jpeg:https://aachen-kalender.de/wp-content/uploads/2025/05/6Feb_Onegin_Theater.jpg
END:VEVENT
BEGIN:VEVENT
DTSTART;TZID=Europe/Berlin:20260213T190000
DTEND;TZID=Europe/Berlin:20260213T190000
DTSTAMP:20260423T134445
CREATED:20260106T131342Z
LAST-MODIFIED:20260106T131342Z
UID:10019439-1771009200-1771009200@aachen-kalender.de
SUMMARY:Cellobration.
DESCRIPTION:Bachelor-Abschlusskonzert: Sophia Ireen Kummer. \nSophia Ireen Kummer (Klasse Prof. Hans-Christian Schweiker) präsentiert solistische und kammermusikalische Werke\, die sie im Rahmen ihrer Cello-Laufbahn besonders geprägt haben.
URL:https://aachen-kalender.de/event/cellobration/
LOCATION:Hochschule für Musik und Tanz\, Theaterplatz 16\, Aachen\, 52064\, Deutschland
CATEGORIES:Musik
END:VEVENT
BEGIN:VEVENT
DTSTART;TZID=Europe/Berlin:20260213T200000
DTEND;TZID=Europe/Berlin:20260213T200000
DTSTAMP:20260423T134445
CREATED:20250923T124539Z
LAST-MODIFIED:20260120T151722Z
UID:10015890-1771012800-1771012800@aachen-kalender.de
SUMMARY:AKV-Senat. "Maskerade". Kostümparty.
DESCRIPTION:Der Senat des Aachener Karnevalsvereins lädt zu einem Abend ein\, der die Magie Venedigs nach Aachen bringt: Die diesjährige Maskerade unter dem Motto Una Notte Veneziana verwandelt den prachtvollen Ballsaal des Alten Kurhauses in ein funkelndes Spektakel aus Farben\, Masken und karnevalistischer Eleganz. Edle Kostüme\, kunst­volle Masken und stimmungsvolle Details schaffen eine Atmosphäre voller Glamour\, Spannung und unvergesslicher Begegnungen\, bei der DJ Buchty für den richtigen Sound sorgt. Auf der Bühne sind unter anderem Prinz Lukas I. mit seinem Hofstaat\, Dave Davis als Motombo\, Boore\, Brass on Spass und Deschawü die Highlights. Ein Abend\, der Tradition\, Musik\, Show und venezianisches Flair auf einzigartige Weise verbindet – ein karnevalistisches Erlebnis für alle Sinne.
URL:https://aachen-kalender.de/event/akv-senat-maskerade-kostuemparty/
LOCATION:Altes Kurhaus\, Ballsaal\, Komphausbadstraße 19\, Aachen\, 52058\, Deutschland
CATEGORIES:Karneval
ATTACH;FMTTYPE=image/jpeg:https://aachen-kalender.de/wp-content/uploads/2025/09/13Feb_Maskerade.jpg
END:VEVENT
BEGIN:VEVENT
DTSTART;TZID=Europe/Berlin:20260213T200000
DTEND;TZID=Europe/Berlin:20260213T200000
DTSTAMP:20260423T134445
CREATED:20251127T093722Z
LAST-MODIFIED:20260120T144009Z
UID:10018449-1771012800-1771012800@aachen-kalender.de
SUMMARY:"Frauensache". Schauspiel von Lutz Hübner und Sarah Nemitz.
DESCRIPTION:Die Frauenärztin Beate möchte in den Ruhestand gehen und sucht deshalb eine Nachfolgerin für ihre Praxis in einer Provinz-Kleinstadt. Ein schwieriges Unterfangen\, denn das Interesse an einem arbeitsintensiven Arztjob auf dem Land ist gering. Doch dann meldet sich die junge Ärztin Hanna. Auf den ersten Blick scheint Hanna genau dem zu entsprechen\, was Beate sucht: eine engagierte\, selbstbewusste und selbstbestimmte Frau – freundlich\, offen und voller Idealismus. \nDoch als Hanna sich während ihrer Hospitation bei einem Beratungsgespräch über einen Schwangerschaftsabbruch ungefragt einmischt und dabei offenbart\, dass sie rigoros gegen Abtreibung ist\, kommt es zum Bruch: Hannas Auffassung des Frauenärztinnen-Berufs ist dem Beates offenbar komplett entgegengesetzt – ihr Wertekanon ist zutiefst reaktionär und mit der von den 68er-Idealen geprägten Einstellung Beates unvereinbar. Während Beate den Vorfall erstmal sacken lassen will\, tritt Hanna unter Mithilfe rechter Lebensschützer-Initiativen am nächsten Tag eine Hass- und Schmutzkampagne gegen Beate und ihre Praxis los\, die schon bald in aller Öffentlichkeit ausgetragen wird und das ganze Gemeinde-Leben erschüttert …
URL:https://aachen-kalender.de/event/frauensache-schauspiel-von-lutz-huebner-und-sarah-nemitz-4/2026-02-13/
LOCATION:Grenzlandtheater\, ElisenGalerie\, Aachen\, 52062
CATEGORIES:Theater
ATTACH;FMTTYPE=image/jpeg:https://aachen-kalender.de/wp-content/uploads/2025/04/Frauensache_alle.jpg
END:VEVENT
BEGIN:VEVENT
DTSTART;TZID=Europe/Berlin:20260213T200000
DTEND;TZID=Europe/Berlin:20260213T200000
DTSTAMP:20260423T134445
CREATED:20251201T140942Z
LAST-MODIFIED:20260120T151552Z
UID:10018814-1771012800-1771012800@aachen-kalender.de
SUMMARY:Stadtwache Oecher Börjerwehr. "Große Börjerwehr-Sitzung".
DESCRIPTION:Unter dem Motto Met vööl Tamtam än Jeckerejj fiere vür os Noppenäj! begeht die Stadtwache Oecher Börjerwehr am Karnevalsfreitag\, 13. Februar\, ab 20 Uhr im Eurogress Aachen ihre Große Sitzung\, die stets ein Höhepunkt im Sitzungskalender ist. Beim letzten klassischen Saalkarneval vor den Bällen und Zügen geht es hochkarätig her. „Mit dem Motto würdigen wir die karnevalistische Figur Noppenäj und setzen dem leicht ­schelmischen Polizisten ein Denkmal. Und wir setzen ein Zeichen für unsere Ordnungs­hüter\, die Tag für Tag für unsere Sicherheit ­sorgen\, die Ordnung wahren und ein zentraler Bestandteil unseres Gemeinwohls sind“\, erklärt Kommandant Michael Hommelsheim. In jeder Session wird das Motto mit einem fantasievollen Bühnenbild in Szene gesetzt. Auf dem Sitzungsprogramm stehen Khalid Bounouar\, die 4 Amigos\, die Prinzengarde Brander Stiere mit Brander Bürgerprinz Axel I.\, Deschawü\, die Tanzenden Sterne Emmelshausen\, Prinz Lukas I. und zum Finale die Big Maggas. Die Sitzung ist bekannt für ihre Länge – und hohe Qualität!
URL:https://aachen-kalender.de/event/009-stadtwache-oecher-boerjerwehr-gegr-1922-e-v-grosse-boerjerwehr-sitzung/
LOCATION:Eurogress Aachen\, Monheimsallee 48\, Aachen\, 52062
CATEGORIES:Karneval
ATTACH;FMTTYPE=image/jpeg:https://aachen-kalender.de/wp-content/uploads/2025/12/13Feb_Boerjerwehr_Sitzung.jpg
END:VEVENT
BEGIN:VEVENT
DTSTART;TZID=Europe/Berlin:20260213T200000
DTEND;TZID=Europe/Berlin:20260213T200000
DTSTAMP:20260423T134445
CREATED:20260107T150431Z
LAST-MODIFIED:20260107T150502Z
UID:10019588-1771012800-1771012800@aachen-kalender.de
SUMMARY:Erste Walheimer Karnevalsgesellschaft gegr. 1973 e.V. "Dorfabend".
DESCRIPTION:Dorfabend mit DJ Nils und tollen Gästen. \n\nKarten im VVK und an der Abendkasse erhältlich\nweitere Infos: https://www.erste-walheimer-kg.de/veranstaltungen/
URL:https://aachen-kalender.de/event/erste-walheimer-karnevalsgesellschaft-gegr-1973-e-v-dorfabend-2/
LOCATION:Festzelt Walheim\, Prämienstraße 47\, Aachen\, 52076
CATEGORIES:Karneval
END:VEVENT
END:VCALENDAR