BEGIN:VCALENDAR
VERSION:2.0
PRODID:-//Aachen-Termine - ECPv6.15.18//NONSGML v1.0//EN
CALSCALE:GREGORIAN
METHOD:PUBLISH
X-ORIGINAL-URL:https://aachen-kalender.de
X-WR-CALDESC:Veranstaltungen für Aachen-Termine
REFRESH-INTERVAL;VALUE=DURATION:PT1H
X-Robots-Tag:noindex
X-PUBLISHED-TTL:PT1H
BEGIN:VTIMEZONE
TZID:Europe/Berlin
BEGIN:DAYLIGHT
TZOFFSETFROM:+0100
TZOFFSETTO:+0200
TZNAME:CEST
DTSTART:20250330T010000
END:DAYLIGHT
BEGIN:STANDARD
TZOFFSETFROM:+0200
TZOFFSETTO:+0100
TZNAME:CET
DTSTART:20251026T010000
END:STANDARD
BEGIN:DAYLIGHT
TZOFFSETFROM:+0100
TZOFFSETTO:+0200
TZNAME:CEST
DTSTART:20260329T010000
END:DAYLIGHT
BEGIN:STANDARD
TZOFFSETFROM:+0200
TZOFFSETTO:+0100
TZNAME:CET
DTSTART:20261025T010000
END:STANDARD
BEGIN:DAYLIGHT
TZOFFSETFROM:+0100
TZOFFSETTO:+0200
TZNAME:CEST
DTSTART:20270328T010000
END:DAYLIGHT
BEGIN:STANDARD
TZOFFSETFROM:+0200
TZOFFSETTO:+0100
TZNAME:CET
DTSTART:20271031T010000
END:STANDARD
END:VTIMEZONE
BEGIN:VEVENT
DTSTART;TZID=Europe/Berlin:20260212T101100
DTEND;TZID=Europe/Berlin:20260212T101100
DTSTAMP:20260423T141214
CREATED:20260107T142340Z
LAST-MODIFIED:20260115T100412Z
UID:10019584-1770891060-1770891060@aachen-kalender.de
SUMMARY:Oecher Storm und Stadt Aachen. "Rathaus Stoermung an Wieverfastelovvend".
DESCRIPTION:Um 11:11 Uhr ist der Start in die tollen Tage und nach mehreren Wochen des Sitzungskarnevals ist es der Beginn des Straßenkarnevals. \nDer Öcher Storm und die Stadt Aachen feiern ab 10:11 Uhr mit Euch auf dem Aachener Markt!
URL:https://aachen-kalender.de/event/oecher-storm-und-stadt-aachen-rathaus-stoermung-an-wieverfastelovvend/
LOCATION:Aachener Marktplatz\, Markt\, Aachen\, NRW\, 52058\, Germany
CATEGORIES:Karneval
END:VEVENT
BEGIN:VEVENT
DTSTART;TZID=Europe/Berlin:20260212T110000
DTEND;TZID=Europe/Berlin:20260212T110000
DTSTAMP:20260423T141214
CREATED:20260107T142703Z
LAST-MODIFIED:20260120T150123Z
UID:10019585-1770894000-1770894000@aachen-kalender.de
SUMMARY:KG Oecher Spritzemänner gegr. 1967 e.V. "Open-Air am Jonastor".
DESCRIPTION:Traditionell starten die Spritzemänner am Fettdonnerstag ab 11.00 Uhr am Jonastor in Burtscheid ihre Open-Air-Sitzung. In der historischen Atmosphäre rund um das Jonastor lassen die Spritzemänner mit tausenden jecken Frauen (und Männern) geselligen Straßenkarneval. \n 
URL:https://aachen-kalender.de/event/kg-oecher-spritzemaenner-gegr-1967-e-v-open-air-am-jonastor-2/
LOCATION:Abteitor\, Am Abteiplatz\, Burtscheid\, 52066\, Deutschland
CATEGORIES:Karneval
ATTACH;FMTTYPE=image/jpeg:https://aachen-kalender.de/wp-content/uploads/2026/01/12Feb_Burtscheid_Spritzemaenner.jpg
END:VEVENT
BEGIN:VEVENT
DTSTART;TZID=Europe/Berlin:20260212T110000
DTEND;TZID=Europe/Berlin:20260212T110000
DTSTAMP:20260423T141214
CREATED:20260119T143827Z
LAST-MODIFIED:20260119T143827Z
UID:10019878-1770894000-1770894000@aachen-kalender.de
SUMMARY:Oecher Penn zu Besuch im Aquis Plaza.
DESCRIPTION:Musikalische Darbietungen und der Tanz des Tanzpaars. Der Auftritt beginnt um 11:00 h mit dem Einzug der Garde vom Kaiserplatz aus und endet ca. 11:45 h mit dem Abmarsch in Richtung Kugelbrunnen. Die Garde versammelt sich im Basement zum Auftritt des Tanzpaares.
URL:https://aachen-kalender.de/event/oecher-penn-zu-besuch-im-aquis-plaza/
LOCATION:Aquis Plaza\, Adalbertstraße\, Aachen\, 52062\, Deutschland
CATEGORIES:Karneval
END:VEVENT
BEGIN:VEVENT
DTSTART;TZID=Europe/Berlin:20260212T111100
DTEND;TZID=Europe/Berlin:20260212T111100
DTSTAMP:20260423T141214
CREATED:20260107T120817Z
LAST-MODIFIED:20260107T120835Z
UID:10019505-1770894660-1770894660@aachen-kalender.de
SUMMARY:"Let's Fetz". Karneval for Kids.
DESCRIPTION:Let´s Fetz – Karneval for Kids ist die Karnevalsparty am Fettdonnerstag für feierwütige Kids ab Kindergarten- bis Teeniealter und ihre nicht minder jecken Eltern und/oder Großeltern. \nIm Kwartier 106 findet am 12. Februar ab 11.11 Uhr jeder sein Feierplätzchen. Während die Teenies in der Black-Light-Disco abtanzen\, springen Youngster auf der Hüpfburg in ihre Big Party hinein\, Mini-Kids tasten sich samt Familien an den Fastelovvend heran\, während Omi und Opi bei Kaffee und Kuchen an der Candy-Bar in Erinnerungen schwelgen. \nKarneval für Kinder. \n\nAnmeldung: https://kwartier106.de/events/lets-fetz/\n\n 
URL:https://aachen-kalender.de/event/lets-fetz-karneval-for-kids-2/
LOCATION:Kwartier 106\, Grüner Weg 106\, Aachen
CATEGORIES:Karneval
ATTACH;FMTTYPE=image/jpeg:https://aachen-kalender.de/wp-content/uploads/2026/01/12Feb_Kwartier-1.jpg
END:VEVENT
BEGIN:VEVENT
DTSTART;TZID=Europe/Berlin:20260212T111100
DTEND;TZID=Europe/Berlin:20260212T111100
DTSTAMP:20260423T141214
CREATED:20260107T141424Z
LAST-MODIFIED:20260107T141424Z
UID:10019582-1770894660-1770894660@aachen-kalender.de
SUMMARY:1. Forster KG "Närrische 11" gegr. 1960 e.V. "Fettdonnerstag 'Jeck op Foorsch'".
DESCRIPTION:
URL:https://aachen-kalender.de/event/1-forster-kg-naerrische-11-gegr-1960-e-v-fettdonnerstag-jeck-op-foorsch-2/
LOCATION:Saalbau Kommer\, Forster Linde 55-57\, Aachen\, 52078\, Deutschland
CATEGORIES:Karneval
END:VEVENT
BEGIN:VEVENT
DTSTART;TZID=Europe/Berlin:20260212T111100
DTEND;TZID=Europe/Berlin:20260212T111100
DTSTAMP:20260423T141214
CREATED:20260115T101402Z
LAST-MODIFIED:20260115T101402Z
UID:10019840-1770894660-1770894660@aachen-kalender.de
SUMMARY:Brander Unterbähner. "Fettdonnerstagsparty".
DESCRIPTION:
URL:https://aachen-kalender.de/event/brander-unterbaehner-fettdonnerstagsparty/
LOCATION:Festzelt Brand Gewerbepark\, Nordstraße\, Aachen\, Deutschland
CATEGORIES:Karneval
END:VEVENT
BEGIN:VEVENT
DTSTART;TZID=Europe/Berlin:20260212T111100
DTEND;TZID=Europe/Berlin:20260212T111100
DTSTAMP:20260423T141214
CREATED:20260119T134629Z
LAST-MODIFIED:20260119T134719Z
UID:10019875-1770894660-1770894660@aachen-kalender.de
SUMMARY:Fettdonnerstag.
DESCRIPTION:Am heutigen Fettdonnerstag feiern Öcher Mäddchere und Öcher Jonge den offiziellen Startschuss in die närrischen Tage. Spätestens ab 11.11 Uhr gibt es kein Halten mehr. Ob auf dem Markt\, im Hof\, im Pennzelt\, am Jonastor in Burtscheid\, im Saalbau Kommer oder im Brander Karnevalszelt: überall geht es mächtig rund! Alle Details unter www.aachenerkarneval.de.
URL:https://aachen-kalender.de/event/fettdonnerstag-3/
LOCATION:verschiedene Orte\, Aachen
CATEGORIES:Karneval
ATTACH;FMTTYPE=image/jpeg:https://aachen-kalender.de/wp-content/uploads/2025/01/Burtscheid_NK.jpg
END:VEVENT
BEGIN:VEVENT
DTSTART;TZID=Europe/Berlin:20260212T120000
DTEND;TZID=Europe/Berlin:20260212T120000
DTSTAMP:20260423T141214
CREATED:20260211T125752Z
LAST-MODIFIED:20260211T125752Z
UID:10020536-1770897600-1770897600@aachen-kalender.de
SUMMARY:Karnevalsparty an Fettdonnerstag.
DESCRIPTION:Große Karnevalsparty mit DJ Diren und DJ MAB.
URL:https://aachen-kalender.de/event/karnevalsparty-an-fettdonnerstag/
LOCATION:Park-Terrassen\, Dammstraße 40\, Aachen\, 52066\, Deutschland
CATEGORIES:Karneval
ATTACH;FMTTYPE=image/jpeg:https://aachen-kalender.de/wp-content/uploads/2026/02/698bcd2a001b4-w7CEPC-e1770814599703.jpg
END:VEVENT
BEGIN:VEVENT
DTSTART;TZID=Europe/Berlin:20260212T130000
DTEND;TZID=Europe/Berlin:20260212T130000
DTSTAMP:20260423T141214
CREATED:20260107T141723Z
LAST-MODIFIED:20260107T141739Z
UID:10019583-1770901200-1770901200@aachen-kalender.de
SUMMARY:Stadtgarde „Oecher Penn“ von 1857 e.V. "Altweiber-Party".
DESCRIPTION:Öcher Wiewerfastelowend vom Feinsten! Wie könnte man besser in die tollen Tage starten als mit einer fröhlich- ausgelassenen Altweiber-Party\, bei der die närrische Post abgeht…? Tolle Livemusik\, der Besuch der aktuellen Tollität Prinz Karneval der Stadt Aachen mit Hofstaat und Prinzengarde sowie ein  pratschjeckes\, kunterbunt kostümiertes Publikum\, das weiß\, wie man Fastelowend feiert\, werden auch in dieser Session der Garant für einen  unvergesslich schönen Fettdonnerstag sein! \n  \n\nTickets: https://oecherpenn.de/
URL:https://aachen-kalender.de/event/stadtgarde-oecher-penn-von-1857-e-v-altweiber-party-2/
LOCATION:Pennzelt\, Katschhof\, Aachen\, 52062
CATEGORIES:Karneval
END:VEVENT
BEGIN:VEVENT
DTSTART;TZID=Europe/Berlin:20260212T130000
DTEND;TZID=Europe/Berlin:20260212T130000
DTSTAMP:20260423T141214
CREATED:20260107T145731Z
LAST-MODIFIED:20260107T145811Z
UID:10019586-1770901200-1770901200@aachen-kalender.de
SUMMARY:Erste Walheimer Karnevalsgesellschaft gegr. 1973 e.V. "Jeck op Fettdonnerstag".
DESCRIPTION:Karneval „at it’s best” im Walheimer Zelt. Von Eins bis Elf. \nFür Große. Für Kleine. Für Berufstätige. Für Teens. Für Partygänger. Für Alle. \nBeginn 13h – Karten im VVK und an der Tageskasse erhältlich. \nTickets:: https://www.erste-walheimer-kg.de/veranstaltungen/
URL:https://aachen-kalender.de/event/erste-walheimer-karnevalsgesellschaft-gegr-1973-e-v-jeck-op-fettdonnerstag-2/
LOCATION:Festzelt Walheim\, Prämienstraße 47\, Aachen\, 52076
CATEGORIES:Karneval
END:VEVENT
BEGIN:VEVENT
DTSTART;TZID=Europe/Berlin:20260212T130000
DTEND;TZID=Europe/Berlin:20260212T130000
DTSTAMP:20260423T141214
CREATED:20260115T101908Z
LAST-MODIFIED:20260120T124518Z
UID:10019841-1770901200-1770901200@aachen-kalender.de
SUMMARY:Tropigarde. "Open-Air auf dem Hof".
DESCRIPTION:Open-Air-Fastelovvend für alle – große Freiluftsitzung der Tropigarde. \n 
URL:https://aachen-kalender.de/event/tropigarde-open-air-auf-dem-hof/
LOCATION:Hof\, Aachen\, 52062\, Deutschland
CATEGORIES:Karneval
END:VEVENT
BEGIN:VEVENT
DTSTART;TZID=Europe/Berlin:20260212T131100
DTEND;TZID=Europe/Berlin:20260212T131100
DTSTAMP:20260423T141214
CREATED:20260114T101931Z
LAST-MODIFIED:20260115T122215Z
UID:10019828-1770901860-1770901860@aachen-kalender.de
SUMMARY:"Oche A’love". Party im Zelt.
DESCRIPTION:Wenn die Prinzengarde der Stadt Aachen und 100\,5 DAS HITRADIO einladen\, bebt „DAS ZELT“. Denn dann heißt es: Karneval trifft Party! \nAm Fettdonnerstag und am Samstag öffnet „DAS ZELT“ zur ultimativen Oche A’love – Party. Hier könnt Ihr bei cooler Karnevals- und Partymusik so richtig abfeiern. \n  \n\nKarten Fettdonnerstag: https://www.prinzengarde-aachen.de/events/fettdonnerstag-oche-alove/\nKarten Samstag: https://www.prinzengarde-aachen.de/events/die-samstags-party-oche-alove/
URL:https://aachen-kalender.de/event/oche-alove-party-im-zelt/2026-02-12/
LOCATION:Festzelt an der 100’5 Arena\, Krefelder Straße\, Aachen\, 52070\, Deutschland
CATEGORIES:Karneval,Party
END:VEVENT
BEGIN:VEVENT
DTSTART;TZID=Europe/Berlin:20260212T140000
DTEND;TZID=Europe/Berlin:20260212T183000
DTSTAMP:20260423T141214
CREATED:20260120T123229Z
LAST-MODIFIED:20260120T123229Z
UID:10019901-1770904800-1770921000@aachen-kalender.de
SUMMARY:De Bahkäuvjere. "Undergroundparty am Fettdonnerstag".
DESCRIPTION:30 Jahre Undergroundparty\, für alle ab 12 & unter 18 Jahren.
URL:https://aachen-kalender.de/event/de-bahkaeuvjere-undergroundparty-am-fettdonnerstag/
LOCATION:Apollo\, Pontstraße 141\, Aachen\, 52062\, Deutschland
CATEGORIES:Karneval
END:VEVENT
BEGIN:VEVENT
DTSTART;TZID=Europe/Berlin:20260212T150000
DTEND;TZID=Europe/Berlin:20260212T150000
DTSTAMP:20260423T141214
CREATED:20251201T140636Z
LAST-MODIFIED:20260120T150325Z
UID:10018812-1770908400-1770908400@aachen-kalender.de
SUMMARY:Stadtwache Oecher Börjerwehr gegr. 1922 e.V. "Mäddchere-Sitzung".
DESCRIPTION:Mittlerweile eine feste Institution im Aachener Karneval – die Mäddchere-Sitzung der Stadtwache Oecher Börjerwehr 1922 e. V. am Fettdonnerstag! \nWas vor vielen Jahren noch im Foyer des Eurogress begann\, hat sich inzwischen zu einer Sitzung im Europasaal entwickelt\, welche Jahr für Jahr von über 1200 Damen besucht wird. Die werten Herren haben an diesem Tag vor 18:00 Uhr keinen Zutritt zur Veranstaltungsstätte\, aber ab 18:00 Uhr startet im Foyer die „Abholparty“ für die Männer; die „Abholkarte“ für den Mann kann von der Sitzungskarte abgetrennt werden. Für Mäddchere mit Kindern bieten wir jedes Jahr eine professionelle Kinderbetreuung an.
URL:https://aachen-kalender.de/event/009-stadtwache-oecher-boerjerwehr-gegr-1922-e-v-maeddchere-sitzung/
LOCATION:Eurogress Aachen\, Monheimsallee 48\, Aachen\, 52062
CATEGORIES:Karneval
ATTACH;FMTTYPE=image/jpeg:https://aachen-kalender.de/wp-content/uploads/2025/12/12Feb_Maeddchere.jpg
END:VEVENT
BEGIN:VEVENT
DTSTART;TZID=Europe/Berlin:20260212T170000
DTEND;TZID=Europe/Berlin:20260212T180000
DTSTAMP:20260423T141214
CREATED:20260108T140143Z
LAST-MODIFIED:20260108T140143Z
UID:10019666-1770915600-1770919200@aachen-kalender.de
SUMMARY:Vorlesestunde am Donnerstag.
DESCRIPTION:Ein Bilderbuchkino ist eine Form des Vorlesens mit einer Präsentation der Bilder. Während den Kindern der Text des Buches vorgelesen wird\, betrachten diese die Bilder aus dem Buch auf einer Leinwand\, sodass auch eine große Gruppe von Kindern gleichzeitig die Bilder betrachten kann. Für Kinder ab 3 Jahren\, kostenfrei & ohne Anmeldung!
URL:https://aachen-kalender.de/event/vorlesestunde-am-donnerstag-6/2026-02-12/
LOCATION:Stadtbibliothek\, Couvenstraße 15\, Aachen\, 52062\, Deutschland
CATEGORIES:Familie
END:VEVENT
BEGIN:VEVENT
DTSTART;TZID=Europe/Berlin:20260212T190000
DTEND;TZID=Europe/Berlin:20260212T190000
DTSTAMP:20260423T141214
CREATED:20260106T132834Z
LAST-MODIFIED:20260106T132834Z
UID:10019448-1770922800-1770922800@aachen-kalender.de
SUMMARY:Magic Mix 2.0 - Die Zaubershow mit vielen neuen Überraschungen.
DESCRIPTION:Magische 75 Minuten Zaubershow und danach Currywurst. Hausgemacht vom Feinsten oder frische Gemüseschnitzel mit Joghurt-Dip. \nAus dem reichhaltigen Repertoire der magischen Welt\, sowie magischen Neuheiten werden in 75 Minuten von Christian Jedinat präsentiert. Natürlich mit seinem bekannten Charme und Humor. \nJeder Magic Mix ist immer wieder neu und anders. \nIdeal\, um den Arbeitstag genussvoll ausklingen zu lassen. Ob mit Freunden\, Bekannten oder Kollegen\, die vielleicht das Black Table noch nicht kennen. \nNach der Show\, um ca. 20:00 Uhr\, reichen wir Ihnen Currywurst mit frischem Ciabatta oder frische Gemüseschnitzel mit Joghurt-Dip bis Sie satt sind.\nInklusive Getränke bis 21:30 Uhr. \nZum Einlass werden Sie mit einem Glas Sekt begrüßt. \nIm Ticketpreis sind Sektempfang\, Getränke und Currywurst oder Gemüseschnitzel mit Joghurt – Dip enthalten! \n\nAltersempfehlung:\nDer Einlass für die Zaubershows ist ab 12 Jahren\, auch für die Nachmittagsvorstellungen.\nSitzplätze für Rollstuhlfahrer nur telefonisch buchbar 0241-90068309 oder per E-Mail info@black-table.de\n\n 
URL:https://aachen-kalender.de/event/magic-mix-2-0-die-zaubershow-mit-vielen-neuen-ueberraschungen-8/2026-02-12/
LOCATION:Black Table Magic Theater\, Borngasse 30\, Aachen\, 52064\, Deutschland
CATEGORIES:Kleinkunst
ATTACH;FMTTYPE=image/jpeg:https://aachen-kalender.de/wp-content/uploads/2025/07/BT1.jpg
END:VEVENT
BEGIN:VEVENT
DTSTART;TZID=Europe/Berlin:20260212T200000
DTEND;TZID=Europe/Berlin:20260212T200000
DTSTAMP:20260423T141214
CREATED:20250917T065704Z
LAST-MODIFIED:20260119T124134Z
UID:10015785-1770926400-1770926400@aachen-kalender.de
SUMMARY:Meisterkonzerte Aachen. Chamber Orchestra of Europe & Vilde Frang. "Schumann\, Bach\, Mozart\, Gubaidulina".
DESCRIPTION:Das Konzert des Chamber Orchestra of Europe kreist um das musikalische Erbe Johann Sebastian Bachs. So reagierte Sofia Gubaidulina 2002 in ihren „Reflections on the Theme B-A-C-H“ Violine auf das große unvollendete Schlussstück der „Kunst der Fuge“ des Barockmeisters. Anton Webern orchestrierte auf originelle Weise das sechsstimmige Ricercar aus dessen „Musikalischem Opfer“. Die norwegische Star-Geigerin Vilde Frang spielt Robert Schumanns Violinkonzert von 1853\, das erst 1937 uraufgeführt und auch danach von den Geigern ungerechterweise lange vernachlässigt worden ist. Dieses Spätwerk überrascht mit „rückwärtsgewandter Neuartigkeit“\, gibt sich teilweise barock\, ist aber auch erfüllt von tiefsinniger klingender Poesie und visionärer Harmonik. Den strahlenden Schlusspunkt setzt Mozart mit seiner „Jupiter“-Sinfonie\, in welcher er zentrale Elemente der Gattung in höchster Vollendung zusammenfasste. Und wenn der Wiener Klassiker dann im letzten Satz virtuos mit Fugentechniken agiert\, erweist auch er sich als Bach-Erbe. \n\n\nkostenlose Bustransfers vom Eurogress nach Heerlen/Kerkrade und zurück!
URL:https://aachen-kalender.de/event/meisterkonzerte-aachen-2025-26-chamber-orchestra-of-europe-vilde-frang-schumann-bach-mozart-gubaidulina/
LOCATION:Theater Heerlen\, Burgemeester van Grunsvenplein 145\, Heerlen\, Netherlands
CATEGORIES:Musik
END:VEVENT
END:VCALENDAR