BEGIN:VCALENDAR
VERSION:2.0
PRODID:-//Aachen-Termine - ECPv6.15.18//NONSGML v1.0//EN
CALSCALE:GREGORIAN
METHOD:PUBLISH
X-ORIGINAL-URL:https://aachen-kalender.de
X-WR-CALDESC:Veranstaltungen für Aachen-Termine
REFRESH-INTERVAL;VALUE=DURATION:PT1H
X-Robots-Tag:noindex
X-PUBLISHED-TTL:PT1H
BEGIN:VTIMEZONE
TZID:Europe/Berlin
BEGIN:DAYLIGHT
TZOFFSETFROM:+0100
TZOFFSETTO:+0200
TZNAME:CEST
DTSTART:20250330T010000
END:DAYLIGHT
BEGIN:STANDARD
TZOFFSETFROM:+0200
TZOFFSETTO:+0100
TZNAME:CET
DTSTART:20251026T010000
END:STANDARD
BEGIN:DAYLIGHT
TZOFFSETFROM:+0100
TZOFFSETTO:+0200
TZNAME:CEST
DTSTART:20260329T010000
END:DAYLIGHT
BEGIN:STANDARD
TZOFFSETFROM:+0200
TZOFFSETTO:+0100
TZNAME:CET
DTSTART:20261025T010000
END:STANDARD
BEGIN:DAYLIGHT
TZOFFSETFROM:+0100
TZOFFSETTO:+0200
TZNAME:CEST
DTSTART:20270328T010000
END:DAYLIGHT
BEGIN:STANDARD
TZOFFSETFROM:+0200
TZOFFSETTO:+0100
TZNAME:CET
DTSTART:20271031T010000
END:STANDARD
END:VTIMEZONE
BEGIN:VEVENT
DTSTART;TZID=Europe/Berlin:20260202T163000
DTEND;TZID=Europe/Berlin:20260202T180000
DTSTAMP:20260423T120342
CREATED:20260113T142637Z
LAST-MODIFIED:20260113T143036Z
UID:10019793-1770049800-1770055200@aachen-kalender.de
SUMMARY:SAH GelenkZeit. "Sport und Endoprothesen: Was kann mein neues Gelenk?"
DESCRIPTION:In der monatlichen Patienteninformationsveranstaltung „GelenkZeit“ geben die Experten des zertifizierten EndoProthetikZentrums (EPZ) umfassende Einblicke in die Therapie bei Arthrose in Hüfte und Knie und stellen mögliche Behandlungsoptionen vor. Die Referenten gehen auf die individuellen\, oft minimal-invasiven\, also muskel- und knochenschonenden Operationstechniken ein\, erläutern den Einsatz moderner computer-gestützter Verfahren und die umfassende Begleitung der Patienten auch nach der OP. Die Veranstaltung richtet sich an Patienten\, Angehörige und alle\, die sich über moderne Entwicklungen in der Endoprothetik informieren möchten. \n\nDie Teilnahme ist kostenlos\, eine Anmeldung ist nicht erforderlich.\nNach dem Vortrag stehen die Experten für individuelle Fragen zum Thema zur Verfügung.
URL:https://aachen-kalender.de/event/sah-gelenkzeit-sport-und-endoprothesen-was-kann-mein-neues-gelenk/
LOCATION:St. Antonius Hospital\, Dechant-Deckers-Straße 8\, Eschweiler\, Deutschland
CATEGORIES:Lesung/Vortrag
ATTACH;FMTTYPE=image/jpeg:https://aachen-kalender.de/wp-content/uploads/2026/01/69664b142c24e-zV5XFE-scaled.jpg
END:VEVENT
BEGIN:VEVENT
DTSTART;TZID=Europe/Berlin:20260202T180000
DTEND;TZID=Europe/Berlin:20260202T180000
DTSTAMP:20260423T120342
CREATED:20260114T095536Z
LAST-MODIFIED:20260115T093237Z
UID:10019825-1770055200-1770055200@aachen-kalender.de
SUMMARY:Verein Öcher Platt. "Karneval im Keller". AUSVERKAUFT!
DESCRIPTION:Der Öcher Platt Verein lädt zu seiner Kultveranstaltung ein: Karneval im Keller. \nKarten: www.oecher-platt.de
URL:https://aachen-kalender.de/event/karneval-im-oecher-platt-keller-ausverkauft/
LOCATION:Haus Löwenstein\, Markt 39\, Aachen\, 52062\, Deutschland
CATEGORIES:Karneval
END:VEVENT
BEGIN:VEVENT
DTSTART;TZID=Europe/Berlin:20260202T180000
DTEND;TZID=Europe/Berlin:20260202T180000
DTSTAMP:20260423T120342
CREATED:20260119T110638Z
LAST-MODIFIED:20260119T110655Z
UID:10019871-1770055200-1770055200@aachen-kalender.de
SUMMARY:"MoMo1800 - Februar-Special". Kultur-Talk Öcher Karneval.
DESCRIPTION:Gäste bei Moderator Stephan Kaußen sind die Ex-Prinzen Marcus Quadflieg (Prinzenkorps) & Dirk Trampen (Kommandant der Prinzengarde der Stadt Aachen) \nEintritt 11 Euro – Getränke frei
URL:https://aachen-kalender.de/event/momo1800-februar-special-kultur-talk-oecher-karneval/
LOCATION:Galerie RETROviews – Kunst am Markt\, Markt 36\, Aachen\, 52062
CATEGORIES:Lesung/Vortrag
END:VEVENT
BEGIN:VEVENT
DTSTART;TZID=Europe/Berlin:20260202T193000
DTEND;TZID=Europe/Berlin:20260202T193000
DTSTAMP:20260423T120342
CREATED:20260105T140816Z
LAST-MODIFIED:20260105T140816Z
UID:10019384-1770060600-1770060600@aachen-kalender.de
SUMMARY:vhs.wissen live.  Jürgen Heinze. "Zwischen Superorganismus und Polizeistaat: Konflikte und Konfliktlösung in den Staaten sozialer Insekten".
DESCRIPTION:Auf einen flüchtigen Blick hin wirkt ein Bienen-\, Wespen- oder Ameisennest wie ein perfekt organisiertes System\, in dem alle Gruppenmitglieder harmonisch kooperieren\, um den Fortpflanzungserfolg des gesamten Staates zu erhöhen. Hamiltons Theorie der Verwandtenselektion zeigt\, dass sich sogar der „altruistische“ Verzicht der Arbeiterinnen auf eigene Nachkommen in der Evolution lohnen kann\, wenn dadurch der Fortpflanzungserfolg der verwandten Königin gesteigert wird. Dies erklärt zwar die Entstehung der Kooperation im Insektenstaat\, sagt aber auch Konflikte voraus. Die daraus resultierenden aggressiven Interaktionen können das Miteinander im Staat empfindlich stören. Im Vortrag wird geschildert\, welche Konflikte auftreten und wie sie gelöst werden.\nJürgen Heinze hat einen Lehrstuhl für Zoologie und Evolutionsbiologie an der Universität Regensburg und ist Mitglied der Bayerischen Akademie der Wissenschaften und der Leopoldina. \nvhs.wissen live steht für hochkarätige Vorträge von Expert*innen aus Politik\, Kultur\, Wissenschaft und Gesellschaft. Teilnehmende können diese kostenfrei digital verfolgen und anschließend live mit den Vortragenden diskutieren.\nInteressierte können sich für die Reihe unverbindlich und kostenfrei online anmelden. Die Zugangsdaten werden drei Tage vor dem Termin verschickt. Außerdem erhält jede*r\, der/die angemeldet ist\, am Nachmittag der Veranstaltung eine Erinnerung per E-Mail.\nvhs – ganz einfach mehr wissen! \n\nKostenfreie Veranstaltung
URL:https://aachen-kalender.de/event/vhs-wissen-live-juergen-heinze-zwischen-superorganismus-und-polizeistaat-konflikte-und-konfliktloesung-in-den-staaten-sozialer-insekten/
LOCATION:Online
CATEGORIES:Lesung/Vortrag
END:VEVENT
BEGIN:VEVENT
DTSTART;TZID=Europe/Berlin:20260202T200000
DTEND;TZID=Europe/Berlin:20260202T200000
DTSTAMP:20260423T120342
CREATED:20251127T093111Z
LAST-MODIFIED:20260120T143224Z
UID:10018430-1770062400-1770062400@aachen-kalender.de
SUMMARY:"Frauensache". Schauspiel von Lutz Hübner und Sarah Nemitz.
DESCRIPTION:Die Frauenärztin Beate möchte in den Ruhestand gehen und sucht deshalb eine Nachfolgerin für ihre Praxis in einer Provinz-Kleinstadt. Ein schwieriges Unterfangen\, denn das Interesse an einem arbeitsintensiven Arztjob auf dem Land ist gering. Doch dann meldet sich die junge Ärztin Hanna. Auf den ersten Blick scheint Hanna genau dem zu entsprechen\, was Beate sucht: eine engagierte\, selbstbewusste und selbstbestimmte Frau – freundlich\, offen und voller Idealismus. \nDoch als Hanna sich während ihrer Hospitation bei einem Beratungsgespräch über einen Schwangerschaftsabbruch ungefragt einmischt und dabei offenbart\, dass sie rigoros gegen Abtreibung ist\, kommt es zum Bruch: Hannas Auffassung des Frauenärztinnen-Berufs ist dem Beates offenbar komplett entgegengesetzt – ihr Wertekanon ist zutiefst reaktionär und mit der von den 68er-Idealen geprägten Einstellung Beates unvereinbar. Während Beate den Vorfall erstmal sacken lassen will\, tritt Hanna unter Mithilfe rechter Lebensschützer-Initiativen am nächsten Tag eine Hass- und Schmutzkampagne gegen Beate und ihre Praxis los\, die schon bald in aller Öffentlichkeit ausgetragen wird und das ganze Gemeinde-Leben erschüttert …
URL:https://aachen-kalender.de/event/frauensache-schauspiel-von-lutz-huebner-und-sarah-nemitz/2026-02-02/
LOCATION:Grenzlandtheater\, ElisenGalerie\, Aachen\, 52062
CATEGORIES:Theater
ATTACH;FMTTYPE=image/jpeg:https://aachen-kalender.de/wp-content/uploads/2025/04/Frauensache_alle.jpg
END:VEVENT
BEGIN:VEVENT
DTSTART;TZID=Europe/Berlin:20260202T200000
DTEND;TZID=Europe/Berlin:20260202T200000
DTSTAMP:20260423T120342
CREATED:20251210T093621Z
LAST-MODIFIED:20260106T085456Z
UID:10019257-1770062400-1770062400@aachen-kalender.de
SUMMARY:"JECKOMIO.tv – Live aus dem Hexenhof!"
DESCRIPTION:Was alle Öcherinnen und Öcher montags um 20 Uhr machen? YouTube gucken! Denn dort geht vom 12. Januar bis zum 9. Februar die vierte Staffel von Jeckomio.tv direkt on air. David Lulley und Daniel Schaakxs führen gewohnt spontan durch das Programm\, das aus jecken Beiträgen\, Interviews und News aus der Karnevalsszene besteht. \nEinschalten unter www.jeckomio.tv. \n  \n 
URL:https://aachen-kalender.de/event/jeckomio-tv-live-aus-dem-hexenhof/2026-02-02/
LOCATION:Online
CATEGORIES:Karneval
ATTACH;FMTTYPE=image/jpeg:https://aachen-kalender.de/wp-content/uploads/2024/12/Stopper_BadAachen_2024-e1733750726697.jpg
END:VEVENT
BEGIN:VEVENT
DTSTART;TZID=Europe/Berlin:20260202T201500
DTEND;TZID=Europe/Berlin:20260202T230000
DTSTAMP:20260423T120342
CREATED:20251112T092622Z
LAST-MODIFIED:20251112T092808Z
UID:10017808-1770063300-1770073200@aachen-kalender.de
SUMMARY:The Boneshakers (UK) bei Blues meets Rock.
DESCRIPTION:Wammie Winners: Best Funk/Blues Album\, Best Funk/Blues Artist. The Boneshakers – herausragende Gitarrentechnik\, frontalem Gesang\, präsentieren den Rhythmus mit Soul\, Funk\, Rock und Blues. Die beiden Frontfiguren Randy Jacobs – Gitarre\, Gesang und Jenny Langer – Gesang harmonieren perfekt mit ihrem musikalischen Talent. Hier stimmt die Chemie und dieses Projekt ist ansteckend. Wieder einmal ein Highlight\, das die Presse zu würdigen weiß. „They are that prolific and that good!“ Big City Rhythm ’n’ Blues Magazine. „The Sound: Where Blues Meets Funk.“ Todo Dia Um Blues (Brazil). \n\nDetails zum Kartenverkauf: Beim Nachweis von Arbeitslosigkeit\, Schüler\, Student\, Behinderung 19\,-EUR. Bis einen Tag vor der Show Anmeldung möglich 19\,-EUR\, ABK 24\,-EUR. Vorbestellung unter: Inde Life GmbH; 02403 5193105 oder Klaus 01782176853 oder tourworkacc@gmail.com.
URL:https://aachen-kalender.de/event/the-boneshakers-uk-bei-blues-meets-rock/
LOCATION:Rio-Eventclub\, Schnellengasse 18\, Eschweiler\, 52249
CATEGORIES:Musik
ATTACH;FMTTYPE=image/png:https://aachen-kalender.de/wp-content/uploads/2025/11/6912561aabd02-hl8ebL-e1762939679311.png
END:VEVENT
BEGIN:VEVENT
DTSTART;TZID=Europe/Berlin:20260202T203000
DTEND;TZID=Europe/Berlin:20260202T203000
DTSTAMP:20260423T120342
CREATED:20260113T102259Z
LAST-MODIFIED:20260113T102318Z
UID:10019782-1770064200-1770064200@aachen-kalender.de
SUMMARY:Aachen Big Band.
DESCRIPTION:Das nächste Konzert der wunderbaren Aachen Big Band in der Area 28.\n\nOb Swing oder Funk\, Count Basie oder Pat Metheny \, die neunzehn Musiker unter der Leitung von Adi Becker sitzen stilsicher im Sattel. Eine pulsierende Rhythmusgruppe\, gestochen scharfes Brass und relaxed swingende Saxophone sorgen für den charakteristischen Big-Band-Sound. Das 19-köpfige Ensemble in klassischer Big Band-Besetzung (5 Saxophone\, 5 Trompeten\, 5 Posaunen + Rhythmusgruppe) wurde 2002 gegründet und besteht größtenteils aus professionellen Jazzmusikern der Aachener Region. \n  \nACHTUNG: DAS KONZERT BEGINNT JEWEILS IMMER UM 20:30 UHR – Einlass ist ab 19:30 Uhr \n\nTickets: https://www.musikschule-mufab.de/aachen-big-band/
URL:https://aachen-kalender.de/event/aachen-big-band/
LOCATION:Area 28\, Grüner Weg 28\, Aachen\, 52070
CATEGORIES:Musik
END:VEVENT
END:VCALENDAR