BEGIN:VCALENDAR
VERSION:2.0
PRODID:-//Aachen-Termine - ECPv6.15.18//NONSGML v1.0//EN
CALSCALE:GREGORIAN
METHOD:PUBLISH
X-ORIGINAL-URL:https://aachen-kalender.de
X-WR-CALDESC:Veranstaltungen für Aachen-Termine
REFRESH-INTERVAL;VALUE=DURATION:PT1H
X-Robots-Tag:noindex
X-PUBLISHED-TTL:PT1H
BEGIN:VTIMEZONE
TZID:Europe/Berlin
BEGIN:DAYLIGHT
TZOFFSETFROM:+0100
TZOFFSETTO:+0200
TZNAME:CEST
DTSTART:20250330T010000
END:DAYLIGHT
BEGIN:STANDARD
TZOFFSETFROM:+0200
TZOFFSETTO:+0100
TZNAME:CET
DTSTART:20251026T010000
END:STANDARD
BEGIN:DAYLIGHT
TZOFFSETFROM:+0100
TZOFFSETTO:+0200
TZNAME:CEST
DTSTART:20260329T010000
END:DAYLIGHT
BEGIN:STANDARD
TZOFFSETFROM:+0200
TZOFFSETTO:+0100
TZNAME:CET
DTSTART:20261025T010000
END:STANDARD
BEGIN:DAYLIGHT
TZOFFSETFROM:+0100
TZOFFSETTO:+0200
TZNAME:CEST
DTSTART:20270328T010000
END:DAYLIGHT
BEGIN:STANDARD
TZOFFSETFROM:+0200
TZOFFSETTO:+0100
TZNAME:CET
DTSTART:20271031T010000
END:STANDARD
END:VTIMEZONE
BEGIN:VEVENT
DTSTART;TZID=Europe/Berlin:20260130T150000
DTEND;TZID=Europe/Berlin:20260130T150000
DTSTAMP:20260423T135304
CREATED:20251208T130416Z
LAST-MODIFIED:20251208T130416Z
UID:10019108-1769785200-1769785200@aachen-kalender.de
SUMMARY:"Ohrenkino mit dem Helene-Weber-Haus".
DESCRIPTION:Kreativer Lesespaß für Kinder ab 6 Jahren. Jeden Freitag in der KinderWelt jeweils um 15 und 16 Uhr. \n\nEintritt frei!\n\n‍
URL:https://aachen-kalender.de/event/ohrenkino-mit-dem-helene-weber-haus-21/2026-01-30/1/
LOCATION:Mayersche Buchhandlung\, Buchkremerstraße 1-7\, Aachen\, 52062\, Deutschland
CATEGORIES:Familie
END:VEVENT
BEGIN:VEVENT
DTSTART;TZID=Europe/Berlin:20260130T160000
DTEND;TZID=Europe/Berlin:20260130T160000
DTSTAMP:20260423T135304
CREATED:20251208T130416Z
LAST-MODIFIED:20251208T130416Z
UID:10019109-1769788800-1769788800@aachen-kalender.de
SUMMARY:"Ohrenkino mit dem Helene-Weber-Haus".
DESCRIPTION:Kreativer Lesespaß für Kinder ab 6 Jahren. Jeden Freitag in der KinderWelt jeweils um 15 und 16 Uhr. \n\nEintritt frei!\n\n‍
URL:https://aachen-kalender.de/event/ohrenkino-mit-dem-helene-weber-haus-21/2026-01-30/2/
LOCATION:Mayersche Buchhandlung\, Buchkremerstraße 1-7\, Aachen\, 52062\, Deutschland
CATEGORIES:Familie
END:VEVENT
BEGIN:VEVENT
DTSTART;TZID=Europe/Berlin:20260130T180000
DTEND;TZID=Europe/Berlin:20260130T180000
DTSTAMP:20260423T135304
CREATED:20251120T140523Z
LAST-MODIFIED:20251120T140856Z
UID:10017933-1769796000-1769796000@aachen-kalender.de
SUMMARY:Eilendorf singt - Ein Stadtteil voller Stimmen. "Lange Nacht des Singens".
DESCRIPTION:Bei der Langen Nacht des Singens erwartet euch ein abwechslungsreiches Programm mit 10 Konzerten an zwei Orten – von klassischem Liederabend über mitreißende Musicals bis hin zu kraftvollem Popchor. Kommt vorbei\, bleibt so lange ihr wollt und erlebt die Vielfalt der Chormusik in Eilendorf! \n\nAlle Veranstaltungen sind kostenlos.\n\nBitte erkundigen Sie sich nochmals auf der Homepage des Veranstalters über den genauen Ort der Veranstaltung.
URL:https://aachen-kalender.de/event/eilendorf-singt-ein-stadtteil-voller-stimmen-lange-nacht-des-singens/
LOCATION:St. Apollonia\, Apolloniaweg 10\, Aachen-Eilendorf\, 52080\, Deutschland
CATEGORIES:Musik
END:VEVENT
BEGIN:VEVENT
DTSTART;TZID=Europe/Berlin:20260130T180000
DTEND;TZID=Europe/Berlin:20260130T180000
DTSTAMP:20260423T135304
CREATED:20251126T132432Z
LAST-MODIFIED:20260105T091518Z
UID:10018369-1769796000-1769796000@aachen-kalender.de
SUMMARY:Jürgen B. Hausmann. "Karneval anno dazumal – wie et früher war". ABGESAGT!
DESCRIPTION:Nach seinem Autounfall muss der Alsdorfer Kabarettist und Büttenredner Jürgen B. Hausmann (Jürgen Beckers) noch einige Zeit verschnaufen. „Daher müssen bis Ende Februar 2026 alle Gastspiele und Engagements abgesagt und verschoben werden“. \nFür die abgesagten Gastspiele mit seinen Kabarettprogrammen und Lesungen wurden Nachholtermine mit den Veranstaltern bereits vereinbart. Dies betrifft auch die drei eigenen Karnevalsveranstaltungen von Jürgen B. Hausmann in der Alsdorfer Stadthalle „Karneval anno dazumal“. Diese werden auf den Auftakt zur neuen Karnevalssession im November 2026 verlegt. Die gekauften Karten behalten ihre Gültigkeit für die jeweiligen Ersatztermine (Sonntag\, 25. Januar 2026\, verlegt auf Sonntag\, 15. November 2026\, Montag\, 26. Januar 2026\, verlegt auf Montag\, 16. November 2026\, und Freitag\, 30. Januar 2026\, verlegt auf Freitag\, 13. November 2026\, Beginn jeweils 18 Uhr)\, können aber ggf. auch in der Vorverkaufsstelle zurückgegeben werden.  \nKarnevalsprogramm der besonderen Art: Sitzungskarneval wie er früher einmal war! Einen wunderbaren Abend lang gibt es humoristische Reden\, Zwiegespräche\, Tanz\, Schunkeln und viel rheinische Stimmung – und das gleich dreimal in der Stadthalle Alsdorf: \n\nSonntag\, 25. Januar 2026: Jürgen B. Hausmann und Harald Claßen\, Et Klimpermännche\, Zwei Hillije\, Prinzengarde der Stadt Alsdorf\, Tanzgarde des Karnevalsausschuss Wardener Vereine\nMontag\, 26. Januar 2026: Jürgen B. Hausmann und Harald Claßen\, Et Klimpermännche\, Zwei Hillije\, Prinzengarde der Stadt Alsdorf\, Tanzgarde des Karnevalsausschuss Wardener Vereine\nFreitag\, 30. Januar 2026: Jürgen B. Hausmann und Harald Claßen\, SakkoKolonia\, Uli Teichmann\, Prinzengarde der Stadt Alsdorf\, Tanzgarde des Karnevalsausschuss Wardener Vereine\n\nDabei liefern Jürgen B. Hausmann und sein musikalischer Partner Harald Claßen ein närrisches Soloprogramm ab\, in dem sowohl Wort als auch Musik in einem wahren Feuerwerk auf die Bühne kommen.
URL:https://aachen-kalender.de/event/juergen-b-hausmann-karneval-anno-dazumal-wie-et-frueher-war/2026-01-30/
LOCATION:Stadthalle Alsdorf\, Annastraße 2-6\, Alsdorf\, 52477
CATEGORIES:Karneval
ATTACH;FMTTYPE=image/jpeg:https://aachen-kalender.de/wp-content/uploads/2025/11/25Jan_Hausmann_Alsdorf.jpg
END:VEVENT
BEGIN:VEVENT
DTSTART;TZID=Europe/Berlin:20260130T180000
DTEND;TZID=Europe/Berlin:20260130T180000
DTSTAMP:20260423T135304
CREATED:20251208T164707Z
LAST-MODIFIED:20251208T164707Z
UID:10019231-1769796000-1769796000@aachen-kalender.de
SUMMARY:KG Horbacher Freunde gegr. 1998 e.V. "Damensitzung".
DESCRIPTION:  \nTickets: https://www.aachenerkarneval.de/
URL:https://aachen-kalender.de/event/kg-horbacher-freunde-gegr-1998-e-v-damensitzung-2/
LOCATION:Saal Bosten\, Horbacher Straße 332\, Aachen-Horbach\, 52072\, Deutschland
CATEGORIES:Karneval
END:VEVENT
BEGIN:VEVENT
DTSTART;TZID=Europe/Berlin:20260130T190000
DTEND;TZID=Europe/Berlin:20260130T190000
DTSTAMP:20260423T135304
CREATED:20251120T135732Z
LAST-MODIFIED:20251120T140801Z
UID:10017930-1769799600-1769799600@aachen-kalender.de
SUMMARY:Eilendorf singt - Ein Stadtteil voller Stimmen. "Mitsingkonzert".
DESCRIPTION:Beim Mitsingkonzert mit Niklas Genschel wird das Publikum selbst aktiv: Gemeinsam als Chor wird ein Lied live einstudiert – ganz ohne Vorkenntnisse. Einfach kommen\, mitsingen und Teil eines besonderen musikalischen Moments werden! \nVom 30. Januar bis 1. Februar 2026 verwandelt sich Eilendorf in ein klingendes Festivalgelände: Eilendorf singt\, lädt Menschen jeden Alters und jeder Erfahrung ein\, die Freude am Singen zu entdecken\, zu teilen und zu feiern. Ob im Chor\, als Solist*in\, bei einem Workshop oder einfach im Publikum – hier ist jede Stimme willkommen. \nDrei Tage lang dreht sich alles um die Vielfalt des Gesangs: vom offenen Mitsingkonzert über Workshops zu Stimmbildung\, Beatboxing oder Stimmhygiene bis hin zur Langen Nacht des Singens mit zehn Konzerten an zwei Orten. Ergänzt wird das Programm durch musikalische Gottesdienste\, eine Ausstellung zum Thema „Singen“ und ein großes Abschlusskonzert. \nAlle Veranstaltungen sind kostenlos.
URL:https://aachen-kalender.de/event/eilendorf-singt-ein-stadtteil-voller-stimmen-mitsingkonzert/
LOCATION:Versöhnungskirche\, Johannesstraße 12\, Eilendorf\, 52080\, Deutschland
CATEGORIES:Musik
END:VEVENT
BEGIN:VEVENT
DTSTART;TZID=Europe/Berlin:20260130T190000
DTEND;TZID=Europe/Berlin:20260130T190000
DTSTAMP:20260423T135304
CREATED:20251126T083557Z
LAST-MODIFIED:20260107T091320Z
UID:10018192-1769799600-1769799600@aachen-kalender.de
SUMMARY:Das Da Theater. "Macho Man". Theaterdinner.
DESCRIPTION:Daniel ist gerade erst Single und verliebt sich im Türkei-Urlaub in die lebenslustige Aylin aus Köln. Zurück in Deutschland trifft er auf ihre temperamentvolle Großfamilie\, und sein Leben steht Kopf. Zwischen Kulturschock\, Missverständnissen und viel Humor sucht Daniel seinen Platz. Die Komödie von Moritz Netenjakob wird als Theaterdinner auf Gut Hebscheid mit Live-Musik und Fünf-Gänge-Menü serviert.
URL:https://aachen-kalender.de/event/das-da-theater-macho-man-theaterdinner-14/2026-01-30/
LOCATION:Gut Hebscheid\, Grüne Eiche 45\, Aachen\, 52076\, Deutschland
CATEGORIES:Theater
ATTACH;FMTTYPE=image/jpeg:https://aachen-kalender.de/wp-content/uploads/2025/05/7Nov_DasDA.jpg
END:VEVENT
BEGIN:VEVENT
DTSTART;TZID=Europe/Berlin:20260130T190000
DTEND;TZID=Europe/Berlin:20260130T190000
DTSTAMP:20260423T135304
CREATED:20251204T134046Z
LAST-MODIFIED:20251204T134046Z
UID:10019029-1769799600-1769799600@aachen-kalender.de
SUMMARY:Gesangsabend.
DESCRIPTION:Mit Studierenden der Klasse Prof. Raimund Nolte.
URL:https://aachen-kalender.de/event/gesangsabend-16/
LOCATION:Hochschule für Musik und Tanz\, Theaterplatz 16\, Aachen\, 52064\, Deutschland
CATEGORIES:Musik
END:VEVENT
BEGIN:VEVENT
DTSTART;TZID=Europe/Berlin:20260130T190000
DTEND;TZID=Europe/Berlin:20260130T190000
DTSTAMP:20260423T135304
CREATED:20251208T165130Z
LAST-MODIFIED:20251208T165138Z
UID:10019233-1769799600-1769799600@aachen-kalender.de
SUMMARY:KG Hooreter Frönnde gegr. 2005 e.V. "1. Hooreter Mädchensitzung".
DESCRIPTION:Tickets: https://www.aachenerkarneval.de/
URL:https://aachen-kalender.de/event/kg-hooreter-froennde-gegr-2005-e-v-1-hooreter-maedchensitzung/
LOCATION:Haarbachtalhalle\, Am Mühlenteich 30\, Aachen-Haaren\, 52080\, Deutschland
CATEGORIES:Karneval
END:VEVENT
BEGIN:VEVENT
DTSTART;TZID=Europe/Berlin:20260130T190000
DTEND;TZID=Europe/Berlin:20260130T210000
DTSTAMP:20260423T135304
CREATED:20260113T143530Z
LAST-MODIFIED:20260113T143623Z
UID:10019795-1769799600-1769806800@aachen-kalender.de
SUMMARY:Prof. Dr. Harald Welzer. "Das Haus der Gefühle". Lesung und Diskussion.
DESCRIPTION:Wir wohnen in unseren Gefühlen wie in Häusern. Unsere inneren Landschaften sind es\, die unsere Weltbeziehungen ausbilden und unsere Entscheidungen prägen\, Sicherheit geben oder Ängste auslösen. Wenn gewohnte Sicherheiten bröckeln\, eine als gegeben vorausgesetzte Welt verschwindet\, verunsichert das die Menschen zutiefst\, ohne dass sie recht wissen\, warum. Das nutzen Antidemokraten aus und schüren Angst\, denn Demokratie setzt Vertrauen\, Sicherheit und Zuversicht voraus. Aber das sind Gefühle und nichts\, was man rational erlernt oder erklärt bekommen hat. Sie müssen gelebt werden\, vital erworben worden sein in der Wirklichkeit. Erst das erlaubt ein Gefühl von Beheimatung und Zukunftsvertrauen. Prof. Dr. Harald Welzer ist Soziologe und Sozialpsychologe\, Mitbegründer und Direktor von „FUTURZWEI. Stiftung Zukunftsfähigkeit“\, Sprecher des Rates für Digitale Ökologie\, ständiger Gastprofessor für Sozialpsychologie an der Universität Sankt Gallen. Er hat zahlreiche Bücher zu gesellschaftspolitischen Fragen und zur Nachhaltigkeit geschrieben\, unter anderem „Klimakriege. Wofür im 21. Jahrhundert getötet wird“\, „Selbst denken. Eine Anleitung zum Widerstand“; „Nachruf auf mich selbst. Die Kultur des Aufhörens“\, gerade erschienen ist „Das Haus der Gefühle“ (alle bei S.-Fischer). Daneben ist er Herausgeber von „tazFUTURZWEI“ – Magazin für Zukunft und Politik. Die Bücher von Harald Welzer sind in 22 Sprachen erschienen. Das Worthaus aus Burtscheid präsentiert einen Büchertisch\, an dem zum Thema passende Bücher zum Kauf angeboten werden. \n\n Anmeldung unter info@frankenbuerger.de
URL:https://aachen-kalender.de/event/prof-dr-harald-welzer-das-haus-der-gefuehle-lesung-und-diskussion/
LOCATION:Burg Frankenberg\, Goffartstraße 45\, Aachen\, 52066\, Deutschland
CATEGORIES:Lesung/Vortrag
ATTACH;FMTTYPE=image/png:https://aachen-kalender.de/wp-content/uploads/2026/01/69664d1070ed0-4rYZ7I.png
END:VEVENT
BEGIN:VEVENT
DTSTART;TZID=Europe/Berlin:20260130T193000
DTEND;TZID=Europe/Berlin:20260130T193000
DTSTAMP:20260423T135304
CREATED:20251120T135904Z
LAST-MODIFIED:20251216T132345Z
UID:10017931-1769801400-1769801400@aachen-kalender.de
SUMMARY:Eilendorf singt - Ein Stadtteil voller Stimmen. "Eröffnungskonzert".
DESCRIPTION:Der Aachener Domchor und der Knabenchor Bremen eröffnen das Festival mit einem festlichen Konzert in St. Severin. \nVom 30. Januar bis 1. Februar 2026 verwandelt sich Eilendorf in ein klingendes Festivalgelände: Eilendorf singt\, lädt Menschen jeden Alters und jeder Erfahrung ein\, die Freude am Singen zu entdecken\, zu teilen und zu feiern. Ob im Chor\, als Solist*in\, bei einem Workshop oder einfach im Publikum – hier ist jede Stimme willkommen. \nDrei Tage lang dreht sich alles um die Vielfalt des Gesangs: vom offenen Mitsingkonzert über Workshops zu Stimmbildung\, Beatboxing oder Stimmhygiene bis hin zur Langen Nacht des Singens mit zehn Konzerten an zwei Orten. Ergänzt wird das Programm durch musikalische Gottesdienste\, eine Ausstellung zum Thema „Singen“ und ein großes Abschlusskonzert. \nAlle Veranstaltungen sind kostenlos.
URL:https://aachen-kalender.de/event/eilendorf-singt-ein-stadtteil-voller-stimmen-eroeffnungskonzert/
LOCATION:St. Severin\, Kirchweidweg\, Eilendorf\, 52080\, Deutschland
CATEGORIES:Musik
END:VEVENT
BEGIN:VEVENT
DTSTART;TZID=Europe/Berlin:20260130T193000
DTEND;TZID=Europe/Berlin:20260130T193000
DTSTAMP:20260423T135304
CREATED:20251201T145716Z
LAST-MODIFIED:20251217T151728Z
UID:10018818-1769801400-1769801400@aachen-kalender.de
SUMMARY:Theater Rosenfisch. "Die Windsbraut. Die Visionen der Leonora Carrington". Reihe "Animationen". Figurentheater.
DESCRIPTION:Leonora Carrington (1917–2011)\, Malerin\, Magierin und Autorin\, entzieht sich früh den Zwängen ihres wohlhabenden Elternhauses und schließt sich in Paris den Surrealisten an. Als ihr Lebensgefährte\, der Maler Max Ernst\, 1940 in Südfrankreich interniert wird\, erleidet sie einen psychischen Zusammenbruch. Die Psyche veranstaltet Objekttheater … : Tiere beginnen zu sprechen\, Gegenstände erwachen zum Leben\, die Realität ist aus den Fugen. Eine magische Reise in ihr Inneres beginnt …\n„Windsbraut“ verbindet Schauspiel mit Figurentheater und zeigt das Surreale als poetischen Widerstand gegen eine unerträgliche\, verrückte Welt: bildstark\, verspielt\, bewegend. \n\ntheater rosenfisch – Eva Weissenböck & Stephan Wunsch
URL:https://aachen-kalender.de/event/animationen-2026-theater-rosenfisch-die-windsbraut-die-visionen-der-leonora-carrington/
LOCATION:Space\, Ludwig Forum\, Jülicher Straße 97-109\, Aachen\, 52070\, Germany
CATEGORIES:Theater
ATTACH;FMTTYPE=image/jpeg:https://aachen-kalender.de/wp-content/uploads/2025/12/30Jan_Rosenfisch_Lufo.jpg
END:VEVENT
BEGIN:VEVENT
DTSTART;TZID=Europe/Berlin:20260130T193000
DTEND;TZID=Europe/Berlin:20260130T193000
DTSTAMP:20260423T135304
CREATED:20260112T130012Z
LAST-MODIFIED:20260112T130101Z
UID:10019715-1769801400-1769801400@aachen-kalender.de
SUMMARY:"Jazzezz". Ein Mix aus Jazz und Dix.
DESCRIPTION:„JAZZEZZ“ ist seit Jahren fester Bestandteil der niederländischen Jazzszene. Ihre Musik ist eine Mischung aus traditionellem Dixieland und populärem Jazz. New Orleans Stil von Armstrong bis Ellington und swingender Jazz aus späteren Zeiten. \nBesetzung: Nico Adriaens Klavier und Saxophon \n\nHarry van Langen Trompete und Gesang\nToni van Berg Klarinette und Tenorsaxophon\nFrans van Hoine Posaune\nAndre van der Steen Percussion\nErik Zwanenberg Bassgitarre und Kontrabas.\n\nEin Jazzabend\, der die Besucher zurückführt nach Harlem und New Orleans\, zur schwarzen Seele des Jazz. \nDer Eintritt ist frei\, um Spende wird gebeten.
URL:https://aachen-kalender.de/event/jazzezz-ein-mix-aus-jazz-und-dix/
LOCATION:Park-Terrassen\, Dammstraße 40\, Aachen\, 52066\, Deutschland
CATEGORIES:Musik
END:VEVENT
BEGIN:VEVENT
DTSTART;TZID=Europe/Berlin:20260130T193000
DTEND;TZID=Europe/Berlin:20260130T220000
DTSTAMP:20260423T135304
CREATED:20260112T131738Z
LAST-MODIFIED:20260112T132104Z
UID:10019718-1769801400-1769810400@aachen-kalender.de
SUMMARY:Konzert des Aachener Studentenorchesters. "Richard Wagner\, Piotr Iljitsch Tschaikowski und Gustav Mahler".
DESCRIPTION:Das Aachener Studentenorchester e.V. wurde im Frühjahr 1989 durch studentische Eigeninitiative als gemeinnütziger Verein gegründet. Wir sind ca. 90 Studierende aus Aachen\, die in ihrer Freizeit musizieren. Als Ausgleich zum Studienalltag treffen sie sich einmal in der Woche\, um dem gemeinsamen Hobby\, der Musik\, nachzugehen. Zu hören gibt es: Richard Wagner: Overture aus „Die Meistersinger von Nürnberg“\, Piotr Iljitsch Tschaikowski: Suite op. 20a\, „Schwanensee“\, Gustav Mahler: Sinfonie Nr. 1. \n  \n\nDetails zum Kartenverkauf: Die Tickets kosten 15\,00 EUR und ermäßigt (Kinder\, Schüler\, Bundesfreiwillige/FSJ\, Azubis\, Studierende\, Personen mit Behinderung) 8\,00 EUR und können online (https://www.aso.rwth-aachen.de/konzerte/kartenverkauf/) auf der Webseite und an der Abendkasse erworben werden.
URL:https://aachen-kalender.de/event/konzert-des-aachener-studentenorchesters-richard-wagner-piotr-iljitsch-tschaikowski-und-gustav-mahler/2026-01-30/
LOCATION:DAS LIEBIG\, Liebigstraße 19\, Aachen\, 52070\, Deutschland
CATEGORIES:Musik
ATTACH;FMTTYPE=image/jpeg:https://aachen-kalender.de/wp-content/uploads/2026/01/6964da3d88c1a-8EEbgs-e1768223822556.jpg
END:VEVENT
BEGIN:VEVENT
DTSTART;TZID=Europe/Berlin:20260130T200000
DTEND;TZID=Europe/Berlin:20260130T200000
DTSTAMP:20260423T135304
CREATED:20251204T100127Z
LAST-MODIFIED:20251204T100127Z
UID:10018977-1769803200-1769803200@aachen-kalender.de
SUMMARY:"Kopfkino - Close-up-Zaubershow".
DESCRIPTION:Die neue Zaubershow im Black Table Magic Theater wird Ihre Gehirnzellen einmal ordentlich durcheinander wirbeln. Sie ist noch unglaublicher\, noch spektakulärer – und wie immer erfrischend\, amüsant und facettenreich. \nWer die Shows „Nicht blinzeln“ und „Blackout“ schon kennt\, wird hier noch einmal in besonderer Weise herausgefordert\, die neuen Kunststücke von Christian Jedinat zu hinterfragen. Die Vorstellung wird nur eine Frage zurücklassen: \n„Wie macht er das nur?“
URL:https://aachen-kalender.de/event/kopfkino-close-up-zaubershow-54/2026-01-30/
LOCATION:Black Table Magic Theater\, Borngasse 30\, Aachen\, 52064\, Deutschland
CATEGORIES:Kleinkunst
ATTACH;FMTTYPE=image/jpeg:https://aachen-kalender.de/wp-content/uploads/2024/11/nichtblinzeln_solo-e1732195746166.jpg
END:VEVENT
BEGIN:VEVENT
DTSTART;TZID=Europe/Berlin:20260130T200000
DTEND;TZID=Europe/Berlin:20260130T200000
DTSTAMP:20260423T135304
CREATED:20251204T125603Z
LAST-MODIFIED:20251204T125603Z
UID:10019006-1769803200-1769803200@aachen-kalender.de
SUMMARY:"Lola rennt".
DESCRIPTION:Uraufführung. Nach dem gleichnamigen Erfolgsfilm von Tom Tykwer. Bühnenfassung von Maren Dupont. \n100.000 Euro\, 20 Minuten und ein Wettlauf gegen die Zeit: Lola will ihren Freund Manni aus einer verzweifelten und absurden Lage retten. Als Geldkurier für einen Autoschieber hat er eine Tasche mit 100.000 Euro verloren. Das Geld will sein Boss wieder zurück – und zwar schnell. In ihrer Verzweiflung will Lola ihren Vater\, einen Bankfilialleiter\, um Hilfe bitten. Dreimal rennt sie los zu ihm. Dreimal erlebt sie auf dem gleichen Weg unterschiedliche Versionen derselben Geschichte. Und dreimal endet alles anders. Lola hat nur 20 Minuten Zeit. 20 Minuten\, in denen sie das Leben ihres Freundes Manni schützen will. 20 Minuten voller Begegnungen\, Zufälle und Entscheidungen. \n„Lola rennt“ ist ein temporeiches Stück über die Frage: Wie viel Einfluss haben wir wirklich auf unser Leben? Die Vorlage ist Tom Tykwers gleichnamiger Kultfilm von 1998\, der international gefeiert und vielfach ausgezeichnet wurde. Mit seiner innovativen\, radikalen und überraschenden Erzählform war er ein Meilenstein der Kinogeschichte. 2019 erstmals als Oper in Regensburg inszeniert\, erleben Sie in der Spielzeit 25/26 die Uraufführung von „Lola rennt“ als Schauspiel im DAS DA.
URL:https://aachen-kalender.de/event/lola-rennt-14/2026-01-30/
LOCATION:Das Da Theater\, Liebigstraße 9\, Aachen\, 52070\, Deutschland
CATEGORIES:Theater
ATTACH;FMTTYPE=image/jpeg:https://aachen-kalender.de/wp-content/uploads/2025/05/30Okt_DasDa_Lola.jpg
END:VEVENT
BEGIN:VEVENT
DTSTART;TZID=Europe/Berlin:20260130T200000
DTEND;TZID=Europe/Berlin:20260130T200000
DTSTAMP:20260423T135304
CREATED:20251208T164908Z
LAST-MODIFIED:20251212T092143Z
UID:10019232-1769803200-1769803200@aachen-kalender.de
SUMMARY:Stadtgarde Oecher Penn von 1857 e.V. "Hexenkessel". AUSVERKAUFT!
DESCRIPTION:„Zielgruppenspezifisch ausgerichtete Veranstaltung“ – so beschrieb die Oecher Penn im Jubiläumsjahr 2007 die erstmals angebotene Herrensitzung! 10 Jahre später feierte die nächste „zielgruppenspezifisch ausgerichtete Veranstaltung“ Premiere\, denn in der Jubiläumssession 2017 bot die Oecher Penn erstmals eine Mädchensitzung an. Und da die Damen den Herren beim Feiern in nichts nachstanden und bei der Premiere dieser Sitzung die Kappertzhölle innerhalb kürzester Zeit tatsächlich in einen närrischen Hexenkessel verwandelten\, eroberte dieses kultverdächtige Event sofort einen festen Platz im närrischen Veranstaltungskalender der Oecher Penn. \n  \nTickets: https://www.aachenerkarneval.de/
URL:https://aachen-kalender.de/event/stadtgarde-oecher-penn-von-1857-e-v-hexenkessel-ausverkauft/
LOCATION:Park-Terrassen\, Dammstraße 40\, Aachen\, 52066\, Deutschland
CATEGORIES:Karneval
END:VEVENT
BEGIN:VEVENT
DTSTART;TZID=Europe/Berlin:20260130T203000
DTEND;TZID=Europe/Berlin:20260130T234500
DTSTAMP:20260423T135304
CREATED:20251208T100910Z
LAST-MODIFIED:20251217T105224Z
UID:10019038-1769805000-1769816700@aachen-kalender.de
SUMMARY:Rathausgarde Öcher Duemjroefe. "Silent Jeck Disco".
DESCRIPTION:Die Rathausgarde Öcher Duemjroefe feiert unter dem Sessionsmotto „Me kann ouch met ene Riefkouch de Trapp öele“ mit Präsident Harald Hackethal und lädt zur 2. Silent Jeck Disco in die Aula Carolina ein: Am 30. Januar ab 20.30 Uhr wird mit Kopfhörern getanzt. Karten gibt es an der Abendkasse.
URL:https://aachen-kalender.de/event/rathausgarde-oecher-duemjroefe-gegr-1953-e-v-silent-jeck-disco/
LOCATION:Aula Carolina\, Pontstraße 7\, Aachen\, 52062
CATEGORIES:Party
ATTACH;FMTTYPE=image/jpeg:https://aachen-kalender.de/wp-content/uploads/2025/12/693540fcb2b6e-Io12nc-scaled-e1765188517884.jpg
END:VEVENT
END:VCALENDAR