BEGIN:VCALENDAR
VERSION:2.0
PRODID:-//Aachen-Termine - ECPv6.15.18//NONSGML v1.0//EN
CALSCALE:GREGORIAN
METHOD:PUBLISH
X-WR-CALNAME:Aachen-Termine
X-ORIGINAL-URL:https://aachen-kalender.de
X-WR-CALDESC:Veranstaltungen für Aachen-Termine
REFRESH-INTERVAL;VALUE=DURATION:PT1H
X-Robots-Tag:noindex
X-PUBLISHED-TTL:PT1H
BEGIN:VTIMEZONE
TZID:Europe/Berlin
BEGIN:DAYLIGHT
TZOFFSETFROM:+0100
TZOFFSETTO:+0200
TZNAME:CEST
DTSTART:20250330T010000
END:DAYLIGHT
BEGIN:STANDARD
TZOFFSETFROM:+0200
TZOFFSETTO:+0100
TZNAME:CET
DTSTART:20251026T010000
END:STANDARD
BEGIN:DAYLIGHT
TZOFFSETFROM:+0100
TZOFFSETTO:+0200
TZNAME:CEST
DTSTART:20260329T010000
END:DAYLIGHT
BEGIN:STANDARD
TZOFFSETFROM:+0200
TZOFFSETTO:+0100
TZNAME:CET
DTSTART:20261025T010000
END:STANDARD
BEGIN:DAYLIGHT
TZOFFSETFROM:+0100
TZOFFSETTO:+0200
TZNAME:CEST
DTSTART:20270328T010000
END:DAYLIGHT
BEGIN:STANDARD
TZOFFSETFROM:+0200
TZOFFSETTO:+0100
TZNAME:CET
DTSTART:20271031T010000
END:STANDARD
END:VTIMEZONE
BEGIN:VEVENT
DTSTART;TZID=Europe/Berlin:20260119T200000
DTEND;TZID=Europe/Berlin:20260119T200000
DTSTAMP:20260423T165708
CREATED:20251127T091726Z
LAST-MODIFIED:20251127T091726Z
UID:10018409-1768852800-1768852800@aachen-kalender.de
SUMMARY:"zwei herren von real madrid".  Schauspiel von Leo Meier.
DESCRIPTION:Wenn man am Morgen bereits über die eigenen Füße stolpert\, sollte man mit größter Achtsamkeit durch den Tag gehen. Genau so beginnt der Gerichtstag für den Dorfrichter Adam\, dessen fehlendes Gleichgewicht\, sein dicker Schädel und merkwürdige Wunden im Gesicht von einer turbulenten Nacht zeugen. Als ob das nicht reichen würde\, kommt auch noch Gerichtsrätin Walter\, um die juristischen Verfahrensweisen in dem kleinen Dörfchen genauer unter die Lupe zu nehmen. Gleich der erste Fall am Morgen erscheint dem Gegenstand nach banal\, sein Inhalt birgt jedoch Abgründe: Marthe Rull tritt vor das Gericht und beklagt einen zerbrochenen Krug\, der im Zimmer ihrer Tochter Eve von einem unbekannten Eindringling zerstört wurde. Schnell wird klar\, in Eves Zimmer ist in jener Nacht mehr kaputtgegangen als bloßes Porzellan. Unter Verdacht steht ihr Verlobter Ruprecht – oder war es doch der Leprecht? Für Richter Adam steht fest\, einer von beiden muss es gewesen sein. Als dann jedoch eine weitere Zeugin auftaucht\, gerät Richter Adam ins Visier seines eigenen Prozesses. Die Einzige\, die Licht ins Dunkel bringen könnte\, ist Eve\, doch sie schweigt – warum?
URL:https://aachen-kalender.de/event/zwei-herren-von-real-madrid-schauspiel-von-leo-meier-9/2026-01-19/
LOCATION:Grenzlandtheater\, ElisenGalerie\, Aachen\, 52062
CATEGORIES:Theater
ATTACH;FMTTYPE=image/jpeg:https://aachen-kalender.de/wp-content/uploads/2025/04/ZweiHerren_Madrid_Grenzlandtheater.jpg
END:VEVENT
END:VCALENDAR