BEGIN:VCALENDAR
VERSION:2.0
PRODID:-//Aachen-Termine - ECPv6.15.18//NONSGML v1.0//EN
CALSCALE:GREGORIAN
METHOD:PUBLISH
X-WR-CALNAME:Aachen-Termine
X-ORIGINAL-URL:https://aachen-kalender.de
X-WR-CALDESC:Veranstaltungen für Aachen-Termine
REFRESH-INTERVAL;VALUE=DURATION:PT1H
X-Robots-Tag:noindex
X-PUBLISHED-TTL:PT1H
BEGIN:VTIMEZONE
TZID:Europe/Berlin
BEGIN:DAYLIGHT
TZOFFSETFROM:+0100
TZOFFSETTO:+0200
TZNAME:CEST
DTSTART:20240331T010000
END:DAYLIGHT
BEGIN:STANDARD
TZOFFSETFROM:+0200
TZOFFSETTO:+0100
TZNAME:CET
DTSTART:20241027T010000
END:STANDARD
BEGIN:DAYLIGHT
TZOFFSETFROM:+0100
TZOFFSETTO:+0200
TZNAME:CEST
DTSTART:20250330T010000
END:DAYLIGHT
BEGIN:STANDARD
TZOFFSETFROM:+0200
TZOFFSETTO:+0100
TZNAME:CET
DTSTART:20251026T010000
END:STANDARD
BEGIN:DAYLIGHT
TZOFFSETFROM:+0100
TZOFFSETTO:+0200
TZNAME:CEST
DTSTART:20260329T010000
END:DAYLIGHT
BEGIN:STANDARD
TZOFFSETFROM:+0200
TZOFFSETTO:+0100
TZNAME:CET
DTSTART:20261025T010000
END:STANDARD
END:VTIMEZONE
BEGIN:VEVENT
DTSTART;TZID=Europe/Berlin:20251122T200000
DTEND;TZID=Europe/Berlin:20251122T200000
DTSTAMP:20260423T152503
CREATED:20251009T090313Z
LAST-MODIFIED:20251009T090313Z
UID:36139-1763841600-1763841600@aachen-kalender.de
SUMMARY:Xenon Quartet @Schnittstellen. "Schubert Winterreise und andere Werke".
DESCRIPTION:„Ich war zutiefst beeindruckt von der musikalischen Ausdruckskraft und der technischen Perfektion“ Günter Pichler\, Alban Berg Quartett \nInternational preisgekrönt\, zählt das Xenon Saxophon Quartett zu den jungen Hoffnungsträgern der Kammermusikszene. Seit seiner Gründung im Jahr 2010 führt das Ensemble in kontrastreichen Programmen Altes und Neues zusammen. So erklingen Uraufführungen neben vergessener Musik aus den letzten Jahrhunderten\, klassische Streichquartette neben Originalliteratur für Saxophonquartett. \nDas Xenon Saxophon Quartett\, das Stipendiat und Sonderpreisträger des Deutschen Musikwettbewerbs war\, spielt zahlreiche Konzerte im In- und Ausland\, wirkt an Festivals wie den Ludwigsburger Schlossfestspielen mit\, engagierte sich in Köln bei Yehudi Menuhin – LiveMusicNow und musizierte in diversen Radiosendungen (DLF\, WDR\, NDR\, MDR\, SWR). Zudem gewann das Xenon Quartett den 1. Preis und den Publikumspreis des „August Everding Musikwettbewerbs 2020 vom Münchener Konzertverein e.V.“.
URL:https://aachen-kalender.de/event/xenon-quartet-schnittstellen-schubert-winterreise-und-andere-werke/
LOCATION:Musikbunker\, Goffartstraße 26\, Aachen\, 52066\, Germany
CATEGORIES:Musik
END:VEVENT
END:VCALENDAR