BEGIN:VCALENDAR
VERSION:2.0
PRODID:-//Aachen-Termine - ECPv6.15.18//NONSGML v1.0//EN
CALSCALE:GREGORIAN
METHOD:PUBLISH
X-WR-CALNAME:Aachen-Termine
X-ORIGINAL-URL:https://aachen-kalender.de
X-WR-CALDESC:Veranstaltungen für Aachen-Termine
REFRESH-INTERVAL;VALUE=DURATION:PT1H
X-Robots-Tag:noindex
X-PUBLISHED-TTL:PT1H
BEGIN:VTIMEZONE
TZID:Europe/Berlin
BEGIN:DAYLIGHT
TZOFFSETFROM:+0100
TZOFFSETTO:+0200
TZNAME:CEST
DTSTART:20240331T010000
END:DAYLIGHT
BEGIN:STANDARD
TZOFFSETFROM:+0200
TZOFFSETTO:+0100
TZNAME:CET
DTSTART:20241027T010000
END:STANDARD
BEGIN:DAYLIGHT
TZOFFSETFROM:+0100
TZOFFSETTO:+0200
TZNAME:CEST
DTSTART:20250330T010000
END:DAYLIGHT
BEGIN:STANDARD
TZOFFSETFROM:+0200
TZOFFSETTO:+0100
TZNAME:CET
DTSTART:20251026T010000
END:STANDARD
BEGIN:DAYLIGHT
TZOFFSETFROM:+0100
TZOFFSETTO:+0200
TZNAME:CEST
DTSTART:20260329T010000
END:DAYLIGHT
BEGIN:STANDARD
TZOFFSETFROM:+0200
TZOFFSETTO:+0100
TZNAME:CET
DTSTART:20261025T010000
END:STANDARD
END:VTIMEZONE
BEGIN:VEVENT
DTSTART;TZID=Europe/Berlin:20251211T183000
DTEND;TZID=Europe/Berlin:20251211T183000
DTSTAMP:20260424T135337
CREATED:20251104T084315Z
LAST-MODIFIED:20251104T084315Z
UID:39104-1765477800-1765477800@aachen-kalender.de
SUMMARY:"Wo Bühnenbilder entstehen – Werkstattführung im Theater Aachen".
DESCRIPTION:Bevor sich der Vorhang hebt und ein Theaterstück oder eine Oper zur Aufführung kommt\, vergehen viele\nWochen und Monate mit Proben und Vorbereitungen. In der ehemaligen Tuchfabrik in der Mörgensstraße\nbefinden sich nicht nur die Probebühnen und Büros des Theater Aachen\, sondern auch die Werkstätten. Dort\narbeiten tagsüber viele Menschen an dem\, was den Zauber des Theaters erschafft: Ob Schreinerwerkstatt\noder Schlosserei\, Malsaal und Schneiderei\, Kaschiererwerkstatt oder Requisite – viele Arbeitsschritte an\nvielen Orten werden gebraucht\, um Bühnenbilder und Kostüme herzustellen. Einige Ausbildungsberufe\nkönnen nur am Theater erlernt werden wie Theatermaler*in\, -plastiker*in oder Gewandmeister*in. Die\nWerkstattführung vermittelt Hintergrundwissen über das Entstehen einer Inszenierung\, vom ersten Nagel\, der\neingeschlagen wird\, bis zum letzten Knopf\, der angenäht wird. \n\nTreffpunkt. Eingang neben der Hofeinfahrt\, Mörgensstr. /Ecke Hubertusstr.
URL:https://aachen-kalender.de/event/wo-buehnenbilder-entstehen-werkstattfuehrung-im-theater-aachen-2/
LOCATION:Mörgens\, Mörgensstraße 24\, Aachen\, 52064
CATEGORIES:Führungen
END:VEVENT
END:VCALENDAR