BEGIN:VCALENDAR
VERSION:2.0
PRODID:-//Aachen-Termine - ECPv6.15.18//NONSGML v1.0//EN
CALSCALE:GREGORIAN
METHOD:PUBLISH
X-WR-CALNAME:Aachen-Termine
X-ORIGINAL-URL:https://aachen-kalender.de
X-WR-CALDESC:Veranstaltungen für Aachen-Termine
REFRESH-INTERVAL;VALUE=DURATION:PT1H
X-Robots-Tag:noindex
X-PUBLISHED-TTL:PT1H
BEGIN:VTIMEZONE
TZID:Europe/Berlin
BEGIN:DAYLIGHT
TZOFFSETFROM:+0100
TZOFFSETTO:+0200
TZNAME:CEST
DTSTART:20250330T010000
END:DAYLIGHT
BEGIN:STANDARD
TZOFFSETFROM:+0200
TZOFFSETTO:+0100
TZNAME:CET
DTSTART:20251026T010000
END:STANDARD
BEGIN:DAYLIGHT
TZOFFSETFROM:+0100
TZOFFSETTO:+0200
TZNAME:CEST
DTSTART:20260329T010000
END:DAYLIGHT
BEGIN:STANDARD
TZOFFSETFROM:+0200
TZOFFSETTO:+0100
TZNAME:CET
DTSTART:20261025T010000
END:STANDARD
BEGIN:DAYLIGHT
TZOFFSETFROM:+0100
TZOFFSETTO:+0200
TZNAME:CEST
DTSTART:20270328T010000
END:DAYLIGHT
BEGIN:STANDARD
TZOFFSETFROM:+0200
TZOFFSETTO:+0100
TZNAME:CET
DTSTART:20271031T010000
END:STANDARD
END:VTIMEZONE
BEGIN:VEVENT
DTSTART;TZID=Europe/Berlin:20260423T100000
DTEND;TZID=Europe/Berlin:20260423T180000
DTSTAMP:20260423T153203
CREATED:20260407T084539Z
LAST-MODIFIED:20260407T084539Z
UID:56288-1776938400-1776967200@aachen-kalender.de
SUMMARY:Welttag des Buches. "Blind Date mit einem Buch".
DESCRIPTION:Der UNESCO Welttag des Buches ist jedes Jahr aufs Neue ein Feiertag für uns Buchhändler. Natürlich sind wir auch in diesem Jahr wieder dabei und veranstalten am Donnerstag\, 23. April ein Blind Date mit einem Buch. In der Zeit zwischen 10 Uhr und 18 Uhr setzen wir immer zur vollen Stunde einen Schwung Buchpäckchen auf dem Münsterplatz aus. Blickdicht verpackt erwartet Sie hoffentlich eine Überraschung\, wenn Sie ein noch unbekanntes Buch auspacken. Die Bücher\, die wir verschenken\, sind Lesexemplare der Verlage aus den letzten Saisons sowie Bücher mit kleinen Macken und Fehlern\, die aber durchaus noch gelesen werden können. Wir freuen uns\, wenn Sie sich am 23. April bei hoffentlich schönem Frühlingswetter auf dem Münsterplatz vor der Buchhandlung auf die Lauer legen und bei unserem Blind Date mit einem Buch mitmachen. Bei schlechtem Öcher Wetter findet die Aktion in der Buchhandlung statt.
URL:https://aachen-kalender.de/event/welttag-des-buches-blind-date-mit-einem-buch/
LOCATION:Buchhandlung Schmetz am Dom\, Münsterplatz 7-9\, Aachen\, 52062\, Deutschland
CATEGORIES:Sonstiges
END:VEVENT
END:VCALENDAR