BEGIN:VCALENDAR
VERSION:2.0
PRODID:-//Aachen-Termine - ECPv6.15.18//NONSGML v1.0//EN
CALSCALE:GREGORIAN
METHOD:PUBLISH
X-WR-CALNAME:Aachen-Termine
X-ORIGINAL-URL:https://aachen-kalender.de
X-WR-CALDESC:Veranstaltungen für Aachen-Termine
REFRESH-INTERVAL;VALUE=DURATION:PT1H
X-Robots-Tag:noindex
X-PUBLISHED-TTL:PT1H
BEGIN:VTIMEZONE
TZID:Europe/Berlin
BEGIN:DAYLIGHT
TZOFFSETFROM:+0100
TZOFFSETTO:+0200
TZNAME:CEST
DTSTART:20250330T010000
END:DAYLIGHT
BEGIN:STANDARD
TZOFFSETFROM:+0200
TZOFFSETTO:+0100
TZNAME:CET
DTSTART:20251026T010000
END:STANDARD
BEGIN:DAYLIGHT
TZOFFSETFROM:+0100
TZOFFSETTO:+0200
TZNAME:CEST
DTSTART:20260329T010000
END:DAYLIGHT
BEGIN:STANDARD
TZOFFSETFROM:+0200
TZOFFSETTO:+0100
TZNAME:CET
DTSTART:20261025T010000
END:STANDARD
BEGIN:DAYLIGHT
TZOFFSETFROM:+0100
TZOFFSETTO:+0200
TZNAME:CEST
DTSTART:20270328T010000
END:DAYLIGHT
BEGIN:STANDARD
TZOFFSETFROM:+0200
TZOFFSETTO:+0100
TZNAME:CET
DTSTART:20271031T010000
END:STANDARD
END:VTIMEZONE
BEGIN:VEVENT
DTSTART;TZID=Europe/Berlin:20260625T160000
DTEND;TZID=Europe/Berlin:20260625T235900
DTSTAMP:20260423T163326
CREATED:20251124T101843Z
LAST-MODIFIED:20251124T101843Z
UID:41198-1782403200-1782431940@aachen-kalender.de
SUMMARY:"WEINsommer Aachen". Auftakt.
DESCRIPTION:Wenn sich der Katschhof in eine Oase für edle Tropfen verwandelt\, ist wieder WEINsommer in Aachen. Im Juni präsentieren Winzer aus verschie­denen deutschen Anbau­gebieten ihre besten Rot-\, Weiß- und Schaum­weine und laden zum Probieren und Genießen ein. Inmitten der historischen Kulisse zwischen Dom und Rathaus können Besucher nicht nur ihre Lieblingsweine entdecken\, sondern auch mit den Erzeugern persönlich ins Gespräch kommen.
URL:https://aachen-kalender.de/event/weinsommer-aachen-auftakt/
LOCATION:Katschhof\, Aachen\, 52062\, Deutschland
CATEGORIES:Markt/Messe
ATTACH;FMTTYPE=image/jpeg:https://aachen-kalender.de/wp-content/uploads/2024/12/WS2023_IMG_9862_bearb-e1751357538499.jpg
END:VEVENT
END:VCALENDAR