BEGIN:VCALENDAR
VERSION:2.0
PRODID:-//Aachen-Termine - ECPv6.15.18//NONSGML v1.0//EN
CALSCALE:GREGORIAN
METHOD:PUBLISH
X-WR-CALNAME:Aachen-Termine
X-ORIGINAL-URL:https://aachen-kalender.de
X-WR-CALDESC:Veranstaltungen für Aachen-Termine
REFRESH-INTERVAL;VALUE=DURATION:PT1H
X-Robots-Tag:noindex
X-PUBLISHED-TTL:PT1H
BEGIN:VTIMEZONE
TZID:Europe/Berlin
BEGIN:DAYLIGHT
TZOFFSETFROM:+0100
TZOFFSETTO:+0200
TZNAME:CEST
DTSTART:20240331T010000
END:DAYLIGHT
BEGIN:STANDARD
TZOFFSETFROM:+0200
TZOFFSETTO:+0100
TZNAME:CET
DTSTART:20241027T010000
END:STANDARD
BEGIN:DAYLIGHT
TZOFFSETFROM:+0100
TZOFFSETTO:+0200
TZNAME:CEST
DTSTART:20250330T010000
END:DAYLIGHT
BEGIN:STANDARD
TZOFFSETFROM:+0200
TZOFFSETTO:+0100
TZNAME:CET
DTSTART:20251026T010000
END:STANDARD
BEGIN:DAYLIGHT
TZOFFSETFROM:+0100
TZOFFSETTO:+0200
TZNAME:CEST
DTSTART:20260329T010000
END:DAYLIGHT
BEGIN:STANDARD
TZOFFSETFROM:+0200
TZOFFSETTO:+0100
TZNAME:CET
DTSTART:20261025T010000
END:STANDARD
END:VTIMEZONE
BEGIN:VEVENT
DTSTART;TZID=Europe/Berlin:20251010T190000
DTEND;TZID=Europe/Berlin:20251010T190000
DTSTAMP:20260423T152416
CREATED:20250915T074139Z
LAST-MODIFIED:20250915T074139Z
UID:32958-1760122800-1760122800@aachen-kalender.de
SUMMARY:Verzauberte Bibliothek - für Erwachsene.
DESCRIPTION:Wenn ich mir was wünschen dürfte\, heute tue ich’s! Unter diesem Motto steht der Abend mit Geschichten der verschiedensten Art und Weise. Lassen Sie sich überraschen! Birgit Fritz\, Erzählerin aus Düsseldorf\, tut\, was sie nicht lassen kann\, sie erzählt für Sie alles\, was ihr besonders gern über die Lippen kommt. \n\nDer Eintritt ist frei\, Spenden sind willkommen.\nNur mit Anmeldung: buecherei@gemeinde.simmerath.de
URL:https://aachen-kalender.de/event/verzauberte-bibliothek-fuer-erwachsene/
LOCATION:Gemeindebücherei Simmerath\, Bickerather Str. 1\, Simmerath\, 52152
CATEGORIES:Lesung/Vortrag
ATTACH;FMTTYPE=image/jpeg:https://aachen-kalender.de/wp-content/uploads/2025/09/68c474dbda052-24qe3v-e1757922066107.jpg
END:VEVENT
END:VCALENDAR