BEGIN:VCALENDAR
VERSION:2.0
PRODID:-//Aachen-Termine - ECPv6.15.18//NONSGML v1.0//EN
CALSCALE:GREGORIAN
METHOD:PUBLISH
X-WR-CALNAME:Aachen-Termine
X-ORIGINAL-URL:https://aachen-kalender.de
X-WR-CALDESC:Veranstaltungen für Aachen-Termine
REFRESH-INTERVAL;VALUE=DURATION:PT1H
X-Robots-Tag:noindex
X-PUBLISHED-TTL:PT1H
BEGIN:VTIMEZONE
TZID:Europe/Berlin
BEGIN:DAYLIGHT
TZOFFSETFROM:+0100
TZOFFSETTO:+0200
TZNAME:CEST
DTSTART:20250330T010000
END:DAYLIGHT
BEGIN:STANDARD
TZOFFSETFROM:+0200
TZOFFSETTO:+0100
TZNAME:CET
DTSTART:20251026T010000
END:STANDARD
BEGIN:DAYLIGHT
TZOFFSETFROM:+0100
TZOFFSETTO:+0200
TZNAME:CEST
DTSTART:20260329T010000
END:DAYLIGHT
BEGIN:STANDARD
TZOFFSETFROM:+0200
TZOFFSETTO:+0100
TZNAME:CET
DTSTART:20261025T010000
END:STANDARD
BEGIN:DAYLIGHT
TZOFFSETFROM:+0100
TZOFFSETTO:+0200
TZNAME:CEST
DTSTART:20270328T010000
END:DAYLIGHT
BEGIN:STANDARD
TZOFFSETFROM:+0200
TZOFFSETTO:+0100
TZNAME:CET
DTSTART:20271031T010000
END:STANDARD
END:VTIMEZONE
BEGIN:VEVENT
DTSTART;TZID=Europe/Berlin:20260119T180000
DTEND;TZID=Europe/Berlin:20260119T180000
DTSTAMP:20260423T154338
CREATED:20251202T101411Z
LAST-MODIFIED:20251202T101517Z
UID:42381-1768845600-1768845600@aachen-kalender.de
SUMMARY:"Verantwortungsbewusst mit Künstlicher Intelligenz arbeiten. Anwenden – Prompting und praktische Nutzung im Alltag".
DESCRIPTION:Ob ChatGPT\, Gemini\, CoPilot oder Mistral – große Sprachmodelle sind längst im Büroalltag und an Werkbänken angekommen. Viele fragen sich: Was kann ich damit eigentlich machen? Wie zuverlässig sind die Antworten? Was darf ich dort überhaupt eingeben? Seit der europäischen Verordnung über künstliche Intelligenz (EU AI Act) ist klar: Wer Künstliche Intelligenz (KI) im Unternehmen nutzt\, braucht Wissen und Verantwortung\, nicht nur Technik \n\n\n\n\n\n\n  \n\nAnmeldung\nichnehmeteil@bistum-aachen.de\nAkademie des Bistums Aachen\nLeonhardstraße 18-20\n52064 Aachen\nAnmeldefrist: 05.01.2026
URL:https://aachen-kalender.de/event/verantwortungsbewusst-mit-kuenstlicher-intelligenz-arbeiten-anwenden-prompting-und-praktische-nutzung-im-alltag/
LOCATION:Bischöfliche Akademie\, Leonhardstraße 18-20\, Aachen\, 52064\, Deutschland
CATEGORIES:Lesung/Vortrag
END:VEVENT
END:VCALENDAR