BEGIN:VCALENDAR
VERSION:2.0
PRODID:-//Aachen-Termine - ECPv6.15.18//NONSGML v1.0//EN
CALSCALE:GREGORIAN
METHOD:PUBLISH
X-WR-CALNAME:Aachen-Termine
X-ORIGINAL-URL:https://aachen-kalender.de
X-WR-CALDESC:Veranstaltungen für Aachen-Termine
REFRESH-INTERVAL;VALUE=DURATION:PT1H
X-Robots-Tag:noindex
X-PUBLISHED-TTL:PT1H
BEGIN:VTIMEZONE
TZID:Europe/Berlin
BEGIN:DAYLIGHT
TZOFFSETFROM:+0100
TZOFFSETTO:+0200
TZNAME:CEST
DTSTART:20250330T010000
END:DAYLIGHT
BEGIN:STANDARD
TZOFFSETFROM:+0200
TZOFFSETTO:+0100
TZNAME:CET
DTSTART:20251026T010000
END:STANDARD
BEGIN:DAYLIGHT
TZOFFSETFROM:+0100
TZOFFSETTO:+0200
TZNAME:CEST
DTSTART:20260329T010000
END:DAYLIGHT
BEGIN:STANDARD
TZOFFSETFROM:+0200
TZOFFSETTO:+0100
TZNAME:CET
DTSTART:20261025T010000
END:STANDARD
BEGIN:DAYLIGHT
TZOFFSETFROM:+0100
TZOFFSETTO:+0200
TZNAME:CEST
DTSTART:20270328T010000
END:DAYLIGHT
BEGIN:STANDARD
TZOFFSETFROM:+0200
TZOFFSETTO:+0100
TZNAME:CET
DTSTART:20271031T010000
END:STANDARD
END:VTIMEZONE
BEGIN:VEVENT
DTSTART;TZID=Europe/Berlin:20260507T140000
DTEND;TZID=Europe/Berlin:20260507T150000
DTSTAMP:20260423T140638
CREATED:20260408T101245Z
LAST-MODIFIED:20260408T104433Z
UID:56626-1778162400-1778166000@aachen-kalender.de
SUMMARY:"Veranstaltungen zugänglich gestalten\, alle können mitmachen - Inklusive Interaktionen in Online-Seminaren".
DESCRIPTION:Kleine Aktionen wie Vorstellrunden oder Umfragen machen Online-Seminare lebendiger und helfen beim Lernen. Wichtig ist dabei\, dass alle mitmachen können und niemand ausgeschlossen wird. In diesem Seminar zeigen wir\, wie Sie barrierearme Mitmach-Angebote planen und durchführen. Zudem testen wir gemeinsam die interaktiven Funktionen\, die das Konferenz-Programm Zoom anbietet. Zielgruppe: Das Angebot richtet sich in erster Linie an haupt- und ehrenamtlich Engagierte\, die sich nachhaltig einsetzen möchten für das\, was Ihnen am Herzen liegt und dabei möglichst viele Menschen mitnehmen möchten. \nOnline – via Zoom
URL:https://aachen-kalender.de/event/veranstaltungen-zugaenglich-gestalten-alle-koennen-mitmachen-inklusive-interaktionen-in-online-seminaren/
LOCATION:Online
CATEGORIES:Sonstiges
END:VEVENT
END:VCALENDAR