BEGIN:VCALENDAR
VERSION:2.0
PRODID:-//Aachen-Termine - ECPv6.15.18//NONSGML v1.0//EN
CALSCALE:GREGORIAN
METHOD:PUBLISH
X-WR-CALNAME:Aachen-Termine
X-ORIGINAL-URL:https://aachen-kalender.de
X-WR-CALDESC:Veranstaltungen für Aachen-Termine
REFRESH-INTERVAL;VALUE=DURATION:PT1H
X-Robots-Tag:noindex
X-PUBLISHED-TTL:PT1H
BEGIN:VTIMEZONE
TZID:Europe/Berlin
BEGIN:DAYLIGHT
TZOFFSETFROM:+0100
TZOFFSETTO:+0200
TZNAME:CEST
DTSTART:20240331T010000
END:DAYLIGHT
BEGIN:STANDARD
TZOFFSETFROM:+0200
TZOFFSETTO:+0100
TZNAME:CET
DTSTART:20241027T010000
END:STANDARD
BEGIN:DAYLIGHT
TZOFFSETFROM:+0100
TZOFFSETTO:+0200
TZNAME:CEST
DTSTART:20250330T010000
END:DAYLIGHT
BEGIN:STANDARD
TZOFFSETFROM:+0200
TZOFFSETTO:+0100
TZNAME:CET
DTSTART:20251026T010000
END:STANDARD
BEGIN:DAYLIGHT
TZOFFSETFROM:+0100
TZOFFSETTO:+0200
TZNAME:CEST
DTSTART:20260329T010000
END:DAYLIGHT
BEGIN:STANDARD
TZOFFSETFROM:+0200
TZOFFSETTO:+0100
TZNAME:CET
DTSTART:20261025T010000
END:STANDARD
END:VTIMEZONE
BEGIN:VEVENT
DTSTART;TZID=Europe/Berlin:20250622T190000
DTEND;TZID=Europe/Berlin:20250622T190000
DTSTAMP:20260422T142100
CREATED:20250513T082844Z
LAST-MODIFIED:20250513T082926Z
UID:24477-1750618800-1750618800@aachen-kalender.de
SUMMARY:Terror & Nasty.
DESCRIPTION:Die US-Hardcore-Truppe Terror hat einen ereignisreichen Sommer vor sich. Neben Auftritten auf Festivals wie Rock am Ring/Rock im Park und Shows im Vorprogramm von A Day To Remember und Stick To Your Guns stehen im Juni auch eigene Headliner-Konzerte auf dem Plan!In Aachen in Doppelkonzert mit NASTY!
URL:https://aachen-kalender.de/event/terror-nasty/
LOCATION:Musikbunker\, Goffartstraße 26\, Aachen\, 52066\, Germany
CATEGORIES:Musik
END:VEVENT
END:VCALENDAR