BEGIN:VCALENDAR
VERSION:2.0
PRODID:-//Aachen-Termine - ECPv6.15.18//NONSGML v1.0//EN
CALSCALE:GREGORIAN
METHOD:PUBLISH
X-WR-CALNAME:Aachen-Termine
X-ORIGINAL-URL:https://aachen-kalender.de
X-WR-CALDESC:Veranstaltungen für Aachen-Termine
REFRESH-INTERVAL;VALUE=DURATION:PT1H
X-Robots-Tag:noindex
X-PUBLISHED-TTL:PT1H
BEGIN:VTIMEZONE
TZID:Europe/Berlin
BEGIN:DAYLIGHT
TZOFFSETFROM:+0100
TZOFFSETTO:+0200
TZNAME:CEST
DTSTART:20240331T010000
END:DAYLIGHT
BEGIN:STANDARD
TZOFFSETFROM:+0200
TZOFFSETTO:+0100
TZNAME:CET
DTSTART:20241027T010000
END:STANDARD
BEGIN:DAYLIGHT
TZOFFSETFROM:+0100
TZOFFSETTO:+0200
TZNAME:CEST
DTSTART:20250330T010000
END:DAYLIGHT
BEGIN:STANDARD
TZOFFSETFROM:+0200
TZOFFSETTO:+0100
TZNAME:CET
DTSTART:20251026T010000
END:STANDARD
BEGIN:DAYLIGHT
TZOFFSETFROM:+0100
TZOFFSETTO:+0200
TZNAME:CEST
DTSTART:20260329T010000
END:DAYLIGHT
BEGIN:STANDARD
TZOFFSETFROM:+0200
TZOFFSETTO:+0100
TZNAME:CET
DTSTART:20261025T010000
END:STANDARD
END:VTIMEZONE
BEGIN:VEVENT
DTSTART;TZID=Europe/Berlin:20251001T190000
DTEND;TZID=Europe/Berlin:20251001T220000
DTSTAMP:20260419T204756
CREATED:20250909T114139Z
LAST-MODIFIED:20250909T114253Z
UID:32429-1759345200-1759356000@aachen-kalender.de
SUMMARY:[SYNC] Synthesizer Jam.
DESCRIPTION:SYNC\, die Synthesizer-Jam live zum Mitmachen\, Zuhören und Staunen. Synthesizer-Freaks werden kollektiv Oszillieren\, Knöpfchen drehen\, Sound kreieren\, Bierchen trinken\, Austauschen\, Aufnehmen\, Sound verstehen.
URL:https://aachen-kalender.de/event/sync-synthesizer-jam-16/
LOCATION:Raststätte\, Lothringerstraße 23\, Aachen\, 52062\, Deutschland
CATEGORIES:Musik
END:VEVENT
END:VCALENDAR