BEGIN:VCALENDAR
VERSION:2.0
PRODID:-//Aachen-Termine - ECPv6.15.18//NONSGML v1.0//EN
CALSCALE:GREGORIAN
METHOD:PUBLISH
X-WR-CALNAME:Aachen-Termine
X-ORIGINAL-URL:https://aachen-kalender.de
X-WR-CALDESC:Veranstaltungen für Aachen-Termine
REFRESH-INTERVAL;VALUE=DURATION:PT1H
X-Robots-Tag:noindex
X-PUBLISHED-TTL:PT1H
BEGIN:VTIMEZONE
TZID:Europe/Berlin
BEGIN:DAYLIGHT
TZOFFSETFROM:+0100
TZOFFSETTO:+0200
TZNAME:CEST
DTSTART:20250330T010000
END:DAYLIGHT
BEGIN:STANDARD
TZOFFSETFROM:+0200
TZOFFSETTO:+0100
TZNAME:CET
DTSTART:20251026T010000
END:STANDARD
BEGIN:DAYLIGHT
TZOFFSETFROM:+0100
TZOFFSETTO:+0200
TZNAME:CEST
DTSTART:20260329T010000
END:DAYLIGHT
BEGIN:STANDARD
TZOFFSETFROM:+0200
TZOFFSETTO:+0100
TZNAME:CET
DTSTART:20261025T010000
END:STANDARD
BEGIN:DAYLIGHT
TZOFFSETFROM:+0100
TZOFFSETTO:+0200
TZNAME:CEST
DTSTART:20270328T010000
END:DAYLIGHT
BEGIN:STANDARD
TZOFFSETFROM:+0200
TZOFFSETTO:+0100
TZNAME:CET
DTSTART:20271031T010000
END:STANDARD
END:VTIMEZONE
BEGIN:VEVENT
DTSTART;TZID=Europe/Berlin:20260522T200000
DTEND;TZID=Europe/Berlin:20260522T200000
DTSTAMP:20260424T131201
CREATED:20260413T082311Z
LAST-MODIFIED:20260413T082311Z
UID:57215-1779480000-1779480000@aachen-kalender.de
SUMMARY:Steve Hackett. "Best of Genesis & Solo Gems 2026 Tour".
DESCRIPTION:Steve Hacketts innovatives Gitarrenspiel ist ein wesentlicher Bestandteil des klassischen Genesis-Katalogs von Nursery Cryme (1971) bis Wind And Wuthering (1977). Für viele eingefleischte Fans und auch für die neuen Generationen\, die diese bahnbrechenden Juwelen gerade erst entdecken\, ist dies nach wie vor die wichtigste Genesis-Ära. „Ich bin immer noch verliebt in die Idee der Musik“\, sagt Hackett. „Ich liebe sie über alles. Ich bekomme jedes Mal wieder Gänsehaut und die Musik und hat mich bisher jung genug gehalten\, um weiterhin mit Begeisterung auf Tournee zu gehen!“. Mit der Best of Genesis & Solo Gems 2026 Tour macht Hackett im Mai 2026 Halt in Aachen. Wichtiger Parkhinweis für Ihren Besuch: \n\nDamit Sie Ihren Aufenthalt bei uns entspannt genießen können\, werden Sie vorab über die aktuelle Parksituation informiert: \nAufgrund des „Kleinen TSCHIO“ steht das APAG-Parkhaus „Eurogress“ am Veranstaltungstag leider nur sehr eingeschränkt zur Verfügung. \nBitte planen Sie aufgrund des erhöhten Verkehrsaufkommens und eines eventuell längeren Fußweges etwas zusätzliche Zeit für Ihre Anreise ein.\n\nTickets: https://www.westticket.de/
URL:https://aachen-kalender.de/event/steve-hackett-best-of-genesis-solo-gems-2026-tour/
LOCATION:Eurogress Aachen\, Monheimsallee 48\, Aachen\, 52062
CATEGORIES:Musik
END:VEVENT
END:VCALENDAR