BEGIN:VCALENDAR
VERSION:2.0
PRODID:-//Aachen-Termine - ECPv6.15.18//NONSGML v1.0//EN
CALSCALE:GREGORIAN
METHOD:PUBLISH
X-WR-CALNAME:Aachen-Termine
X-ORIGINAL-URL:https://aachen-kalender.de
X-WR-CALDESC:Veranstaltungen für Aachen-Termine
REFRESH-INTERVAL;VALUE=DURATION:PT1H
X-Robots-Tag:noindex
X-PUBLISHED-TTL:PT1H
BEGIN:VTIMEZONE
TZID:Europe/Berlin
BEGIN:DAYLIGHT
TZOFFSETFROM:+0100
TZOFFSETTO:+0200
TZNAME:CEST
DTSTART:20250330T010000
END:DAYLIGHT
BEGIN:STANDARD
TZOFFSETFROM:+0200
TZOFFSETTO:+0100
TZNAME:CET
DTSTART:20251026T010000
END:STANDARD
BEGIN:DAYLIGHT
TZOFFSETFROM:+0100
TZOFFSETTO:+0200
TZNAME:CEST
DTSTART:20260329T010000
END:DAYLIGHT
BEGIN:STANDARD
TZOFFSETFROM:+0200
TZOFFSETTO:+0100
TZNAME:CET
DTSTART:20261025T010000
END:STANDARD
BEGIN:DAYLIGHT
TZOFFSETFROM:+0100
TZOFFSETTO:+0200
TZNAME:CEST
DTSTART:20270328T010000
END:DAYLIGHT
BEGIN:STANDARD
TZOFFSETFROM:+0200
TZOFFSETTO:+0100
TZNAME:CET
DTSTART:20271031T010000
END:STANDARD
END:VTIMEZONE
BEGIN:VEVENT
DTSTART;TZID=Europe/Berlin:20260702T160000
DTEND;TZID=Europe/Berlin:20260702T220000
DTSTAMP:20260423T121415
CREATED:20260409T144808Z
LAST-MODIFIED:20260421T101011Z
UID:10022216-1783008000-1783029600@aachen-kalender.de
SUMMARY:"Spät am Markt". Feierabendmarkt.
DESCRIPTION:Feines Flair am Markt mit Marktständen\, Foodtrucks\, Livemusik & DJs. Von Mai bis Oktober kommt der Feierabendmarkt einmal im Monat mit wechselnden Angeboten auf den Marktplatz. Vor der eindrucksvollen Kulisse des historischen Rathauses verwandelt er sich in einen stimmungsvollen Ort voller Genuss\, Begegnung und Lebensfreude. Kommt vorbei!
URL:https://aachen-kalender.de/event/spaet-am-markt-feierabendmarkt-3/2026-07-02/
LOCATION:Markt\, Markt\, Aachen
CATEGORIES:Markt/Messe
END:VEVENT
END:VCALENDAR