BEGIN:VCALENDAR
VERSION:2.0
PRODID:-//Aachen-Termine - ECPv6.15.18//NONSGML v1.0//EN
CALSCALE:GREGORIAN
METHOD:PUBLISH
X-WR-CALNAME:Aachen-Termine
X-ORIGINAL-URL:https://aachen-kalender.de
X-WR-CALDESC:Veranstaltungen für Aachen-Termine
REFRESH-INTERVAL;VALUE=DURATION:PT1H
X-Robots-Tag:noindex
X-PUBLISHED-TTL:PT1H
BEGIN:VTIMEZONE
TZID:Europe/Berlin
BEGIN:DAYLIGHT
TZOFFSETFROM:+0100
TZOFFSETTO:+0200
TZNAME:CEST
DTSTART:20250330T010000
END:DAYLIGHT
BEGIN:STANDARD
TZOFFSETFROM:+0200
TZOFFSETTO:+0100
TZNAME:CET
DTSTART:20251026T010000
END:STANDARD
BEGIN:DAYLIGHT
TZOFFSETFROM:+0100
TZOFFSETTO:+0200
TZNAME:CEST
DTSTART:20260329T010000
END:DAYLIGHT
BEGIN:STANDARD
TZOFFSETFROM:+0200
TZOFFSETTO:+0100
TZNAME:CET
DTSTART:20261025T010000
END:STANDARD
BEGIN:DAYLIGHT
TZOFFSETFROM:+0100
TZOFFSETTO:+0200
TZNAME:CEST
DTSTART:20270328T010000
END:DAYLIGHT
BEGIN:STANDARD
TZOFFSETFROM:+0200
TZOFFSETTO:+0100
TZNAME:CET
DTSTART:20271031T010000
END:STANDARD
END:VTIMEZONE
BEGIN:VEVENT
DTSTART;TZID=Europe/Berlin:20260206T200000
DTEND;TZID=Europe/Berlin:20260206T200000
DTSTAMP:20260419T162626
CREATED:20260105T094758Z
LAST-MODIFIED:20260105T094817Z
UID:45517-1770408000-1770408000@aachen-kalender.de
SUMMARY:satznachvorn. "Poetry-Slam".
DESCRIPTION:Der westlichste Poetry-Slam Deutschlands ist seit über 25 Jahren in der Raststätte beheimatet. Immer am ersten Freitag des Monats treten Slam-Poet*innen aus ganz Deutschland ans Mikro\, um euch mit ihren Texten bestens zu unterhalten. Wer als Gewinner*in den Saal verlässt\, das entscheidet wie üblich ihr! \n\nEintritt: 5 € (nur Abendkasse)\n\n 
URL:https://aachen-kalender.de/event/satznachvorn-poetry-slam-19/
LOCATION:Raststätte\, Lothringerstraße 23\, Aachen\, 52062\, Deutschland
CATEGORIES:Kleinkunst
END:VEVENT
END:VCALENDAR