BEGIN:VCALENDAR
VERSION:2.0
PRODID:-//Aachen-Termine - ECPv6.15.18//NONSGML v1.0//EN
CALSCALE:GREGORIAN
METHOD:PUBLISH
X-WR-CALNAME:Aachen-Termine
X-ORIGINAL-URL:https://aachen-kalender.de
X-WR-CALDESC:Veranstaltungen für Aachen-Termine
REFRESH-INTERVAL;VALUE=DURATION:PT1H
X-Robots-Tag:noindex
X-PUBLISHED-TTL:PT1H
BEGIN:VTIMEZONE
TZID:Europe/Berlin
BEGIN:DAYLIGHT
TZOFFSETFROM:+0100
TZOFFSETTO:+0200
TZNAME:CEST
DTSTART:20250330T010000
END:DAYLIGHT
BEGIN:STANDARD
TZOFFSETFROM:+0200
TZOFFSETTO:+0100
TZNAME:CET
DTSTART:20251026T010000
END:STANDARD
BEGIN:DAYLIGHT
TZOFFSETFROM:+0100
TZOFFSETTO:+0200
TZNAME:CEST
DTSTART:20260329T010000
END:DAYLIGHT
BEGIN:STANDARD
TZOFFSETFROM:+0200
TZOFFSETTO:+0100
TZNAME:CET
DTSTART:20261025T010000
END:STANDARD
BEGIN:DAYLIGHT
TZOFFSETFROM:+0100
TZOFFSETTO:+0200
TZNAME:CEST
DTSTART:20270328T010000
END:DAYLIGHT
BEGIN:STANDARD
TZOFFSETFROM:+0200
TZOFFSETTO:+0100
TZNAME:CET
DTSTART:20271031T010000
END:STANDARD
END:VTIMEZONE
BEGIN:VEVENT
DTSTART;TZID=Europe/Berlin:20261003T200000
DTEND;TZID=Europe/Berlin:20261003T200000
DTSTAMP:20260422T160527
CREATED:20260212T134804Z
LAST-MODIFIED:20260212T134804Z
UID:50240-1791057600-1791057600@aachen-kalender.de
SUMMARY:Sandra Sprünken. "Mutprobe!"
DESCRIPTION:Sandra Sprünken ist Comedienne\, Moderatorin\, Schauspielerin und eine der schnellsten Zungen überhaupt. Jetzt sorgt sie auch auf der Stand-up-Bühne mit ihrem ersten Solo-Programm „Mutprobe!“ für Lacher im Grenzlandtheater Aachen. \nSandra Sprünken\, von allen nur Sprünky genannt\, steht als Comedienne seit über zwölf Jahren beim Improvisationstheater „Springmaus“ auf der Bühne\, ist bekannt als Sidekick beim Unterhaltungsformat „Bratwurst & Baklava“ sowie aus der Neuauflage der legendären TV-Sendung „Comedystreet“ auf Pro7/Joyn. Neben ihren beiden erfolgreichen Podcasts\, „1a B-Ware“ und „1LIVE Stabile Nachbarn“\, ist sie seit Juni 2025 an der Seite von Bastian Bielendorfer im True-Crime-Podcast „Friends in Crime“ zu sehen und zu hören. \n„Leute\, ich will mutiger werden“\, hat Sprünky irgendwann beschlossen. Gute Idee. Aber wie!? In der Kindheit war Mut klar und einfach definiert: Klingelstreiche bei den Nachbarn\, nachts über den Friedhof laufen\, einen Regenwurm essen. So weit\, so gut. \nAber als Erwachsene bestreitet man doch gefühlt 24 Stunden am Stück Mutproben: Wie kann ich beim Friseur sagen\, dass die neue Frisur scheiße aussieht? Wie entscheide ich mich für eine neue Serie\, wenn ich vorher gar nicht weiß\, ob sie auch wirklich gut ist? Und geht Online-Shopping nicht auch\, ohne vorher stundenlang Bewertungen zu lesen? Und dann erst die richtigen Lebens-Mutproben: Dating – wenn es noch krasser kommt: Beziehung. Und dann? Hochzeit\, Eigenheim\, Kinder? Oder sich doch lieber etwas ganz anderes trauen? \nIn ihrem Programm stellt Sprünky sich furchtlos all diesen Themen\, denn letztlich gipfelt alles im Mount Everest der Mutproben: Man selbst zu sein. So richtig. Ohne Filter. Ohne Angst\, dass jemand sagt: „Boah\, die ist aber komisch.“ Gerade wenn man sehr komisch ist – wie Sprünky. \nTickets sind erhältlich bei allen bekannten Vorverkaufsstellen\, telefonisch unter 02405 / 40 8 60 oder online unter www.meyer-konzerte.de.
URL:https://aachen-kalender.de/event/sandra-spruenken-mutprobe/
LOCATION:Grenzlandtheater\, ElisenGalerie\, Aachen\, 52062
CATEGORIES:Kleinkunst
ATTACH;FMTTYPE=image/jpeg:https://aachen-kalender.de/wp-content/uploads/2026/02/Spruenky-by-Stefan-Braunbarth-e1770904075763.jpg
END:VEVENT
END:VCALENDAR