BEGIN:VCALENDAR
VERSION:2.0
PRODID:-//Aachen-Termine - ECPv6.15.18//NONSGML v1.0//EN
CALSCALE:GREGORIAN
METHOD:PUBLISH
X-WR-CALNAME:Aachen-Termine
X-ORIGINAL-URL:https://aachen-kalender.de
X-WR-CALDESC:Veranstaltungen für Aachen-Termine
REFRESH-INTERVAL;VALUE=DURATION:PT1H
X-Robots-Tag:noindex
X-PUBLISHED-TTL:PT1H
BEGIN:VTIMEZONE
TZID:Europe/Berlin
BEGIN:DAYLIGHT
TZOFFSETFROM:+0100
TZOFFSETTO:+0200
TZNAME:CEST
DTSTART:20240331T010000
END:DAYLIGHT
BEGIN:STANDARD
TZOFFSETFROM:+0200
TZOFFSETTO:+0100
TZNAME:CET
DTSTART:20241027T010000
END:STANDARD
BEGIN:DAYLIGHT
TZOFFSETFROM:+0100
TZOFFSETTO:+0200
TZNAME:CEST
DTSTART:20250330T010000
END:DAYLIGHT
BEGIN:STANDARD
TZOFFSETFROM:+0200
TZOFFSETTO:+0100
TZNAME:CET
DTSTART:20251026T010000
END:STANDARD
BEGIN:DAYLIGHT
TZOFFSETFROM:+0100
TZOFFSETTO:+0200
TZNAME:CEST
DTSTART:20260329T010000
END:DAYLIGHT
BEGIN:STANDARD
TZOFFSETFROM:+0200
TZOFFSETTO:+0100
TZNAME:CET
DTSTART:20261025T010000
END:STANDARD
END:VTIMEZONE
BEGIN:VEVENT
DTSTART;TZID=Europe/Berlin:20250906T170000
DTEND;TZID=Europe/Berlin:20250906T220000
DTSTAMP:20260423T150622
CREATED:20250722T121601Z
LAST-MODIFIED:20250819T132737Z
UID:27764-1757178000-1757196000@aachen-kalender.de
SUMMARY:STAWAG. "Rursee energy".
DESCRIPTION:Ein musikalischer Spätsommerabend direkt am Seeufer: Am Samstag\, 6. September\, lädt die STAWAG zu Rursee energy nach Rurberg ein. Von 17 bis 22 Uhr erwartet die Besucher auf der Festwiese am Nationalparktor ein stimmungsvolles Open-Air-Event mit Livemusik von Pearls\, The Xperience und den Domstürmern. Für den richtigen Beat sorgt DJ Janis Thielen. Foodtrucks und kühle Drinks machen das Sommer­feeling perfekt. Der Eintritt ist frei – ein energiegeladenes Fest vor traumhafter Kulisse\, das man nicht verpassen sollte! \n 
URL:https://aachen-kalender.de/event/rursee-energy/
LOCATION:Rurberg (Parkplatz vor Nationalparktor)\, Seeufer 3\, Simmerath\, 52152
CATEGORIES:Musik
END:VEVENT
END:VCALENDAR