BEGIN:VCALENDAR
VERSION:2.0
PRODID:-//Aachen-Termine - ECPv6.15.18//NONSGML v1.0//EN
CALSCALE:GREGORIAN
METHOD:PUBLISH
X-WR-CALNAME:Aachen-Termine
X-ORIGINAL-URL:https://aachen-kalender.de
X-WR-CALDESC:Veranstaltungen für Aachen-Termine
REFRESH-INTERVAL;VALUE=DURATION:PT1H
X-Robots-Tag:noindex
X-PUBLISHED-TTL:PT1H
BEGIN:VTIMEZONE
TZID:Europe/Berlin
BEGIN:DAYLIGHT
TZOFFSETFROM:+0100
TZOFFSETTO:+0200
TZNAME:CEST
DTSTART:20240331T010000
END:DAYLIGHT
BEGIN:STANDARD
TZOFFSETFROM:+0200
TZOFFSETTO:+0100
TZNAME:CET
DTSTART:20241027T010000
END:STANDARD
BEGIN:DAYLIGHT
TZOFFSETFROM:+0100
TZOFFSETTO:+0200
TZNAME:CEST
DTSTART:20250330T010000
END:DAYLIGHT
BEGIN:STANDARD
TZOFFSETFROM:+0200
TZOFFSETTO:+0100
TZNAME:CET
DTSTART:20251026T010000
END:STANDARD
BEGIN:DAYLIGHT
TZOFFSETFROM:+0100
TZOFFSETTO:+0200
TZNAME:CEST
DTSTART:20260329T010000
END:DAYLIGHT
BEGIN:STANDARD
TZOFFSETFROM:+0200
TZOFFSETTO:+0100
TZNAME:CET
DTSTART:20261025T010000
END:STANDARD
END:VTIMEZONE
BEGIN:VEVENT
DTSTART;TZID=Europe/Berlin:20250906T150000
DTEND;TZID=Europe/Berlin:20250906T173000
DTSTAMP:20260425T142403
CREATED:20250807T095527Z
LAST-MODIFIED:20250807T095556Z
UID:28677-1757170800-1757179800@aachen-kalender.de
SUMMARY:Raupe Nimmersatt im herbstlichen Wald.
DESCRIPTION:Für Familien mit Kindern ab 5 Jahren – Der Regenschirm mal anders: zum Raupen-Klopfen. Auf in den Wald: Bäume\, Büsche\, Stauden kennenlernen und daran lebende Schmetterlingsraupen\, Insekten und Krabbeltiere.\n\n\n\n\n\n\n\n\n\n\n\n\n\nBitte wetterfeste Kleidung\, (alten) Regenschirm\, Dosen/Gläser mitbringen\nExkursion mit Dr. Ludger Wirooks. Spenden erwünscht.\nAnmeldung bis zum 01.09. bei familie@jakob-ac.de
URL:https://aachen-kalender.de/event/raupe-nimmersatt-im-herbstlichen-wald/
LOCATION:Parkplatz Siegel\, Ecke Monschauer Straße/Siegelallee\, Aachen\, Deutschland
CATEGORIES:Familie
END:VEVENT
END:VCALENDAR