BEGIN:VCALENDAR
VERSION:2.0
PRODID:-//Aachen-Termine - ECPv6.15.18//NONSGML v1.0//EN
CALSCALE:GREGORIAN
METHOD:PUBLISH
X-WR-CALNAME:Aachen-Termine
X-ORIGINAL-URL:https://aachen-kalender.de
X-WR-CALDESC:Veranstaltungen für Aachen-Termine
REFRESH-INTERVAL;VALUE=DURATION:PT1H
X-Robots-Tag:noindex
X-PUBLISHED-TTL:PT1H
BEGIN:VTIMEZONE
TZID:Europe/Berlin
BEGIN:DAYLIGHT
TZOFFSETFROM:+0100
TZOFFSETTO:+0200
TZNAME:CEST
DTSTART:20250330T010000
END:DAYLIGHT
BEGIN:STANDARD
TZOFFSETFROM:+0200
TZOFFSETTO:+0100
TZNAME:CET
DTSTART:20251026T010000
END:STANDARD
BEGIN:DAYLIGHT
TZOFFSETFROM:+0100
TZOFFSETTO:+0200
TZNAME:CEST
DTSTART:20260329T010000
END:DAYLIGHT
BEGIN:STANDARD
TZOFFSETFROM:+0200
TZOFFSETTO:+0100
TZNAME:CET
DTSTART:20261025T010000
END:STANDARD
BEGIN:DAYLIGHT
TZOFFSETFROM:+0100
TZOFFSETTO:+0200
TZNAME:CEST
DTSTART:20270328T010000
END:DAYLIGHT
BEGIN:STANDARD
TZOFFSETFROM:+0200
TZOFFSETTO:+0100
TZNAME:CET
DTSTART:20271031T010000
END:STANDARD
END:VTIMEZONE
BEGIN:VEVENT
DTSTART;TZID=Europe/Berlin:20260530T103000
DTEND;TZID=Europe/Berlin:20260530T120000
DTSTAMP:20260423T152529
CREATED:20260316T081731Z
LAST-MODIFIED:20260422T065654Z
UID:10022432-1780137000-1780142400@aachen-kalender.de
SUMMARY:Rathausführung
DESCRIPTION:Ein Besuch des Aachener Rathauses gehört zum Pflichtprogramm! Das beeindruckende Bauwerk\, das im 14. Jahrhundert auf den Grundmauern der karolingischen Palastaula erbaut wurde\, zählt nicht nur dank der markanten Fassade zu den Schmuckstücken der Stadt. Das neugotische Äußere und das barocke Innere sind Spiegelbild einer ereignisreichen Geschichte\, sodass du dich hier auf eine Wanderung durch die Jahrhunderte begibst. Staune über die architektonischen Details im Ratssaal\, in dem bis heute Ratssitzungen stattfinden\, im Weißen Saal\, der ein ganz besonderes Ambiente für standesamtliche Hochzeiten bietet\, und natürlich im einzigartigen Krönungssaal. Unsere Guides erzählen dir bei dieser Führung allerdings nicht nur die Geschichte des Bauwerks. Es geht selbstverständlich auch um einige berühmte Persönlichkeiten wie Karl dem Großen und den Earl of Sandwich. Außerdem erfährst du Wissenswertes über die mittelalterlichen Krönungen und die heutigen Karlspreisverleihungen. \nTermine: Samstags und Sonntags um 10:30 \nDauer: 1\,5 Stunden \nTreffpunkt: Foyer Rathaus\, Markplatz\, 52062 Aachen \nHinweise: \n\nDer Eintritt ins Rathaus ist im Ticketpreis enthalten.\nDie beigefügten Voucher zeige bitte dem Gästeführer per Ausdruck oder digital.\nKeine Stornierung und Umbuchung möglich.\nDie Gesamtteilnehmerzahl beträgt max. 20 Personen.\nBei außerplanmäßigen Sonderveranstaltungen kann die Rathausführung ausfallen
URL:https://aachen-kalender.de/event/rathausfuehrung-84-2-2/2026-05-30/
LOCATION:Rathausfoyer\, Markt\, Aachen\, 52062\, Deutschland
CATEGORIES:Führungen
END:VEVENT
END:VCALENDAR