BEGIN:VCALENDAR
VERSION:2.0
PRODID:-//Aachen-Termine - ECPv6.15.18//NONSGML v1.0//EN
CALSCALE:GREGORIAN
METHOD:PUBLISH
X-WR-CALNAME:Aachen-Termine
X-ORIGINAL-URL:https://aachen-kalender.de
X-WR-CALDESC:Veranstaltungen für Aachen-Termine
REFRESH-INTERVAL;VALUE=DURATION:PT1H
X-Robots-Tag:noindex
X-PUBLISHED-TTL:PT1H
BEGIN:VTIMEZONE
TZID:Europe/Berlin
BEGIN:DAYLIGHT
TZOFFSETFROM:+0100
TZOFFSETTO:+0200
TZNAME:CEST
DTSTART:20250330T010000
END:DAYLIGHT
BEGIN:STANDARD
TZOFFSETFROM:+0200
TZOFFSETTO:+0100
TZNAME:CET
DTSTART:20251026T010000
END:STANDARD
BEGIN:DAYLIGHT
TZOFFSETFROM:+0100
TZOFFSETTO:+0200
TZNAME:CEST
DTSTART:20260329T010000
END:DAYLIGHT
BEGIN:STANDARD
TZOFFSETFROM:+0200
TZOFFSETTO:+0100
TZNAME:CET
DTSTART:20261025T010000
END:STANDARD
BEGIN:DAYLIGHT
TZOFFSETFROM:+0100
TZOFFSETTO:+0200
TZNAME:CEST
DTSTART:20270328T010000
END:DAYLIGHT
BEGIN:STANDARD
TZOFFSETFROM:+0200
TZOFFSETTO:+0100
TZNAME:CET
DTSTART:20271031T010000
END:STANDARD
END:VTIMEZONE
BEGIN:VEVENT
DTSTART;TZID=Europe/Berlin:20260513T130000
DTEND;TZID=Europe/Berlin:20260513T130000
DTSTAMP:20260419T163939
CREATED:20260413T194049Z
LAST-MODIFIED:20260413T194049Z
UID:57394-1778677200-1778677200@aachen-kalender.de
SUMMARY:Rahmenprogramm Karlspreis. "Der Karlspreisträger 2026 an der RWTH Aachen Prof. Mario Draghi".
DESCRIPTION:Ob es der Besuch von Emmanuel Macron\, Oberrabbiner Pinchas Goldschmidt\, Ursula von der Leyen oder einer der anderen Karlspreisträgerinnen und Karlspreisträger war: die emotionalen Bilder und die intensiven Gespräche mit den Besucherinnen und Besuchern\, insbesondere den Studierenden\, bleiben haften. Traditionell besuchen am Vortag der Verleihung des Internationalen Karlspreises zu Aachen die designierten Preisträgerinnen und Preisträger die RWTH Aachen\, und so wird auch Prof. Mario Draghi in der Aula des RWTH-Hauptgebäudes sprechen und den Dialog suchen. Vorbereitet von Studierenden des Projektes Leonardo\, verspricht der Besuch eine besondere Begegnung mit dem vormaligen Präsidenten der Europäischen Zentralbank und italienischen Regierungschef.\n\n\nEintritt: frei | Anmeldung unter www.rwth-aachen.de/Karlspreis2026 zwingend erforderlich.\n\n\nVeranstalter: RWTH Aachen University\, Internationaler Karlspreis\, Stadt Aachen\n\nDie Veranstaltung gehört zum offiziellen Rahmenprogramm der Karlspreisverleihung 2026 an den ehemaligen italienischen Ministerpräsidenten Mario Draghi.
URL:https://aachen-kalender.de/event/rahmenprogramm-karlspreis-der-karlspreistraeger-2026-an-der-rwth-aachen-prof-mario-draghi/
LOCATION:Aula 1\, RWTH-Hauptgebäude\, Templergraben 55\, Aachen\, 52062
CATEGORIES:Lesung/Vortrag
END:VEVENT
END:VCALENDAR