BEGIN:VCALENDAR
VERSION:2.0
PRODID:-//Aachen-Termine - ECPv6.15.18//NONSGML v1.0//EN
CALSCALE:GREGORIAN
METHOD:PUBLISH
X-WR-CALNAME:Aachen-Termine
X-ORIGINAL-URL:https://aachen-kalender.de
X-WR-CALDESC:Veranstaltungen für Aachen-Termine
REFRESH-INTERVAL;VALUE=DURATION:PT1H
X-Robots-Tag:noindex
X-PUBLISHED-TTL:PT1H
BEGIN:VTIMEZONE
TZID:Europe/Berlin
BEGIN:DAYLIGHT
TZOFFSETFROM:+0100
TZOFFSETTO:+0200
TZNAME:CEST
DTSTART:20250330T010000
END:DAYLIGHT
BEGIN:STANDARD
TZOFFSETFROM:+0200
TZOFFSETTO:+0100
TZNAME:CET
DTSTART:20251026T010000
END:STANDARD
BEGIN:DAYLIGHT
TZOFFSETFROM:+0100
TZOFFSETTO:+0200
TZNAME:CEST
DTSTART:20260329T010000
END:DAYLIGHT
BEGIN:STANDARD
TZOFFSETFROM:+0200
TZOFFSETTO:+0100
TZNAME:CET
DTSTART:20261025T010000
END:STANDARD
BEGIN:DAYLIGHT
TZOFFSETFROM:+0100
TZOFFSETTO:+0200
TZNAME:CEST
DTSTART:20270328T010000
END:DAYLIGHT
BEGIN:STANDARD
TZOFFSETFROM:+0200
TZOFFSETTO:+0100
TZNAME:CET
DTSTART:20271031T010000
END:STANDARD
END:VTIMEZONE
BEGIN:VEVENT
DTSTART;TZID=Europe/Berlin:20260509T150000
DTEND;TZID=Europe/Berlin:20260509T154500
DTSTAMP:20260421T095137
CREATED:20260407T083126Z
LAST-MODIFIED:20260407T083203Z
UID:56043-1778338800-1778341500@aachen-kalender.de
SUMMARY:Puppenspiel. "Das lustige Küken".
DESCRIPTION:Theater JURAKOWA-PROJEKT \nWas war zuerst da? Das Ei oder das Huhn? Die Füchsin hat eine großartige Idee – eine Geflügelfarm zu gründen. Aber alleine schafft sie es nicht – darum soll der Wolf mit anpacken. Gesagt – getan. Ein Küken schlüpft und ab da läuft alles ganz anders. Die Schlaue ahnt nicht\, was da alles noch schief laufen könnte. \nFür Kinder ab 4 Jahren. \nKartenverkauf: Tel.: 02407/17911\, Email: theater.jurakowa@gmx.de
URL:https://aachen-kalender.de/event/puppenspiel-das-lustige-kueken/
LOCATION:Die kleine Theaterfabrik\, Strüverweg 116\, Aachen\, 52070\, Deutschland
CATEGORIES:Theater
END:VEVENT
END:VCALENDAR