BEGIN:VCALENDAR
VERSION:2.0
PRODID:-//Aachen-Termine - ECPv6.15.18//NONSGML v1.0//EN
CALSCALE:GREGORIAN
METHOD:PUBLISH
X-WR-CALNAME:Aachen-Termine
X-ORIGINAL-URL:https://aachen-kalender.de
X-WR-CALDESC:Veranstaltungen für Aachen-Termine
REFRESH-INTERVAL;VALUE=DURATION:PT1H
X-Robots-Tag:noindex
X-PUBLISHED-TTL:PT1H
BEGIN:VTIMEZONE
TZID:Europe/Berlin
BEGIN:DAYLIGHT
TZOFFSETFROM:+0100
TZOFFSETTO:+0200
TZNAME:CEST
DTSTART:20250330T010000
END:DAYLIGHT
BEGIN:STANDARD
TZOFFSETFROM:+0200
TZOFFSETTO:+0100
TZNAME:CET
DTSTART:20251026T010000
END:STANDARD
BEGIN:DAYLIGHT
TZOFFSETFROM:+0100
TZOFFSETTO:+0200
TZNAME:CEST
DTSTART:20260329T010000
END:DAYLIGHT
BEGIN:STANDARD
TZOFFSETFROM:+0200
TZOFFSETTO:+0100
TZNAME:CET
DTSTART:20261025T010000
END:STANDARD
BEGIN:DAYLIGHT
TZOFFSETFROM:+0100
TZOFFSETTO:+0200
TZNAME:CEST
DTSTART:20270328T010000
END:DAYLIGHT
BEGIN:STANDARD
TZOFFSETFROM:+0200
TZOFFSETTO:+0100
TZNAME:CET
DTSTART:20271031T010000
END:STANDARD
END:VTIMEZONE
BEGIN:VEVENT
DTSTART;TZID=Europe/Berlin:20260509T163000
DTEND;TZID=Europe/Berlin:20260509T163000
DTSTAMP:20260423T135943
CREATED:20260416T133207Z
LAST-MODIFIED:20260416T133207Z
UID:57751-1778344200-1778344200@aachen-kalender.de
SUMMARY:Open-Air-Theater im Kennedypark. "Ronja Räubertochter" (ab 6 Jahren).
DESCRIPTION:„Ronja Räubertochter“\, basierend auf dem berühmten Kinderbuch der schwedischen Autorin Astrid Lindgren\, erzählt von Freiheit\, Verantwortung und Versöhnung\, von Familie\, Freundschaft und Liebe. Voller Energie und Fantasie ermutigt die Geschichte junge Zuschauende\, ihren eigenen Weg zu finden und für sich selbst einzutreten. Als musikalisches Stück zeigt „Ronja Räubertochter“\, wie man Vorurteile überwinden kann – für ein respektvolles Miteinander. \nAm 9. Mai wird der Kennedypark ab 13 Uhr zum Schauplatz eines unvergesslichen Theatertags\, ein Highlight für die ganze Familie. Das DAS DA THEATER führt drei abwechslungsreiche Stücke auf\, die zum Nachdenken anregen und dazu einladen\, in unterschiedliche Welten einzutauchen und mit den Charakteren mitzufiebern. \nAls zusätzliche Aktivitäten für Kinder gibt es Kinderschminken\, eine Hüpfburg und ein Karussell. Diese Attraktionen sind vor und zwischen den drei Theaterstücken kostenlos zugänglich. Zur Verpflegung stehen Verkaufsstände mit Essen und Getränken bereit. \n\nInformationen sind unter der E-Mail-Adresse nadelfabrik@mail.aachen.de sowie telefonisch unter der Nummer (+49) 241 432 56620 erhältlich.\n\n 
URL:https://aachen-kalender.de/event/open-air-theater-im-kennedypark-ronja-raeubertochter-ab-6-jahren/
LOCATION:Kennedypark\, Aachen\, 52068\, Deutschland
CATEGORIES:Familie
END:VEVENT
END:VCALENDAR