BEGIN:VCALENDAR
VERSION:2.0
PRODID:-//Aachen-Termine - ECPv6.15.18//NONSGML v1.0//EN
CALSCALE:GREGORIAN
METHOD:PUBLISH
X-WR-CALNAME:Aachen-Termine
X-ORIGINAL-URL:https://aachen-kalender.de
X-WR-CALDESC:Veranstaltungen für Aachen-Termine
REFRESH-INTERVAL;VALUE=DURATION:PT1H
X-Robots-Tag:noindex
X-PUBLISHED-TTL:PT1H
BEGIN:VTIMEZONE
TZID:Europe/Berlin
BEGIN:DAYLIGHT
TZOFFSETFROM:+0100
TZOFFSETTO:+0200
TZNAME:CEST
DTSTART:20240331T010000
END:DAYLIGHT
BEGIN:STANDARD
TZOFFSETFROM:+0200
TZOFFSETTO:+0100
TZNAME:CET
DTSTART:20241027T010000
END:STANDARD
BEGIN:DAYLIGHT
TZOFFSETFROM:+0100
TZOFFSETTO:+0200
TZNAME:CEST
DTSTART:20250330T010000
END:DAYLIGHT
BEGIN:STANDARD
TZOFFSETFROM:+0200
TZOFFSETTO:+0100
TZNAME:CET
DTSTART:20251026T010000
END:STANDARD
BEGIN:DAYLIGHT
TZOFFSETFROM:+0100
TZOFFSETTO:+0200
TZNAME:CEST
DTSTART:20260329T010000
END:DAYLIGHT
BEGIN:STANDARD
TZOFFSETFROM:+0200
TZOFFSETTO:+0100
TZNAME:CET
DTSTART:20261025T010000
END:STANDARD
END:VTIMEZONE
BEGIN:VEVENT
DTSTART;TZID=Europe/Berlin:20250817T210000
DTEND;TZID=Europe/Berlin:20250817T210000
DTSTAMP:20260425T142455
CREATED:20250618T084708Z
LAST-MODIFIED:20250618T084728Z
UID:26044-1755464400-1755464400@aachen-kalender.de
SUMMARY:Open-Air-Kino SCHAUBURG. "Voila Papa".
DESCRIPTION:Vom 15. bis 24. August verwandelt sich die Burg Stolberg in die Schau!Burg und damit zum sechsten Mal in das Open-Air-Kino auf dem oberen Burghof. \nTickets\, Infos und Trailer gibt es online unter: https://iframe.cineorder.apollo-aachen.de/apollo/movie/voilà-papa-der-fast-perfekte-schwiegersohn/CE610000012UYYKGJE \nOder in der Bücherstube\, Rathausstraße 1
URL:https://aachen-kalender.de/event/open-air-kino-schauburg-voila-papa/
LOCATION:Burghof Stolberg\, Faches-Thumesnil-Platz\, Stolberg\, 52222
CATEGORIES:Sonstiges
ATTACH;FMTTYPE=image/jpeg:https://aachen-kalender.de/wp-content/uploads/2025/06/684fbd344e11c-e1750236256453.jpg
END:VEVENT
END:VCALENDAR