BEGIN:VCALENDAR
VERSION:2.0
PRODID:-//Aachen-Termine - ECPv6.15.18//NONSGML v1.0//EN
CALSCALE:GREGORIAN
METHOD:PUBLISH
X-WR-CALNAME:Aachen-Termine
X-ORIGINAL-URL:https://aachen-kalender.de
X-WR-CALDESC:Veranstaltungen für Aachen-Termine
REFRESH-INTERVAL;VALUE=DURATION:PT1H
X-Robots-Tag:noindex
X-PUBLISHED-TTL:PT1H
BEGIN:VTIMEZONE
TZID:Europe/Berlin
BEGIN:DAYLIGHT
TZOFFSETFROM:+0100
TZOFFSETTO:+0200
TZNAME:CEST
DTSTART:20240331T010000
END:DAYLIGHT
BEGIN:STANDARD
TZOFFSETFROM:+0200
TZOFFSETTO:+0100
TZNAME:CET
DTSTART:20241027T010000
END:STANDARD
BEGIN:DAYLIGHT
TZOFFSETFROM:+0100
TZOFFSETTO:+0200
TZNAME:CEST
DTSTART:20250330T010000
END:DAYLIGHT
BEGIN:STANDARD
TZOFFSETFROM:+0200
TZOFFSETTO:+0100
TZNAME:CET
DTSTART:20251026T010000
END:STANDARD
BEGIN:DAYLIGHT
TZOFFSETFROM:+0100
TZOFFSETTO:+0200
TZNAME:CEST
DTSTART:20260329T010000
END:DAYLIGHT
BEGIN:STANDARD
TZOFFSETFROM:+0200
TZOFFSETTO:+0100
TZNAME:CET
DTSTART:20261025T010000
END:STANDARD
END:VTIMEZONE
BEGIN:VEVENT
DTSTART;TZID=Europe/Berlin:20250806T210000
DTEND;TZID=Europe/Berlin:20250806T210000
DTSTAMP:20260423T150837
CREATED:20250715T132527Z
LAST-MODIFIED:20250721T124055Z
UID:27432-1754514000-1754514000@aachen-kalender.de
SUMMARY:OPEN AIR KINO. "Alter weißer Mann".
DESCRIPTION:ALTER WEISSER MANN blickt mit viel Humor und Selbstironie auf die großen und heiklen gesellschaftlichen Themen unserer Zeit. \nHeinz Hellmich (Jan Josef Liefers) droht an der Arbeit der Sprung über die Klinge\, nachdem er sich eine Reihe von Fehltritten geleistet hat. Ein „alter weißer Mann“ soll er sein. Um jedoch das Gegenteil zu beweisen und seinen Job noch irgendwie zu retten\, lädt er seinen Chef und eine Handvoll weiterer Gäst*innen zu einer Dinnerparty mit seiner Familie ein. Doch wie das eben so ist\, wenn man den „perfekten“ Abend vorbereiten will: Der Zwang führt zu Anspannung\, die Anspannung zu Ärger\, der Ärger zu Streit. Deshalb wird es zwischen Heinz\, seiner Frau Carla (Nadja Uhl)\, den Kindern und sogar Opa Georg (Friedrich von Thun) schnell ungemütlich. Trotzdem klappt am Ende alles irgendwie noch und die Party kann steigen. Was jedoch stattdessen passiert: Streit. Alte Konflikte werden wieder aufgewärmt\, Vorwürfe fliegen kreuz und quer über den Tisch und nicht jede*r Gäst*in stand auf der Einladungsliste … \n\nPicknick erlaubt!\nZum Open-Air-Kino können Speisen und Getränke in angemessenem Rahmen mitgebracht werden.\n\nVeranstaltet vom APOLLO Kino Aachen
URL:https://aachen-kalender.de/event/open-air-kino-alter-weisser-mann/
LOCATION:Burg Wilhelmstein\, An Wilhelmstein\, Würselen\, 52146
CATEGORIES:Sonstiges
ATTACH;FMTTYPE=image/jpeg:https://aachen-kalender.de/wp-content/uploads/2025/07/Wilhelmstein_Kino_5Aug.jpg
END:VEVENT
END:VCALENDAR