BEGIN:VCALENDAR
VERSION:2.0
PRODID:-//Aachen-Termine - ECPv6.15.18//NONSGML v1.0//EN
CALSCALE:GREGORIAN
METHOD:PUBLISH
X-WR-CALNAME:Aachen-Termine
X-ORIGINAL-URL:https://aachen-kalender.de
X-WR-CALDESC:Veranstaltungen für Aachen-Termine
REFRESH-INTERVAL;VALUE=DURATION:PT1H
X-Robots-Tag:noindex
X-PUBLISHED-TTL:PT1H
BEGIN:VTIMEZONE
TZID:Europe/Berlin
BEGIN:DAYLIGHT
TZOFFSETFROM:+0100
TZOFFSETTO:+0200
TZNAME:CEST
DTSTART:20250330T010000
END:DAYLIGHT
BEGIN:STANDARD
TZOFFSETFROM:+0200
TZOFFSETTO:+0100
TZNAME:CET
DTSTART:20251026T010000
END:STANDARD
BEGIN:DAYLIGHT
TZOFFSETFROM:+0100
TZOFFSETTO:+0200
TZNAME:CEST
DTSTART:20260329T010000
END:DAYLIGHT
BEGIN:STANDARD
TZOFFSETFROM:+0200
TZOFFSETTO:+0100
TZNAME:CET
DTSTART:20261025T010000
END:STANDARD
BEGIN:DAYLIGHT
TZOFFSETFROM:+0100
TZOFFSETTO:+0200
TZNAME:CEST
DTSTART:20270328T010000
END:DAYLIGHT
BEGIN:STANDARD
TZOFFSETFROM:+0200
TZOFFSETTO:+0100
TZNAME:CET
DTSTART:20271031T010000
END:STANDARD
END:VTIMEZONE
BEGIN:VEVENT
DTSTART;TZID=Europe/Berlin:20260222T110000
DTEND;TZID=Europe/Berlin:20260222T110000
DTSTAMP:20260422T161713
CREATED:20260105T130647Z
LAST-MODIFIED:20260105T130843Z
UID:45564-1771758000-1771758000@aachen-kalender.de
SUMMARY:Öffentliche Führung im Zinkhütter Hof.
DESCRIPTION:Der Zinkhütter Hof bietet eine kostenlose Führung durch das Museum an. Entdecken Sie Nadel\, Zink\, Messing und Mobilität aus einer neuen Perspektive. Gemeinsam mit den Gästeführer*innen besuchen Sie alle Abteilungen\, können Fragen loswerden und Neues entdecken. \nDie Führung ist kostenlos. Lediglich der Museumseintritt ist zu entrichten.
URL:https://aachen-kalender.de/event/oeffentliche-fuehrung-im-zinkhuetter-hof-5/
LOCATION:Zinkhütter Hof\, Cockerillstraße 90\, Stolberg\, 52222\, Deutschland
CATEGORIES:Führungen
END:VEVENT
END:VCALENDAR