BEGIN:VCALENDAR
VERSION:2.0
PRODID:-//Aachen-Termine - ECPv6.15.18//NONSGML v1.0//EN
CALSCALE:GREGORIAN
METHOD:PUBLISH
X-WR-CALNAME:Aachen-Termine
X-ORIGINAL-URL:https://aachen-kalender.de
X-WR-CALDESC:Veranstaltungen für Aachen-Termine
REFRESH-INTERVAL;VALUE=DURATION:PT1H
X-Robots-Tag:noindex
X-PUBLISHED-TTL:PT1H
BEGIN:VTIMEZONE
TZID:Europe/Berlin
BEGIN:DAYLIGHT
TZOFFSETFROM:+0100
TZOFFSETTO:+0200
TZNAME:CEST
DTSTART:20250330T010000
END:DAYLIGHT
BEGIN:STANDARD
TZOFFSETFROM:+0200
TZOFFSETTO:+0100
TZNAME:CET
DTSTART:20251026T010000
END:STANDARD
BEGIN:DAYLIGHT
TZOFFSETFROM:+0100
TZOFFSETTO:+0200
TZNAME:CEST
DTSTART:20260329T010000
END:DAYLIGHT
BEGIN:STANDARD
TZOFFSETFROM:+0200
TZOFFSETTO:+0100
TZNAME:CET
DTSTART:20261025T010000
END:STANDARD
BEGIN:DAYLIGHT
TZOFFSETFROM:+0100
TZOFFSETTO:+0200
TZNAME:CEST
DTSTART:20270328T010000
END:DAYLIGHT
BEGIN:STANDARD
TZOFFSETFROM:+0200
TZOFFSETTO:+0100
TZNAME:CET
DTSTART:20271031T010000
END:STANDARD
END:VTIMEZONE
BEGIN:VEVENT
DTSTART;TZID=Europe/Berlin:20260314T160000
DTEND;TZID=Europe/Berlin:20260314T160000
DTSTAMP:20260420T160633
CREATED:20260210T081128Z
LAST-MODIFIED:20260210T081249Z
UID:49830-1773504000-1773504000@aachen-kalender.de
SUMMARY:OBF. Hanke Brothers. "Elements - Familienkonzert".
DESCRIPTION:Die HANKE BROTHERS verwandeln Musik in ein wahrhaft magisches Erlebnis. Mit Tuba\, Violine\, Bratsche\, Klavier und Blockflöte lassen sie in ihrem Kinder- und Familienkonzert „Elements“ die vier Naturelemente Feuer\, Wasser\, Luft und Erde lebendig werden – nicht nur musikalisch\, sondern auch durch spielerische\, magische Effekte\, die kleine und große Zuschauer gleichermaßen verzaubern.\nKlassik\, Pop\, Jazz und Groove verschmelzen hier zu überraschenden\, mitreißenden Klangwelten\, die neugierig machen und emotional berühren. Die vier Brüder stecken mit ihrer Spielfreude an\, zeigen brüderliche Verbundenheit und präsentieren originelle Kompositionen\, die Musik zu einem unvergesslichen Abenteuer voller Staunen\, Freude\, Humor und kreativer Überraschungen machen. \nProgramm\nElements – „Vier sind nicht zu bremsen“\nAltersempfehlung: 6-12 Jahre \n\nTickets: https://obf.be/de/component/jem/event/447-hanke26?Itemid=145
URL:https://aachen-kalender.de/event/obf-hanke-brothers-elements-familienkonzert/
LOCATION:Mozartsaal Worriken\, Worriken 9\, Büdgenbach\, 4750\, Belgium
CATEGORIES:Musik
END:VEVENT
END:VCALENDAR