BEGIN:VCALENDAR
VERSION:2.0
PRODID:-//Aachen-Termine - ECPv6.15.18//NONSGML v1.0//EN
CALSCALE:GREGORIAN
METHOD:PUBLISH
X-WR-CALNAME:Aachen-Termine
X-ORIGINAL-URL:https://aachen-kalender.de
X-WR-CALDESC:Veranstaltungen für Aachen-Termine
REFRESH-INTERVAL;VALUE=DURATION:PT1H
X-Robots-Tag:noindex
X-PUBLISHED-TTL:PT1H
BEGIN:VTIMEZONE
TZID:Europe/Berlin
BEGIN:DAYLIGHT
TZOFFSETFROM:+0100
TZOFFSETTO:+0200
TZNAME:CEST
DTSTART:20250330T010000
END:DAYLIGHT
BEGIN:STANDARD
TZOFFSETFROM:+0200
TZOFFSETTO:+0100
TZNAME:CET
DTSTART:20251026T010000
END:STANDARD
BEGIN:DAYLIGHT
TZOFFSETFROM:+0100
TZOFFSETTO:+0200
TZNAME:CEST
DTSTART:20260329T010000
END:DAYLIGHT
BEGIN:STANDARD
TZOFFSETFROM:+0200
TZOFFSETTO:+0100
TZNAME:CET
DTSTART:20261025T010000
END:STANDARD
BEGIN:DAYLIGHT
TZOFFSETFROM:+0100
TZOFFSETTO:+0200
TZNAME:CEST
DTSTART:20270328T010000
END:DAYLIGHT
BEGIN:STANDARD
TZOFFSETFROM:+0200
TZOFFSETTO:+0100
TZNAME:CET
DTSTART:20271031T010000
END:STANDARD
END:VTIMEZONE
BEGIN:VEVENT
DTSTART;TZID=Europe/Berlin:20260119T190000
DTEND;TZID=Europe/Berlin:20260119T210000
DTSTAMP:20260425T141851
CREATED:20251208T094104Z
LAST-MODIFIED:20260105T125021Z
UID:43115-1768849200-1768856400@aachen-kalender.de
SUMMARY:Oberbürgermeister Dr. Michael Ziemons. "Mehr Nähe\, mehr Austausch - Kneipensprechstunde".
DESCRIPTION:Oberbürgermeister Dr. Michael Ziemons erweitert die Angebote für den direkten Austausch mit den Bürger*innen. Ziel ist es\, den Dialog noch niedrigschwelliger\, offener und bürgernäher zu gestalten. „Darüber hinaus wird es deutlich mehr Bürgersprechstunden geben – im Rathaus\, aber auch ganz bewusst dort\, wo die Menschen sind: in Kneipen\, Gaststätten\, Stadtteilzentren und weiteren Einrichtungen vor Ort“\, erklärt der Oberbürgermeister. „Ich werde außerdem mit einer Dialogtour durch die Außenbezirke und Institutionen gehen.“ Mit diesen neuen Formaten möchte Ziemons den direkten Kontakt stärken und die Anliegen der Menschen noch besser kennenlernen. Durch die Präsenz in unterschiedlichen Stadtteilen und Begegnungsorten sollen Hemmschwellen abgebaut und mehr Gelegenheiten geschaffen werden\, unkompliziert ins Gespräch zu kommen. \nDie Sprechstunden finden grundsätzlich im Rathaus statt\, die erste beginnt am 16. Januar 2026 um 11 Uhr. Hierfür wird um Anmeldung gebeten unter: assistenz.ob@mail.aachen.de \nDie erste Kneipensprechstunde findet am 19. Januar 2026 von 19 Uhr bis 21 Uhr im KiezKini\, Promenadenstraße 46\, statt. Eine Anmeldung hierzu ist nicht erforderlich. Alle aktuellen Termine für Sprechstunden\, für die Dialogtour sowie Hinweise zu weiteren Beteiligungsformaten werden fortlaufend auf den aachen.de veröffentlicht. „Ich freue mich sehr\, wenn wir uns persönlich kennenlernen und direkt vor Ort ins Gespräch kommen“\, so der Oberbürgermeister.
URL:https://aachen-kalender.de/event/oberbuergermeister-dr-michael-ziemons-mehr-naehe-mehr-austausch-kneipensprechstunde/
LOCATION:Kiez Kini\, Promenadenstraße\, Aachen\, Deutschland
CATEGORIES:Sonstiges
ATTACH;FMTTYPE=image/jpeg:https://aachen-kalender.de/wp-content/uploads/2025/12/19Jan_Ziemons_Kneipensprechstunde.jpg
END:VEVENT
END:VCALENDAR