BEGIN:VCALENDAR
VERSION:2.0
PRODID:-//Aachen-Termine - ECPv6.15.18//NONSGML v1.0//EN
CALSCALE:GREGORIAN
METHOD:PUBLISH
X-WR-CALNAME:Aachen-Termine
X-ORIGINAL-URL:https://aachen-kalender.de
X-WR-CALDESC:Veranstaltungen für Aachen-Termine
REFRESH-INTERVAL;VALUE=DURATION:PT1H
X-Robots-Tag:noindex
X-PUBLISHED-TTL:PT1H
BEGIN:VTIMEZONE
TZID:Europe/Berlin
BEGIN:DAYLIGHT
TZOFFSETFROM:+0100
TZOFFSETTO:+0200
TZNAME:CEST
DTSTART:20250330T010000
END:DAYLIGHT
BEGIN:STANDARD
TZOFFSETFROM:+0200
TZOFFSETTO:+0100
TZNAME:CET
DTSTART:20251026T010000
END:STANDARD
BEGIN:DAYLIGHT
TZOFFSETFROM:+0100
TZOFFSETTO:+0200
TZNAME:CEST
DTSTART:20260329T010000
END:DAYLIGHT
BEGIN:STANDARD
TZOFFSETFROM:+0200
TZOFFSETTO:+0100
TZNAME:CET
DTSTART:20261025T010000
END:STANDARD
BEGIN:DAYLIGHT
TZOFFSETFROM:+0100
TZOFFSETTO:+0200
TZNAME:CEST
DTSTART:20270328T010000
END:DAYLIGHT
BEGIN:STANDARD
TZOFFSETFROM:+0200
TZOFFSETTO:+0100
TZNAME:CET
DTSTART:20271031T010000
END:STANDARD
END:VTIMEZONE
BEGIN:VEVENT
DTSTART;TZID=Europe/Berlin:20260204T193000
DTEND;TZID=Europe/Berlin:20260204T193000
DTSTAMP:20260423T135741
CREATED:20260108T143303Z
LAST-MODIFIED:20260108T143303Z
UID:46187-1770233400-1770233400@aachen-kalender.de
SUMMARY:Mörgens Extra. "Open Session. Session zum Mittanzen und Zuschauen".
DESCRIPTION:Die monatlichen Open Sessions im Mörgens\, hostet by ARTbewegt\, vereinen Tanzspaß\, freies Training und jede Menge Wissen über die Kultur hinter den Stilen. Jede Ausgabe wird von einer:m anderen Host und DJ-Sets geleitet. Die Grenzen zwischen Tänzer:innen und Publikum sind fließend und der Zugang während der Session ist jederzeit möglich.
URL:https://aachen-kalender.de/event/moergens-extra-open-session-session-zum-mittanzen-und-zuschauen-2/
LOCATION:Mörgens\, Mörgensstraße 24\, Aachen\, 52064
CATEGORIES:Sonstiges
END:VEVENT
END:VCALENDAR