BEGIN:VCALENDAR
VERSION:2.0
PRODID:-//Aachen-Termine - ECPv6.15.18//NONSGML v1.0//EN
CALSCALE:GREGORIAN
METHOD:PUBLISH
X-WR-CALNAME:Aachen-Termine
X-ORIGINAL-URL:https://aachen-kalender.de
X-WR-CALDESC:Veranstaltungen für Aachen-Termine
REFRESH-INTERVAL;VALUE=DURATION:PT1H
X-Robots-Tag:noindex
X-PUBLISHED-TTL:PT1H
BEGIN:VTIMEZONE
TZID:Europe/Berlin
BEGIN:DAYLIGHT
TZOFFSETFROM:+0100
TZOFFSETTO:+0200
TZNAME:CEST
DTSTART:20250330T010000
END:DAYLIGHT
BEGIN:STANDARD
TZOFFSETFROM:+0200
TZOFFSETTO:+0100
TZNAME:CET
DTSTART:20251026T010000
END:STANDARD
BEGIN:DAYLIGHT
TZOFFSETFROM:+0100
TZOFFSETTO:+0200
TZNAME:CEST
DTSTART:20260329T010000
END:DAYLIGHT
BEGIN:STANDARD
TZOFFSETFROM:+0200
TZOFFSETTO:+0100
TZNAME:CET
DTSTART:20261025T010000
END:STANDARD
BEGIN:DAYLIGHT
TZOFFSETFROM:+0100
TZOFFSETTO:+0200
TZNAME:CEST
DTSTART:20270328T010000
END:DAYLIGHT
BEGIN:STANDARD
TZOFFSETFROM:+0200
TZOFFSETTO:+0100
TZNAME:CET
DTSTART:20271031T010000
END:STANDARD
END:VTIMEZONE
BEGIN:VEVENT
DTSTART;TZID=Europe/Berlin:20260506T190000
DTEND;TZID=Europe/Berlin:20260506T190000
DTSTAMP:20260419T220756
CREATED:20260331T132705Z
LAST-MODIFIED:20260331T132705Z
UID:55652-1778094000-1778094000@aachen-kalender.de
SUMMARY:Marc Sagnol. "Spuren jüdischer Geschichte".
DESCRIPTION:Marc Sagnol liest aus zwei Büchern\, in denen er sich literarisch und geografisch auf die Spuren jüdischer Schriftsteller begeben hat. In „Galizien und Lodomerien“\, heute Gebiete der westlichen Ukraine\, findet er verschollene österreichische\, polnische und jüdische Kultur und Erinnerungen an zahlreiche Schriftsteller wie Georg Trakl\, Joseph Roth\, Bruno Schulz und Paul Celan. Ein Leitfaden bleibt die Vernichtung der jüdischen Bevölkerung von Galizien in der Shoah und die unwiderrufliche Zerstörung einer blühenden Kultur. In „Celan\, Weißglas. Die Wasser des Bug“ wird die Suche nach den Orten von Paul Celan fortgesetzt. \nZeitgleich ist die Ausstellung „Synagogen in Polen und in der Ukraine“ von Marc Sagnol zu sehen. Am 7. Mai wird zudem sein Film „Die Wasser des Bug“ im Apollo-Kino gezeigt. \nIn Kooperation mit dem IZM Internationales Zeitungsmuseum\, Pontstraße 13\, Aachen \n\nKosten: kostenfrei
URL:https://aachen-kalender.de/event/marc-sagnol-spuren-juedischer-geschichte/
LOCATION:Int. Zeitungsmuseum (IZM)\, Pontstraße 13\, Aachen\, 52062\, Deutschland
CATEGORIES:Lesung/Vortrag
ATTACH;FMTTYPE=image/jpeg:https://aachen-kalender.de/wp-content/uploads/2026/03/Marc-Sagnol-Paris-2021-photo-Natalia-Bogdanovska-scaled-e1774963618839.jpg
END:VEVENT
END:VCALENDAR