BEGIN:VCALENDAR
VERSION:2.0
PRODID:-//Aachen-Termine - ECPv6.15.18//NONSGML v1.0//EN
CALSCALE:GREGORIAN
METHOD:PUBLISH
X-WR-CALNAME:Aachen-Termine
X-ORIGINAL-URL:https://aachen-kalender.de
X-WR-CALDESC:Veranstaltungen für Aachen-Termine
REFRESH-INTERVAL;VALUE=DURATION:PT1H
X-Robots-Tag:noindex
X-PUBLISHED-TTL:PT1H
BEGIN:VTIMEZONE
TZID:Europe/Berlin
BEGIN:DAYLIGHT
TZOFFSETFROM:+0100
TZOFFSETTO:+0200
TZNAME:CEST
DTSTART:20250330T010000
END:DAYLIGHT
BEGIN:STANDARD
TZOFFSETFROM:+0200
TZOFFSETTO:+0100
TZNAME:CET
DTSTART:20251026T010000
END:STANDARD
BEGIN:DAYLIGHT
TZOFFSETFROM:+0100
TZOFFSETTO:+0200
TZNAME:CEST
DTSTART:20260329T010000
END:DAYLIGHT
BEGIN:STANDARD
TZOFFSETFROM:+0200
TZOFFSETTO:+0100
TZNAME:CET
DTSTART:20261025T010000
END:STANDARD
BEGIN:DAYLIGHT
TZOFFSETFROM:+0100
TZOFFSETTO:+0200
TZNAME:CEST
DTSTART:20270328T010000
END:DAYLIGHT
BEGIN:STANDARD
TZOFFSETFROM:+0200
TZOFFSETTO:+0100
TZNAME:CET
DTSTART:20271031T010000
END:STANDARD
END:VTIMEZONE
BEGIN:VEVENT
DTSTART;TZID=Europe/Berlin:20260606T190000
DTEND;TZID=Europe/Berlin:20260606T190000
DTSTAMP:20260422T061215
CREATED:20251127T133247Z
LAST-MODIFIED:20251127T133247Z
UID:10018714-1780772400-1780772400@aachen-kalender.de
SUMMARY:"Malina".
DESCRIPTION:Kaum eine Dichterin hat ihre Literatur so mit Musik\, Oper und Film verwoben\, kaum eine hellsichtiger mit dem Patriarchat abgerechnet. Zum 100. Geburtstag der österreichischen Schriftstellerin Ingeborg Bachmann entwickeln die Komponist:innen Karola Obermüller und Peter Gilbert gemeinsam mit Librettistin Tina Hartmann die erste musiktheatrale Adaption ihres Romans »Malina« und erforschen\, wie eng die poetische Rede Bachmanns mit dem Singen verwoben ist. Wir begegnen darin einer namenlosen Ich-Erzählerin\, die mit ihrem männlichen Alter-Ego Malina zusammenlebt\, während sie mit Ivan ein scheinbares Glück erlebt\, das von Anpassung und künstlerischem Verstummen geprägt ist. Von albtraumhaften Erinnerungen\ndes im Vater verkörperten Patriarchats heimgesucht\, verschwindet sie am Ende in einer Spalte in der Wand: »Es war Mord«. Aber was endet hier? Und wie lässt sich das Verstummen der\nweiblichen Stimme im Gesang überhöhen? Für das Theater Aachen komponiert\, erlebt die Oper in der Regie von Franziska Angerer ihre Uraufführung im Rahmen der renommierten Schwetzinger SWR Festspiele\, bevor die Aufführungsserie in Aachen fortgesetzt wird.
URL:https://aachen-kalender.de/event/malina/2026-06-06/
LOCATION:Theater Aachen\, Theaterplatz\, Aachen\, 52062\, Deutschland
CATEGORIES:Theater
END:VEVENT
END:VCALENDAR