BEGIN:VCALENDAR
VERSION:2.0
PRODID:-//Aachen-Termine - ECPv6.15.18//NONSGML v1.0//EN
CALSCALE:GREGORIAN
METHOD:PUBLISH
X-WR-CALNAME:Aachen-Termine
X-ORIGINAL-URL:https://aachen-kalender.de
X-WR-CALDESC:Veranstaltungen für Aachen-Termine
REFRESH-INTERVAL;VALUE=DURATION:PT1H
X-Robots-Tag:noindex
X-PUBLISHED-TTL:PT1H
BEGIN:VTIMEZONE
TZID:Europe/Berlin
BEGIN:DAYLIGHT
TZOFFSETFROM:+0100
TZOFFSETTO:+0200
TZNAME:CEST
DTSTART:20250330T010000
END:DAYLIGHT
BEGIN:STANDARD
TZOFFSETFROM:+0200
TZOFFSETTO:+0100
TZNAME:CET
DTSTART:20251026T010000
END:STANDARD
BEGIN:DAYLIGHT
TZOFFSETFROM:+0100
TZOFFSETTO:+0200
TZNAME:CEST
DTSTART:20260329T010000
END:DAYLIGHT
BEGIN:STANDARD
TZOFFSETFROM:+0200
TZOFFSETTO:+0100
TZNAME:CET
DTSTART:20261025T010000
END:STANDARD
BEGIN:DAYLIGHT
TZOFFSETFROM:+0100
TZOFFSETTO:+0200
TZNAME:CEST
DTSTART:20270328T010000
END:DAYLIGHT
BEGIN:STANDARD
TZOFFSETFROM:+0200
TZOFFSETTO:+0100
TZNAME:CET
DTSTART:20271031T010000
END:STANDARD
END:VTIMEZONE
BEGIN:VEVENT
DTSTART;TZID=Europe/Berlin:20260508T180000
DTEND;TZID=Europe/Berlin:20260508T180000
DTSTAMP:20260423T153755
CREATED:20260414T171509Z
LAST-MODIFIED:20260414T171509Z
UID:57534-1778263200-1778263200@aachen-kalender.de
SUMMARY:"Maifest der Maijungen Walheim". Auftakt.
DESCRIPTION:An zwei Tagen wird in Walheim gefeiert. Das diesjährige Maifest findet vom 8.05 bis zum 9.05.2026 statt.  \nDie Festwoche startet mit dem traditionellen Festzug zur Abholung des Königspaares. Am frühen Freitagabend um 18.00 Uhr startet der Umzug mit gut 250 Teilnehmern am Festzelt in der Prämienstraße.  \n​Gegen 20.30 Uhr wird der Festzug wieder zum Festzelt in der Prämienstraße zurückkehren. Hier folgt dann durch die Maijungen das traditionelle Aufstellen des Maibaumes. Im Rahmen dessen wird das Königspaar allen Zugteilnehmern und Zuschauern ihre Tanzkünste unter Beweis stellen.  \n​​​Am Samstag beginnt dann um 15.00 Uhr der traditionelle Familientag auf dem Festplatz in der Prämienstraße. Die Hauptattraktion wird das Walheimer Menschenkickerturnier sein. \nAm Samstagabend steigt dann ab 20.00 Uhr das Hauptevent des diesjährigen Maifestes. Erfahrungsgemäß sollten Sie sich schon im Vorfeld eine Karte im Vorverkauf sichern.  \nTickets zur Party: Eventim  oder auch bei Getränke Schreuer e.K. (Hirzenrott 11\, Oberforstbach)\, der Gaststätte „Alt Walheim“ (Albert-Einstein-Str. 59\, Walheim) oder an der Abendkasse. \n​ \n​ \n  \n  \n  \n  \n 
URL:https://aachen-kalender.de/event/maifest-der-maijungen-walheim-auftakt/
LOCATION:Festzelt Walheim\, Prämienstraße 47\, Aachen\, 52076
CATEGORIES:Sonstiges
END:VEVENT
END:VCALENDAR